BEGIN:VCALENDAR
VERSION:2.0
PRODID:-//Conexión Laboral Sureste - ECPv6.15.20//NONSGML v1.0//EN
CALSCALE:GREGORIAN
METHOD:PUBLISH
X-WR-CALNAME:Conexión Laboral Sureste
X-ORIGINAL-URL:https://conexionlaboralsurestepr.org
X-WR-CALDESC:Events for Conexión Laboral Sureste
REFRESH-INTERVAL;VALUE=DURATION:PT1H
X-Robots-Tag:noindex
X-PUBLISHED-TTL:PT1H
BEGIN:VTIMEZONE
TZID:America/Puerto_Rico
BEGIN:STANDARD
TZOFFSETFROM:-0400
TZOFFSETTO:-0400
TZNAME:AST
DTSTART:20260101T000000
END:STANDARD
END:VTIMEZONE
BEGIN:VEVENT
DTSTART;TZID=America/Puerto_Rico:20270201T080000
DTEND;TZID=America/Puerto_Rico:20270201T120000
DTSTAMP:20260419T170323
CREATED:20251103T184249Z
LAST-MODIFIED:20251204T204710Z
UID:10003358-1801468800-1801483200@conexionlaboralsurestepr.org
SUMMARY:Visita Socio | Título I | Administración de Rehabilitación Vocacional
DESCRIPTION:Programa de Adiestramiento y Empleo Rehabilitación Vocacional
URL:https://conexionlaboralsurestepr.org/event/vista-socio-titulo-i-administracion-de-rehabilitacion-vocacional/2027-02-01/
CATEGORIES:Socios
END:VEVENT
BEGIN:VEVENT
DTSTART;TZID=America/Puerto_Rico:20270201T080000
DTEND;TZID=America/Puerto_Rico:20270201T163000
DTSTAMP:20260419T170323
CREATED:20251031T153427Z
LAST-MODIFIED:20251031T173748Z
UID:10000328-1801468800-1801499400@conexionlaboralsurestepr.org
SUMMARY:Visita Socio | Título I - B
DESCRIPTION:Programa Jóvenes\, Adultos y Desplazados
URL:https://conexionlaboralsurestepr.org/event/visita-socios-titulo-i-b/2027-02-01/
CATEGORIES:Socios
END:VEVENT
BEGIN:VEVENT
DTSTART;TZID=America/Puerto_Rico:20270201T080000
DTEND;TZID=America/Puerto_Rico:20270201T163000
DTSTAMP:20260419T170323
CREATED:20251031T173045Z
LAST-MODIFIED:20251204T204704Z
UID:10002154-1801468800-1801499400@conexionlaboralsurestepr.org
SUMMARY:Visita Socio | Departamento del Trabajo y Recursos Humanos (DTRH)
DESCRIPTION:Programa Veteranos (Capítulo 41 Título 38 del Código de EU)\nServicio de Empleo\, Programa Agrícola y Programa RESEA\nPrograma Seguro por Desempleo
URL:https://conexionlaboralsurestepr.org/event/vista-socio-departamento-del-trabajo-y-recursos-humanos-dtrh/2027-02-01/
CATEGORIES:Socios
END:VEVENT
BEGIN:VEVENT
DTSTART;TZID=America/Puerto_Rico:20270201T080000
DTEND;TZID=America/Puerto_Rico:20270201T163000
DTSTAMP:20260419T170324
CREATED:20251103T185220Z
LAST-MODIFIED:20251204T204656Z
UID:10004511-1801468800-1801499400@conexionlaboralsurestepr.org
SUMMARY:Visita Socio | One Stop Careers Center of PR
DESCRIPTION:Programa de Reintegración de Ex-Ofensores bajo Second Change Act
URL:https://conexionlaboralsurestepr.org/event/vista-socio-one-stop-careers-center-of-pr/2027-02-01/
CATEGORIES:Socios
END:VEVENT
BEGIN:VEVENT
DTSTART;TZID=America/Puerto_Rico:20270202T080000
DTEND;TZID=America/Puerto_Rico:20270202T120000
DTSTAMP:20260419T170324
CREATED:20251103T184454Z
LAST-MODIFIED:20251204T204641Z
UID:10003420-1801555200-1801569600@conexionlaboralsurestepr.org
SUMMARY:Visita Socio | PathStone Corporation (Rural)
DESCRIPTION:Programa para Trabajadores Agrícolas Migrantes y Estacionales.\nPrograma Youth Build
URL:https://conexionlaboralsurestepr.org/event/vista-socio-pathstone-corporation-rural/2027-02-02/
CATEGORIES:Socios
END:VEVENT
BEGIN:VEVENT
DTSTART;TZID=America/Puerto_Rico:20270202T080000
DTEND;TZID=America/Puerto_Rico:20270202T120000
DTSTAMP:20260419T170324
CREATED:20251103T184621Z
LAST-MODIFIED:20251204T204632Z
UID:10003482-1801555200-1801569600@conexionlaboralsurestepr.org
SUMMARY:Visita Socio | Título V - Old American Act
DESCRIPTION:Senior Community Services Employment Programs
URL:https://conexionlaboralsurestepr.org/event/vista-socio-titulo-v-old-american-act/2027-02-02/
CATEGORIES:Socios
END:VEVENT
BEGIN:VEVENT
DTSTART;TZID=America/Puerto_Rico:20270202T080000
DTEND;TZID=America/Puerto_Rico:20270202T163000
DTSTAMP:20260419T170324
CREATED:20251031T153427Z
LAST-MODIFIED:20251031T173748Z
UID:10000329-1801555200-1801585800@conexionlaboralsurestepr.org
SUMMARY:Visita Socio | Título I - B
DESCRIPTION:Programa Jóvenes\, Adultos y Desplazados
URL:https://conexionlaboralsurestepr.org/event/visita-socios-titulo-i-b/2027-02-02/
CATEGORIES:Socios
END:VEVENT
BEGIN:VEVENT
DTSTART;TZID=America/Puerto_Rico:20270202T080000
DTEND;TZID=America/Puerto_Rico:20270202T163000
DTSTAMP:20260419T170324
CREATED:20251031T173045Z
LAST-MODIFIED:20251204T204704Z
UID:10002155-1801555200-1801585800@conexionlaboralsurestepr.org
SUMMARY:Visita Socio | Departamento del Trabajo y Recursos Humanos (DTRH)
DESCRIPTION:Programa Veteranos (Capítulo 41 Título 38 del Código de EU)\nServicio de Empleo\, Programa Agrícola y Programa RESEA\nPrograma Seguro por Desempleo
URL:https://conexionlaboralsurestepr.org/event/vista-socio-departamento-del-trabajo-y-recursos-humanos-dtrh/2027-02-02/
CATEGORIES:Socios
END:VEVENT
BEGIN:VEVENT
DTSTART;TZID=America/Puerto_Rico:20270202T080000
DTEND;TZID=America/Puerto_Rico:20270202T163000
DTSTAMP:20260419T170324
CREATED:20251103T185220Z
LAST-MODIFIED:20251204T204656Z
UID:10004512-1801555200-1801585800@conexionlaboralsurestepr.org
SUMMARY:Visita Socio | One Stop Careers Center of PR
DESCRIPTION:Programa de Reintegración de Ex-Ofensores bajo Second Change Act
URL:https://conexionlaboralsurestepr.org/event/vista-socio-one-stop-careers-center-of-pr/2027-02-02/
CATEGORIES:Socios
END:VEVENT
BEGIN:VEVENT
DTSTART;TZID=America/Puerto_Rico:20270203T080000
DTEND;TZID=America/Puerto_Rico:20270203T120000
DTSTAMP:20260419T170324
CREATED:20251103T185047Z
LAST-MODIFIED:20251204T204622Z
UID:10003871-1801641600-1801656000@conexionlaboralsurestepr.org
SUMMARY:Visita Socio | Título IV - "Social Security Act" Departamento de la Familia
DESCRIPTION:Programa TANF (Temporary Assistance for Needy Families)
URL:https://conexionlaboralsurestepr.org/event/vista-socio-titulo-iv-social-security-act-departamento-de-la-familia/2027-02-03/
CATEGORIES:Socios
END:VEVENT
BEGIN:VEVENT
DTSTART;TZID=America/Puerto_Rico:20270203T080000
DTEND;TZID=America/Puerto_Rico:20270203T163000
DTSTAMP:20260419T170324
CREATED:20251031T153427Z
LAST-MODIFIED:20251031T173748Z
UID:10000330-1801641600-1801672200@conexionlaboralsurestepr.org
SUMMARY:Visita Socio | Título I - B
DESCRIPTION:Programa Jóvenes\, Adultos y Desplazados
URL:https://conexionlaboralsurestepr.org/event/visita-socios-titulo-i-b/2027-02-03/
CATEGORIES:Socios
END:VEVENT
BEGIN:VEVENT
DTSTART;TZID=America/Puerto_Rico:20270203T080000
DTEND;TZID=America/Puerto_Rico:20270203T163000
DTSTAMP:20260419T170324
CREATED:20251031T173045Z
LAST-MODIFIED:20251204T204704Z
UID:10002156-1801641600-1801672200@conexionlaboralsurestepr.org
SUMMARY:Visita Socio | Departamento del Trabajo y Recursos Humanos (DTRH)
DESCRIPTION:Programa Veteranos (Capítulo 41 Título 38 del Código de EU)\nServicio de Empleo\, Programa Agrícola y Programa RESEA\nPrograma Seguro por Desempleo
URL:https://conexionlaboralsurestepr.org/event/vista-socio-departamento-del-trabajo-y-recursos-humanos-dtrh/2027-02-03/
CATEGORIES:Socios
END:VEVENT
BEGIN:VEVENT
DTSTART;TZID=America/Puerto_Rico:20270203T080000
DTEND;TZID=America/Puerto_Rico:20270203T163000
DTSTAMP:20260419T170324
CREATED:20251103T185220Z
LAST-MODIFIED:20251204T204656Z
UID:10004513-1801641600-1801672200@conexionlaboralsurestepr.org
SUMMARY:Visita Socio | One Stop Careers Center of PR
DESCRIPTION:Programa de Reintegración de Ex-Ofensores bajo Second Change Act
URL:https://conexionlaboralsurestepr.org/event/vista-socio-one-stop-careers-center-of-pr/2027-02-03/
CATEGORIES:Socios
END:VEVENT
BEGIN:VEVENT
DTSTART;TZID=America/Puerto_Rico:20270204T080000
DTEND;TZID=America/Puerto_Rico:20270204T163000
DTSTAMP:20260419T170324
CREATED:20251031T153427Z
LAST-MODIFIED:20251031T173748Z
UID:10000331-1801728000-1801758600@conexionlaboralsurestepr.org
SUMMARY:Visita Socio | Título I - B
DESCRIPTION:Programa Jóvenes\, Adultos y Desplazados
URL:https://conexionlaboralsurestepr.org/event/visita-socios-titulo-i-b/2027-02-04/
CATEGORIES:Socios
END:VEVENT
BEGIN:VEVENT
DTSTART;TZID=America/Puerto_Rico:20270204T080000
DTEND;TZID=America/Puerto_Rico:20270204T163000
DTSTAMP:20260419T170324
CREATED:20251031T173045Z
LAST-MODIFIED:20251204T204704Z
UID:10002157-1801728000-1801758600@conexionlaboralsurestepr.org
SUMMARY:Visita Socio | Departamento del Trabajo y Recursos Humanos (DTRH)
DESCRIPTION:Programa Veteranos (Capítulo 41 Título 38 del Código de EU)\nServicio de Empleo\, Programa Agrícola y Programa RESEA\nPrograma Seguro por Desempleo
URL:https://conexionlaboralsurestepr.org/event/vista-socio-departamento-del-trabajo-y-recursos-humanos-dtrh/2027-02-04/
CATEGORIES:Socios
END:VEVENT
BEGIN:VEVENT
DTSTART;TZID=America/Puerto_Rico:20270204T080000
DTEND;TZID=America/Puerto_Rico:20270204T163000
DTSTAMP:20260419T170324
CREATED:20251103T184914Z
LAST-MODIFIED:20251204T204647Z
UID:10003601-1801728000-1801758600@conexionlaboralsurestepr.org
SUMMARY:Visita Socio | Título II - Departamento de Educación
DESCRIPTION:Programa de Educación y Literacia de Adultos
URL:https://conexionlaboralsurestepr.org/event/vista-socio-titulo-ii-departamento-de-educacion/2027-02-04/
CATEGORIES:Socios
END:VEVENT
BEGIN:VEVENT
DTSTART;TZID=America/Puerto_Rico:20270204T080000
DTEND;TZID=America/Puerto_Rico:20270204T163000
DTSTAMP:20260419T170324
CREATED:20251103T185220Z
LAST-MODIFIED:20251204T204656Z
UID:10004514-1801728000-1801758600@conexionlaboralsurestepr.org
SUMMARY:Visita Socio | One Stop Careers Center of PR
DESCRIPTION:Programa de Reintegración de Ex-Ofensores bajo Second Change Act
URL:https://conexionlaboralsurestepr.org/event/vista-socio-one-stop-careers-center-of-pr/2027-02-04/
CATEGORIES:Socios
END:VEVENT
BEGIN:VEVENT
DTSTART;TZID=America/Puerto_Rico:20270205T080000
DTEND;TZID=America/Puerto_Rico:20270205T163000
DTSTAMP:20260419T170324
CREATED:20251031T153427Z
LAST-MODIFIED:20251031T173748Z
UID:10001453-1801814400-1801845000@conexionlaboralsurestepr.org
SUMMARY:Visita Socio | Título I - B
DESCRIPTION:Programa Jóvenes\, Adultos y Desplazados
URL:https://conexionlaboralsurestepr.org/event/visita-socios-titulo-i-b/2027-02-05/
CATEGORIES:Socios
END:VEVENT
BEGIN:VEVENT
DTSTART;TZID=America/Puerto_Rico:20270205T080000
DTEND;TZID=America/Puerto_Rico:20270205T163000
DTSTAMP:20260419T170324
CREATED:20251031T173045Z
LAST-MODIFIED:20251204T204704Z
UID:10002158-1801814400-1801845000@conexionlaboralsurestepr.org
SUMMARY:Visita Socio | Departamento del Trabajo y Recursos Humanos (DTRH)
DESCRIPTION:Programa Veteranos (Capítulo 41 Título 38 del Código de EU)\nServicio de Empleo\, Programa Agrícola y Programa RESEA\nPrograma Seguro por Desempleo
URL:https://conexionlaboralsurestepr.org/event/vista-socio-departamento-del-trabajo-y-recursos-humanos-dtrh/2027-02-05/
CATEGORIES:Socios
END:VEVENT
BEGIN:VEVENT
DTSTART;TZID=America/Puerto_Rico:20270205T080000
DTEND;TZID=America/Puerto_Rico:20270205T163000
DTSTAMP:20260419T170324
CREATED:20251103T185220Z
LAST-MODIFIED:20251204T204656Z
UID:10004515-1801814400-1801845000@conexionlaboralsurestepr.org
SUMMARY:Visita Socio | One Stop Careers Center of PR
DESCRIPTION:Programa de Reintegración de Ex-Ofensores bajo Second Change Act
URL:https://conexionlaboralsurestepr.org/event/vista-socio-one-stop-careers-center-of-pr/2027-02-05/
CATEGORIES:Socios
END:VEVENT
BEGIN:VEVENT
DTSTART;TZID=America/Puerto_Rico:20270207T080000
DTEND;TZID=America/Puerto_Rico:20270207T163000
DTSTAMP:20260419T170324
CREATED:20251103T185220Z
LAST-MODIFIED:20251204T204656Z
UID:10004516-1801987200-1802017800@conexionlaboralsurestepr.org
SUMMARY:Visita Socio | One Stop Careers Center of PR
DESCRIPTION:Programa de Reintegración de Ex-Ofensores bajo Second Change Act
URL:https://conexionlaboralsurestepr.org/event/vista-socio-one-stop-careers-center-of-pr/2027-02-07/
CATEGORIES:Socios
END:VEVENT
BEGIN:VEVENT
DTSTART;TZID=America/Puerto_Rico:20270208T080000
DTEND;TZID=America/Puerto_Rico:20270208T163000
DTSTAMP:20260419T170324
CREATED:20251031T153427Z
LAST-MODIFIED:20251031T173748Z
UID:10000333-1802073600-1802104200@conexionlaboralsurestepr.org
SUMMARY:Visita Socio | Título I - B
DESCRIPTION:Programa Jóvenes\, Adultos y Desplazados
URL:https://conexionlaboralsurestepr.org/event/visita-socios-titulo-i-b/2027-02-08/
CATEGORIES:Socios
END:VEVENT
BEGIN:VEVENT
DTSTART;TZID=America/Puerto_Rico:20270208T080000
DTEND;TZID=America/Puerto_Rico:20270208T163000
DTSTAMP:20260419T170324
CREATED:20251031T173045Z
LAST-MODIFIED:20251204T204704Z
UID:10002159-1802073600-1802104200@conexionlaboralsurestepr.org
SUMMARY:Visita Socio | Departamento del Trabajo y Recursos Humanos (DTRH)
DESCRIPTION:Programa Veteranos (Capítulo 41 Título 38 del Código de EU)\nServicio de Empleo\, Programa Agrícola y Programa RESEA\nPrograma Seguro por Desempleo
URL:https://conexionlaboralsurestepr.org/event/vista-socio-departamento-del-trabajo-y-recursos-humanos-dtrh/2027-02-08/
CATEGORIES:Socios
END:VEVENT
BEGIN:VEVENT
DTSTART;TZID=America/Puerto_Rico:20270208T080000
DTEND;TZID=America/Puerto_Rico:20270208T163000
DTSTAMP:20260419T170324
CREATED:20251103T185220Z
LAST-MODIFIED:20251204T204656Z
UID:10004517-1802073600-1802104200@conexionlaboralsurestepr.org
SUMMARY:Visita Socio | One Stop Careers Center of PR
DESCRIPTION:Programa de Reintegración de Ex-Ofensores bajo Second Change Act
URL:https://conexionlaboralsurestepr.org/event/vista-socio-one-stop-careers-center-of-pr/2027-02-08/
CATEGORIES:Socios
END:VEVENT
BEGIN:VEVENT
DTSTART;TZID=America/Puerto_Rico:20270209T080000
DTEND;TZID=America/Puerto_Rico:20270209T163000
DTSTAMP:20260419T170324
CREATED:20251031T153427Z
LAST-MODIFIED:20251031T173748Z
UID:10000334-1802160000-1802190600@conexionlaboralsurestepr.org
SUMMARY:Visita Socio | Título I - B
DESCRIPTION:Programa Jóvenes\, Adultos y Desplazados
URL:https://conexionlaboralsurestepr.org/event/visita-socios-titulo-i-b/2027-02-09/
CATEGORIES:Socios
END:VEVENT
BEGIN:VEVENT
DTSTART;TZID=America/Puerto_Rico:20270209T080000
DTEND;TZID=America/Puerto_Rico:20270209T163000
DTSTAMP:20260419T170324
CREATED:20251031T173045Z
LAST-MODIFIED:20251204T204704Z
UID:10002160-1802160000-1802190600@conexionlaboralsurestepr.org
SUMMARY:Visita Socio | Departamento del Trabajo y Recursos Humanos (DTRH)
DESCRIPTION:Programa Veteranos (Capítulo 41 Título 38 del Código de EU)\nServicio de Empleo\, Programa Agrícola y Programa RESEA\nPrograma Seguro por Desempleo
URL:https://conexionlaboralsurestepr.org/event/vista-socio-departamento-del-trabajo-y-recursos-humanos-dtrh/2027-02-09/
CATEGORIES:Socios
END:VEVENT
BEGIN:VEVENT
DTSTART;TZID=America/Puerto_Rico:20270209T080000
DTEND;TZID=America/Puerto_Rico:20270209T163000
DTSTAMP:20260419T170324
CREATED:20251103T185220Z
LAST-MODIFIED:20251204T204656Z
UID:10004518-1802160000-1802190600@conexionlaboralsurestepr.org
SUMMARY:Visita Socio | One Stop Careers Center of PR
DESCRIPTION:Programa de Reintegración de Ex-Ofensores bajo Second Change Act
URL:https://conexionlaboralsurestepr.org/event/vista-socio-one-stop-careers-center-of-pr/2027-02-09/
CATEGORIES:Socios
END:VEVENT
BEGIN:VEVENT
DTSTART;TZID=America/Puerto_Rico:20270210T080000
DTEND;TZID=America/Puerto_Rico:20270210T120000
DTSTAMP:20260419T170324
CREATED:20251103T185047Z
LAST-MODIFIED:20251204T204622Z
UID:10003872-1802246400-1802260800@conexionlaboralsurestepr.org
SUMMARY:Visita Socio | Título IV - "Social Security Act" Departamento de la Familia
DESCRIPTION:Programa TANF (Temporary Assistance for Needy Families)
URL:https://conexionlaboralsurestepr.org/event/vista-socio-titulo-iv-social-security-act-departamento-de-la-familia/2027-02-10/
CATEGORIES:Socios
END:VEVENT
BEGIN:VEVENT
DTSTART;TZID=America/Puerto_Rico:20270210T080000
DTEND;TZID=America/Puerto_Rico:20270210T163000
DTSTAMP:20260419T170324
CREATED:20251031T153427Z
LAST-MODIFIED:20251031T173748Z
UID:10000335-1802246400-1802277000@conexionlaboralsurestepr.org
SUMMARY:Visita Socio | Título I - B
DESCRIPTION:Programa Jóvenes\, Adultos y Desplazados
URL:https://conexionlaboralsurestepr.org/event/visita-socios-titulo-i-b/2027-02-10/
CATEGORIES:Socios
END:VEVENT
BEGIN:VEVENT
DTSTART;TZID=America/Puerto_Rico:20270210T080000
DTEND;TZID=America/Puerto_Rico:20270210T163000
DTSTAMP:20260419T170324
CREATED:20251031T173045Z
LAST-MODIFIED:20251204T204704Z
UID:10002161-1802246400-1802277000@conexionlaboralsurestepr.org
SUMMARY:Visita Socio | Departamento del Trabajo y Recursos Humanos (DTRH)
DESCRIPTION:Programa Veteranos (Capítulo 41 Título 38 del Código de EU)\nServicio de Empleo\, Programa Agrícola y Programa RESEA\nPrograma Seguro por Desempleo
URL:https://conexionlaboralsurestepr.org/event/vista-socio-departamento-del-trabajo-y-recursos-humanos-dtrh/2027-02-10/
CATEGORIES:Socios
END:VEVENT
END:VCALENDAR