BEGIN:VCALENDAR
VERSION:2.0
PRODID:-//Conexión Laboral Sureste - ECPv6.15.20//NONSGML v1.0//EN
CALSCALE:GREGORIAN
METHOD:PUBLISH
X-ORIGINAL-URL:https://conexionlaboralsurestepr.org
X-WR-CALDESC:Events for Conexión Laboral Sureste
REFRESH-INTERVAL;VALUE=DURATION:PT1H
X-Robots-Tag:noindex
X-PUBLISHED-TTL:PT1H
BEGIN:VTIMEZONE
TZID:America/Puerto_Rico
BEGIN:STANDARD
TZOFFSETFROM:-0400
TZOFFSETTO:-0400
TZNAME:AST
DTSTART:20260101T000000
END:STANDARD
END:VTIMEZONE
BEGIN:VEVENT
DTSTART;TZID=America/Puerto_Rico:20271201T080000
DTEND;TZID=America/Puerto_Rico:20271201T120000
DTSTAMP:20260420T084944
CREATED:20251103T185047Z
LAST-MODIFIED:20251204T204622Z
UID:10003914-1827648000-1827662400@conexionlaboralsurestepr.org
SUMMARY:Visita Socio | Título IV - "Social Security Act" Departamento de la Familia
DESCRIPTION:Programa TANF (Temporary Assistance for Needy Families)
URL:https://conexionlaboralsurestepr.org/event/vista-socio-titulo-iv-social-security-act-departamento-de-la-familia/2027-12-01/
CATEGORIES:Socios
END:VEVENT
BEGIN:VEVENT
DTSTART;TZID=America/Puerto_Rico:20271201T080000
DTEND;TZID=America/Puerto_Rico:20271201T163000
DTSTAMP:20260420T084944
CREATED:20251031T173045Z
LAST-MODIFIED:20251204T204704Z
UID:10002371-1827648000-1827678600@conexionlaboralsurestepr.org
SUMMARY:Visita Socio | Departamento del Trabajo y Recursos Humanos (DTRH)
DESCRIPTION:Programa Veteranos (Capítulo 41 Título 38 del Código de EU)\nServicio de Empleo\, Programa Agrícola y Programa RESEA\nPrograma Seguro por Desempleo
URL:https://conexionlaboralsurestepr.org/event/vista-socio-departamento-del-trabajo-y-recursos-humanos-dtrh/2027-12-01/
CATEGORIES:Socios
END:VEVENT
BEGIN:VEVENT
DTSTART;TZID=America/Puerto_Rico:20271201T080000
DTEND;TZID=America/Puerto_Rico:20271201T163000
DTSTAMP:20260420T084944
CREATED:20251103T185220Z
LAST-MODIFIED:20251204T204656Z
UID:10004771-1827648000-1827678600@conexionlaboralsurestepr.org
SUMMARY:Visita Socio | One Stop Careers Center of PR
DESCRIPTION:Programa de Reintegración de Ex-Ofensores bajo Second Change Act
URL:https://conexionlaboralsurestepr.org/event/vista-socio-one-stop-careers-center-of-pr/2027-12-01/
CATEGORIES:Socios
END:VEVENT
BEGIN:VEVENT
DTSTART;TZID=America/Puerto_Rico:20271202T080000
DTEND;TZID=America/Puerto_Rico:20271202T163000
DTSTAMP:20260420T084944
CREATED:20251031T173045Z
LAST-MODIFIED:20251204T204704Z
UID:10002372-1827734400-1827765000@conexionlaboralsurestepr.org
SUMMARY:Visita Socio | Departamento del Trabajo y Recursos Humanos (DTRH)
DESCRIPTION:Programa Veteranos (Capítulo 41 Título 38 del Código de EU)\nServicio de Empleo\, Programa Agrícola y Programa RESEA\nPrograma Seguro por Desempleo
URL:https://conexionlaboralsurestepr.org/event/vista-socio-departamento-del-trabajo-y-recursos-humanos-dtrh/2027-12-02/
CATEGORIES:Socios
END:VEVENT
BEGIN:VEVENT
DTSTART;TZID=America/Puerto_Rico:20271202T080000
DTEND;TZID=America/Puerto_Rico:20271202T163000
DTSTAMP:20260420T084944
CREATED:20251103T184914Z
LAST-MODIFIED:20251204T204647Z
UID:10003644-1827734400-1827765000@conexionlaboralsurestepr.org
SUMMARY:Visita Socio | Título II - Departamento de Educación
DESCRIPTION:Programa de Educación y Literacia de Adultos
URL:https://conexionlaboralsurestepr.org/event/vista-socio-titulo-ii-departamento-de-educacion/2027-12-02/
CATEGORIES:Socios
END:VEVENT
BEGIN:VEVENT
DTSTART;TZID=America/Puerto_Rico:20271202T080000
DTEND;TZID=America/Puerto_Rico:20271202T163000
DTSTAMP:20260420T084944
CREATED:20251103T185220Z
LAST-MODIFIED:20251204T204656Z
UID:10004772-1827734400-1827765000@conexionlaboralsurestepr.org
SUMMARY:Visita Socio | One Stop Careers Center of PR
DESCRIPTION:Programa de Reintegración de Ex-Ofensores bajo Second Change Act
URL:https://conexionlaboralsurestepr.org/event/vista-socio-one-stop-careers-center-of-pr/2027-12-02/
CATEGORIES:Socios
END:VEVENT
BEGIN:VEVENT
DTSTART;TZID=America/Puerto_Rico:20271203T080000
DTEND;TZID=America/Puerto_Rico:20271203T163000
DTSTAMP:20260420T084944
CREATED:20251031T153427Z
LAST-MODIFIED:20251031T173748Z
UID:10001496-1827820800-1827851400@conexionlaboralsurestepr.org
SUMMARY:Visita Socio | Título I - B
DESCRIPTION:Programa Jóvenes\, Adultos y Desplazados
URL:https://conexionlaboralsurestepr.org/event/visita-socios-titulo-i-b/2027-12-03/
CATEGORIES:Socios
END:VEVENT
BEGIN:VEVENT
DTSTART;TZID=America/Puerto_Rico:20271203T080000
DTEND;TZID=America/Puerto_Rico:20271203T163000
DTSTAMP:20260420T084944
CREATED:20251031T173045Z
LAST-MODIFIED:20251204T204704Z
UID:10002373-1827820800-1827851400@conexionlaboralsurestepr.org
SUMMARY:Visita Socio | Departamento del Trabajo y Recursos Humanos (DTRH)
DESCRIPTION:Programa Veteranos (Capítulo 41 Título 38 del Código de EU)\nServicio de Empleo\, Programa Agrícola y Programa RESEA\nPrograma Seguro por Desempleo
URL:https://conexionlaboralsurestepr.org/event/vista-socio-departamento-del-trabajo-y-recursos-humanos-dtrh/2027-12-03/
CATEGORIES:Socios
END:VEVENT
BEGIN:VEVENT
DTSTART;TZID=America/Puerto_Rico:20271203T080000
DTEND;TZID=America/Puerto_Rico:20271203T163000
DTSTAMP:20260420T084944
CREATED:20251103T185220Z
LAST-MODIFIED:20251204T204656Z
UID:10004773-1827820800-1827851400@conexionlaboralsurestepr.org
SUMMARY:Visita Socio | One Stop Careers Center of PR
DESCRIPTION:Programa de Reintegración de Ex-Ofensores bajo Second Change Act
URL:https://conexionlaboralsurestepr.org/event/vista-socio-one-stop-careers-center-of-pr/2027-12-03/
CATEGORIES:Socios
END:VEVENT
BEGIN:VEVENT
DTSTART;TZID=America/Puerto_Rico:20271205T080000
DTEND;TZID=America/Puerto_Rico:20271205T163000
DTSTAMP:20260420T084944
CREATED:20251103T185220Z
LAST-MODIFIED:20251204T204656Z
UID:10004774-1827993600-1828024200@conexionlaboralsurestepr.org
SUMMARY:Visita Socio | One Stop Careers Center of PR
DESCRIPTION:Programa de Reintegración de Ex-Ofensores bajo Second Change Act
URL:https://conexionlaboralsurestepr.org/event/vista-socio-one-stop-careers-center-of-pr/2027-12-05/
CATEGORIES:Socios
END:VEVENT
BEGIN:VEVENT
DTSTART;TZID=America/Puerto_Rico:20271206T080000
DTEND;TZID=America/Puerto_Rico:20271206T120000
DTSTAMP:20260420T084944
CREATED:20251103T184249Z
LAST-MODIFIED:20251204T204710Z
UID:10003368-1828080000-1828094400@conexionlaboralsurestepr.org
SUMMARY:Visita Socio | Título I | Administración de Rehabilitación Vocacional
DESCRIPTION:Programa de Adiestramiento y Empleo Rehabilitación Vocacional
URL:https://conexionlaboralsurestepr.org/event/vista-socio-titulo-i-administracion-de-rehabilitacion-vocacional/2027-12-06/
CATEGORIES:Socios
END:VEVENT
BEGIN:VEVENT
DTSTART;TZID=America/Puerto_Rico:20271206T080000
DTEND;TZID=America/Puerto_Rico:20271206T163000
DTSTAMP:20260420T084944
CREATED:20251031T173045Z
LAST-MODIFIED:20251204T204704Z
UID:10002374-1828080000-1828110600@conexionlaboralsurestepr.org
SUMMARY:Visita Socio | Departamento del Trabajo y Recursos Humanos (DTRH)
DESCRIPTION:Programa Veteranos (Capítulo 41 Título 38 del Código de EU)\nServicio de Empleo\, Programa Agrícola y Programa RESEA\nPrograma Seguro por Desempleo
URL:https://conexionlaboralsurestepr.org/event/vista-socio-departamento-del-trabajo-y-recursos-humanos-dtrh/2027-12-06/
CATEGORIES:Socios
END:VEVENT
BEGIN:VEVENT
DTSTART;TZID=America/Puerto_Rico:20271206T080000
DTEND;TZID=America/Puerto_Rico:20271206T163000
DTSTAMP:20260420T084944
CREATED:20251103T185220Z
LAST-MODIFIED:20251204T204656Z
UID:10004775-1828080000-1828110600@conexionlaboralsurestepr.org
SUMMARY:Visita Socio | One Stop Careers Center of PR
DESCRIPTION:Programa de Reintegración de Ex-Ofensores bajo Second Change Act
URL:https://conexionlaboralsurestepr.org/event/vista-socio-one-stop-careers-center-of-pr/2027-12-06/
CATEGORIES:Socios
END:VEVENT
BEGIN:VEVENT
DTSTART;TZID=America/Puerto_Rico:20271207T080000
DTEND;TZID=America/Puerto_Rico:20271207T120000
DTSTAMP:20260420T084944
CREATED:20251103T184454Z
LAST-MODIFIED:20251204T204641Z
UID:10003430-1828166400-1828180800@conexionlaboralsurestepr.org
SUMMARY:Visita Socio | PathStone Corporation (Rural)
DESCRIPTION:Programa para Trabajadores Agrícolas Migrantes y Estacionales.\nPrograma Youth Build
URL:https://conexionlaboralsurestepr.org/event/vista-socio-pathstone-corporation-rural/2027-12-07/
CATEGORIES:Socios
END:VEVENT
BEGIN:VEVENT
DTSTART;TZID=America/Puerto_Rico:20271207T080000
DTEND;TZID=America/Puerto_Rico:20271207T120000
DTSTAMP:20260420T084944
CREATED:20251103T184621Z
LAST-MODIFIED:20251204T204632Z
UID:10003492-1828166400-1828180800@conexionlaboralsurestepr.org
SUMMARY:Visita Socio | Título V - Old American Act
DESCRIPTION:Senior Community Services Employment Programs
URL:https://conexionlaboralsurestepr.org/event/vista-socio-titulo-v-old-american-act/2027-12-07/
CATEGORIES:Socios
END:VEVENT
BEGIN:VEVENT
DTSTART;TZID=America/Puerto_Rico:20271207T080000
DTEND;TZID=America/Puerto_Rico:20271207T163000
DTSTAMP:20260420T084944
CREATED:20251031T173045Z
LAST-MODIFIED:20251204T204704Z
UID:10002375-1828166400-1828197000@conexionlaboralsurestepr.org
SUMMARY:Visita Socio | Departamento del Trabajo y Recursos Humanos (DTRH)
DESCRIPTION:Programa Veteranos (Capítulo 41 Título 38 del Código de EU)\nServicio de Empleo\, Programa Agrícola y Programa RESEA\nPrograma Seguro por Desempleo
URL:https://conexionlaboralsurestepr.org/event/vista-socio-departamento-del-trabajo-y-recursos-humanos-dtrh/2027-12-07/
CATEGORIES:Socios
END:VEVENT
BEGIN:VEVENT
DTSTART;TZID=America/Puerto_Rico:20271207T080000
DTEND;TZID=America/Puerto_Rico:20271207T163000
DTSTAMP:20260420T084944
CREATED:20251103T185220Z
LAST-MODIFIED:20251204T204656Z
UID:10004776-1828166400-1828197000@conexionlaboralsurestepr.org
SUMMARY:Visita Socio | One Stop Careers Center of PR
DESCRIPTION:Programa de Reintegración de Ex-Ofensores bajo Second Change Act
URL:https://conexionlaboralsurestepr.org/event/vista-socio-one-stop-careers-center-of-pr/2027-12-07/
CATEGORIES:Socios
END:VEVENT
BEGIN:VEVENT
DTSTART;TZID=America/Puerto_Rico:20271208T080000
DTEND;TZID=America/Puerto_Rico:20271208T120000
DTSTAMP:20260420T084944
CREATED:20251103T185047Z
LAST-MODIFIED:20251204T204622Z
UID:10003915-1828252800-1828267200@conexionlaboralsurestepr.org
SUMMARY:Visita Socio | Título IV - "Social Security Act" Departamento de la Familia
DESCRIPTION:Programa TANF (Temporary Assistance for Needy Families)
URL:https://conexionlaboralsurestepr.org/event/vista-socio-titulo-iv-social-security-act-departamento-de-la-familia/2027-12-08/
CATEGORIES:Socios
END:VEVENT
BEGIN:VEVENT
DTSTART;TZID=America/Puerto_Rico:20271208T080000
DTEND;TZID=America/Puerto_Rico:20271208T163000
DTSTAMP:20260420T084944
CREATED:20251031T173045Z
LAST-MODIFIED:20251204T204704Z
UID:10002376-1828252800-1828283400@conexionlaboralsurestepr.org
SUMMARY:Visita Socio | Departamento del Trabajo y Recursos Humanos (DTRH)
DESCRIPTION:Programa Veteranos (Capítulo 41 Título 38 del Código de EU)\nServicio de Empleo\, Programa Agrícola y Programa RESEA\nPrograma Seguro por Desempleo
URL:https://conexionlaboralsurestepr.org/event/vista-socio-departamento-del-trabajo-y-recursos-humanos-dtrh/2027-12-08/
CATEGORIES:Socios
END:VEVENT
BEGIN:VEVENT
DTSTART;TZID=America/Puerto_Rico:20271208T080000
DTEND;TZID=America/Puerto_Rico:20271208T163000
DTSTAMP:20260420T084944
CREATED:20251103T185220Z
LAST-MODIFIED:20251204T204656Z
UID:10004777-1828252800-1828283400@conexionlaboralsurestepr.org
SUMMARY:Visita Socio | One Stop Careers Center of PR
DESCRIPTION:Programa de Reintegración de Ex-Ofensores bajo Second Change Act
URL:https://conexionlaboralsurestepr.org/event/vista-socio-one-stop-careers-center-of-pr/2027-12-08/
CATEGORIES:Socios
END:VEVENT
BEGIN:VEVENT
DTSTART;TZID=America/Puerto_Rico:20271209T080000
DTEND;TZID=America/Puerto_Rico:20271209T163000
DTSTAMP:20260420T084944
CREATED:20251031T173045Z
LAST-MODIFIED:20251204T204704Z
UID:10002377-1828339200-1828369800@conexionlaboralsurestepr.org
SUMMARY:Visita Socio | Departamento del Trabajo y Recursos Humanos (DTRH)
DESCRIPTION:Programa Veteranos (Capítulo 41 Título 38 del Código de EU)\nServicio de Empleo\, Programa Agrícola y Programa RESEA\nPrograma Seguro por Desempleo
URL:https://conexionlaboralsurestepr.org/event/vista-socio-departamento-del-trabajo-y-recursos-humanos-dtrh/2027-12-09/
CATEGORIES:Socios
END:VEVENT
BEGIN:VEVENT
DTSTART;TZID=America/Puerto_Rico:20271209T080000
DTEND;TZID=America/Puerto_Rico:20271209T163000
DTSTAMP:20260420T084944
CREATED:20251103T184914Z
LAST-MODIFIED:20251204T204647Z
UID:10003645-1828339200-1828369800@conexionlaboralsurestepr.org
SUMMARY:Visita Socio | Título II - Departamento de Educación
DESCRIPTION:Programa de Educación y Literacia de Adultos
URL:https://conexionlaboralsurestepr.org/event/vista-socio-titulo-ii-departamento-de-educacion/2027-12-09/
CATEGORIES:Socios
END:VEVENT
BEGIN:VEVENT
DTSTART;TZID=America/Puerto_Rico:20271209T080000
DTEND;TZID=America/Puerto_Rico:20271209T163000
DTSTAMP:20260420T084944
CREATED:20251103T185220Z
LAST-MODIFIED:20251204T204656Z
UID:10004778-1828339200-1828369800@conexionlaboralsurestepr.org
SUMMARY:Visita Socio | One Stop Careers Center of PR
DESCRIPTION:Programa de Reintegración de Ex-Ofensores bajo Second Change Act
URL:https://conexionlaboralsurestepr.org/event/vista-socio-one-stop-careers-center-of-pr/2027-12-09/
CATEGORIES:Socios
END:VEVENT
BEGIN:VEVENT
DTSTART;TZID=America/Puerto_Rico:20271210T080000
DTEND;TZID=America/Puerto_Rico:20271210T163000
DTSTAMP:20260420T084944
CREATED:20251031T153427Z
LAST-MODIFIED:20251031T173748Z
UID:10001497-1828425600-1828456200@conexionlaboralsurestepr.org
SUMMARY:Visita Socio | Título I - B
DESCRIPTION:Programa Jóvenes\, Adultos y Desplazados
URL:https://conexionlaboralsurestepr.org/event/visita-socios-titulo-i-b/2027-12-10/
CATEGORIES:Socios
END:VEVENT
BEGIN:VEVENT
DTSTART;TZID=America/Puerto_Rico:20271210T080000
DTEND;TZID=America/Puerto_Rico:20271210T163000
DTSTAMP:20260420T084944
CREATED:20251031T173045Z
LAST-MODIFIED:20251204T204704Z
UID:10002378-1828425600-1828456200@conexionlaboralsurestepr.org
SUMMARY:Visita Socio | Departamento del Trabajo y Recursos Humanos (DTRH)
DESCRIPTION:Programa Veteranos (Capítulo 41 Título 38 del Código de EU)\nServicio de Empleo\, Programa Agrícola y Programa RESEA\nPrograma Seguro por Desempleo
URL:https://conexionlaboralsurestepr.org/event/vista-socio-departamento-del-trabajo-y-recursos-humanos-dtrh/2027-12-10/
CATEGORIES:Socios
END:VEVENT
BEGIN:VEVENT
DTSTART;TZID=America/Puerto_Rico:20271210T080000
DTEND;TZID=America/Puerto_Rico:20271210T163000
DTSTAMP:20260420T084944
CREATED:20251103T185220Z
LAST-MODIFIED:20251204T204656Z
UID:10004779-1828425600-1828456200@conexionlaboralsurestepr.org
SUMMARY:Visita Socio | One Stop Careers Center of PR
DESCRIPTION:Programa de Reintegración de Ex-Ofensores bajo Second Change Act
URL:https://conexionlaboralsurestepr.org/event/vista-socio-one-stop-careers-center-of-pr/2027-12-10/
CATEGORIES:Socios
END:VEVENT
BEGIN:VEVENT
DTSTART;TZID=America/Puerto_Rico:20271212T080000
DTEND;TZID=America/Puerto_Rico:20271212T163000
DTSTAMP:20260420T084944
CREATED:20251103T185220Z
LAST-MODIFIED:20251204T204656Z
UID:10004780-1828598400-1828629000@conexionlaboralsurestepr.org
SUMMARY:Visita Socio | One Stop Careers Center of PR
DESCRIPTION:Programa de Reintegración de Ex-Ofensores bajo Second Change Act
URL:https://conexionlaboralsurestepr.org/event/vista-socio-one-stop-careers-center-of-pr/2027-12-12/
CATEGORIES:Socios
END:VEVENT
BEGIN:VEVENT
DTSTART;TZID=America/Puerto_Rico:20271213T080000
DTEND;TZID=America/Puerto_Rico:20271213T163000
DTSTAMP:20260420T084944
CREATED:20251031T173045Z
LAST-MODIFIED:20251204T204704Z
UID:10002379-1828684800-1828715400@conexionlaboralsurestepr.org
SUMMARY:Visita Socio | Departamento del Trabajo y Recursos Humanos (DTRH)
DESCRIPTION:Programa Veteranos (Capítulo 41 Título 38 del Código de EU)\nServicio de Empleo\, Programa Agrícola y Programa RESEA\nPrograma Seguro por Desempleo
URL:https://conexionlaboralsurestepr.org/event/vista-socio-departamento-del-trabajo-y-recursos-humanos-dtrh/2027-12-13/
CATEGORIES:Socios
END:VEVENT
BEGIN:VEVENT
DTSTART;TZID=America/Puerto_Rico:20271213T080000
DTEND;TZID=America/Puerto_Rico:20271213T163000
DTSTAMP:20260420T084944
CREATED:20251103T185220Z
LAST-MODIFIED:20251204T204656Z
UID:10004781-1828684800-1828715400@conexionlaboralsurestepr.org
SUMMARY:Visita Socio | One Stop Careers Center of PR
DESCRIPTION:Programa de Reintegración de Ex-Ofensores bajo Second Change Act
URL:https://conexionlaboralsurestepr.org/event/vista-socio-one-stop-careers-center-of-pr/2027-12-13/
CATEGORIES:Socios
END:VEVENT
BEGIN:VEVENT
DTSTART;TZID=America/Puerto_Rico:20271214T080000
DTEND;TZID=America/Puerto_Rico:20271214T163000
DTSTAMP:20260420T084944
CREATED:20251031T173045Z
LAST-MODIFIED:20251204T204704Z
UID:10002380-1828771200-1828801800@conexionlaboralsurestepr.org
SUMMARY:Visita Socio | Departamento del Trabajo y Recursos Humanos (DTRH)
DESCRIPTION:Programa Veteranos (Capítulo 41 Título 38 del Código de EU)\nServicio de Empleo\, Programa Agrícola y Programa RESEA\nPrograma Seguro por Desempleo
URL:https://conexionlaboralsurestepr.org/event/vista-socio-departamento-del-trabajo-y-recursos-humanos-dtrh/2027-12-14/
CATEGORIES:Socios
END:VEVENT
END:VCALENDAR