BEGIN:VCALENDAR
VERSION:2.0
PRODID:-//Conexión Laboral Sureste - ECPv6.15.20//NONSGML v1.0//EN
CALSCALE:GREGORIAN
METHOD:PUBLISH
X-WR-CALNAME:Conexión Laboral Sureste
X-ORIGINAL-URL:https://conexionlaboralsurestepr.org
X-WR-CALDESC:Events for Conexión Laboral Sureste
REFRESH-INTERVAL;VALUE=DURATION:PT1H
X-Robots-Tag:noindex
X-PUBLISHED-TTL:PT1H
BEGIN:VTIMEZONE
TZID:America/Puerto_Rico
BEGIN:STANDARD
TZOFFSETFROM:-0400
TZOFFSETTO:-0400
TZNAME:AST
DTSTART:20270101T000000
END:STANDARD
END:VTIMEZONE
BEGIN:VEVENT
DTSTART;TZID=America/Puerto_Rico:20280301T080000
DTEND;TZID=America/Puerto_Rico:20280301T120000
DTSTAMP:20260420T130349
CREATED:20251103T185047Z
LAST-MODIFIED:20251204T204622Z
UID:10003927-1835510400-1835524800@conexionlaboralsurestepr.org
SUMMARY:Visita Socio | Título IV - "Social Security Act" Departamento de la Familia
DESCRIPTION:Programa TANF (Temporary Assistance for Needy Families)
URL:https://conexionlaboralsurestepr.org/event/vista-socio-titulo-iv-social-security-act-departamento-de-la-familia/2028-03-01/
CATEGORIES:Socios
END:VEVENT
BEGIN:VEVENT
DTSTART;TZID=America/Puerto_Rico:20280301T080000
DTEND;TZID=America/Puerto_Rico:20280301T163000
DTSTAMP:20260420T130349
CREATED:20251031T153427Z
LAST-MODIFIED:20251031T173748Z
UID:10000610-1835510400-1835541000@conexionlaboralsurestepr.org
SUMMARY:Visita Socio | Título I - B
DESCRIPTION:Programa Jóvenes\, Adultos y Desplazados
URL:https://conexionlaboralsurestepr.org/event/visita-socios-titulo-i-b/2028-03-01/
CATEGORIES:Socios
END:VEVENT
BEGIN:VEVENT
DTSTART;TZID=America/Puerto_Rico:20280301T080000
DTEND;TZID=America/Puerto_Rico:20280301T163000
DTSTAMP:20260420T130349
CREATED:20251031T173045Z
LAST-MODIFIED:20251204T204704Z
UID:10002436-1835510400-1835541000@conexionlaboralsurestepr.org
SUMMARY:Visita Socio | Departamento del Trabajo y Recursos Humanos (DTRH)
DESCRIPTION:Programa Veteranos (Capítulo 41 Título 38 del Código de EU)\nServicio de Empleo\, Programa Agrícola y Programa RESEA\nPrograma Seguro por Desempleo
URL:https://conexionlaboralsurestepr.org/event/vista-socio-departamento-del-trabajo-y-recursos-humanos-dtrh/2028-03-01/
CATEGORIES:Socios
END:VEVENT
BEGIN:VEVENT
DTSTART;TZID=America/Puerto_Rico:20280301T080000
DTEND;TZID=America/Puerto_Rico:20280301T163000
DTSTAMP:20260420T130349
CREATED:20251103T185220Z
LAST-MODIFIED:20251204T204656Z
UID:10004849-1835510400-1835541000@conexionlaboralsurestepr.org
SUMMARY:Visita Socio | One Stop Careers Center of PR
DESCRIPTION:Programa de Reintegración de Ex-Ofensores bajo Second Change Act
URL:https://conexionlaboralsurestepr.org/event/vista-socio-one-stop-careers-center-of-pr/2028-03-01/
CATEGORIES:Socios
END:VEVENT
BEGIN:VEVENT
DTSTART;TZID=America/Puerto_Rico:20280302T080000
DTEND;TZID=America/Puerto_Rico:20280302T163000
DTSTAMP:20260420T130349
CREATED:20251031T153427Z
LAST-MODIFIED:20251031T173748Z
UID:10000611-1835596800-1835627400@conexionlaboralsurestepr.org
SUMMARY:Visita Socio | Título I - B
DESCRIPTION:Programa Jóvenes\, Adultos y Desplazados
URL:https://conexionlaboralsurestepr.org/event/visita-socios-titulo-i-b/2028-03-02/
CATEGORIES:Socios
END:VEVENT
BEGIN:VEVENT
DTSTART;TZID=America/Puerto_Rico:20280302T080000
DTEND;TZID=America/Puerto_Rico:20280302T163000
DTSTAMP:20260420T130349
CREATED:20251031T173045Z
LAST-MODIFIED:20251204T204704Z
UID:10002437-1835596800-1835627400@conexionlaboralsurestepr.org
SUMMARY:Visita Socio | Departamento del Trabajo y Recursos Humanos (DTRH)
DESCRIPTION:Programa Veteranos (Capítulo 41 Título 38 del Código de EU)\nServicio de Empleo\, Programa Agrícola y Programa RESEA\nPrograma Seguro por Desempleo
URL:https://conexionlaboralsurestepr.org/event/vista-socio-departamento-del-trabajo-y-recursos-humanos-dtrh/2028-03-02/
CATEGORIES:Socios
END:VEVENT
BEGIN:VEVENT
DTSTART;TZID=America/Puerto_Rico:20280302T080000
DTEND;TZID=America/Puerto_Rico:20280302T163000
DTSTAMP:20260420T130349
CREATED:20251103T184914Z
LAST-MODIFIED:20251204T204647Z
UID:10003657-1835596800-1835627400@conexionlaboralsurestepr.org
SUMMARY:Visita Socio | Título II - Departamento de Educación
DESCRIPTION:Programa de Educación y Literacia de Adultos
URL:https://conexionlaboralsurestepr.org/event/vista-socio-titulo-ii-departamento-de-educacion/2028-03-02/
CATEGORIES:Socios
END:VEVENT
BEGIN:VEVENT
DTSTART;TZID=America/Puerto_Rico:20280302T080000
DTEND;TZID=America/Puerto_Rico:20280302T163000
DTSTAMP:20260420T130349
CREATED:20251103T185220Z
LAST-MODIFIED:20251204T204656Z
UID:10004850-1835596800-1835627400@conexionlaboralsurestepr.org
SUMMARY:Visita Socio | One Stop Careers Center of PR
DESCRIPTION:Programa de Reintegración de Ex-Ofensores bajo Second Change Act
URL:https://conexionlaboralsurestepr.org/event/vista-socio-one-stop-careers-center-of-pr/2028-03-02/
CATEGORIES:Socios
END:VEVENT
BEGIN:VEVENT
DTSTART;TZID=America/Puerto_Rico:20280303T080000
DTEND;TZID=America/Puerto_Rico:20280303T163000
DTSTAMP:20260420T130349
CREATED:20251031T153427Z
LAST-MODIFIED:20251031T173748Z
UID:10001509-1835683200-1835713800@conexionlaboralsurestepr.org
SUMMARY:Visita Socio | Título I - B
DESCRIPTION:Programa Jóvenes\, Adultos y Desplazados
URL:https://conexionlaboralsurestepr.org/event/visita-socios-titulo-i-b/2028-03-03/
CATEGORIES:Socios
END:VEVENT
BEGIN:VEVENT
DTSTART;TZID=America/Puerto_Rico:20280303T080000
DTEND;TZID=America/Puerto_Rico:20280303T163000
DTSTAMP:20260420T130349
CREATED:20251031T173045Z
LAST-MODIFIED:20251204T204704Z
UID:10002438-1835683200-1835713800@conexionlaboralsurestepr.org
SUMMARY:Visita Socio | Departamento del Trabajo y Recursos Humanos (DTRH)
DESCRIPTION:Programa Veteranos (Capítulo 41 Título 38 del Código de EU)\nServicio de Empleo\, Programa Agrícola y Programa RESEA\nPrograma Seguro por Desempleo
URL:https://conexionlaboralsurestepr.org/event/vista-socio-departamento-del-trabajo-y-recursos-humanos-dtrh/2028-03-03/
CATEGORIES:Socios
END:VEVENT
BEGIN:VEVENT
DTSTART;TZID=America/Puerto_Rico:20280303T080000
DTEND;TZID=America/Puerto_Rico:20280303T163000
DTSTAMP:20260420T130349
CREATED:20251103T185220Z
LAST-MODIFIED:20251204T204656Z
UID:10004851-1835683200-1835713800@conexionlaboralsurestepr.org
SUMMARY:Visita Socio | One Stop Careers Center of PR
DESCRIPTION:Programa de Reintegración de Ex-Ofensores bajo Second Change Act
URL:https://conexionlaboralsurestepr.org/event/vista-socio-one-stop-careers-center-of-pr/2028-03-03/
CATEGORIES:Socios
END:VEVENT
BEGIN:VEVENT
DTSTART;TZID=America/Puerto_Rico:20280305T080000
DTEND;TZID=America/Puerto_Rico:20280305T163000
DTSTAMP:20260420T130349
CREATED:20251103T185220Z
LAST-MODIFIED:20251204T204656Z
UID:10004852-1835856000-1835886600@conexionlaboralsurestepr.org
SUMMARY:Visita Socio | One Stop Careers Center of PR
DESCRIPTION:Programa de Reintegración de Ex-Ofensores bajo Second Change Act
URL:https://conexionlaboralsurestepr.org/event/vista-socio-one-stop-careers-center-of-pr/2028-03-05/
CATEGORIES:Socios
END:VEVENT
BEGIN:VEVENT
DTSTART;TZID=America/Puerto_Rico:20280306T080000
DTEND;TZID=America/Puerto_Rico:20280306T120000
DTSTAMP:20260420T130349
CREATED:20251103T184249Z
LAST-MODIFIED:20251204T204710Z
UID:10003371-1835942400-1835956800@conexionlaboralsurestepr.org
SUMMARY:Visita Socio | Título I | Administración de Rehabilitación Vocacional
DESCRIPTION:Programa de Adiestramiento y Empleo Rehabilitación Vocacional
URL:https://conexionlaboralsurestepr.org/event/vista-socio-titulo-i-administracion-de-rehabilitacion-vocacional/2028-03-06/
CATEGORIES:Socios
END:VEVENT
BEGIN:VEVENT
DTSTART;TZID=America/Puerto_Rico:20280306T080000
DTEND;TZID=America/Puerto_Rico:20280306T163000
DTSTAMP:20260420T130349
CREATED:20251031T153427Z
LAST-MODIFIED:20251031T173748Z
UID:10000613-1835942400-1835973000@conexionlaboralsurestepr.org
SUMMARY:Visita Socio | Título I - B
DESCRIPTION:Programa Jóvenes\, Adultos y Desplazados
URL:https://conexionlaboralsurestepr.org/event/visita-socios-titulo-i-b/2028-03-06/
CATEGORIES:Socios
END:VEVENT
BEGIN:VEVENT
DTSTART;TZID=America/Puerto_Rico:20280306T080000
DTEND;TZID=America/Puerto_Rico:20280306T163000
DTSTAMP:20260420T130349
CREATED:20251031T173045Z
LAST-MODIFIED:20251204T204704Z
UID:10002439-1835942400-1835973000@conexionlaboralsurestepr.org
SUMMARY:Visita Socio | Departamento del Trabajo y Recursos Humanos (DTRH)
DESCRIPTION:Programa Veteranos (Capítulo 41 Título 38 del Código de EU)\nServicio de Empleo\, Programa Agrícola y Programa RESEA\nPrograma Seguro por Desempleo
URL:https://conexionlaboralsurestepr.org/event/vista-socio-departamento-del-trabajo-y-recursos-humanos-dtrh/2028-03-06/
CATEGORIES:Socios
END:VEVENT
BEGIN:VEVENT
DTSTART;TZID=America/Puerto_Rico:20280306T080000
DTEND;TZID=America/Puerto_Rico:20280306T163000
DTSTAMP:20260420T130349
CREATED:20251103T185220Z
LAST-MODIFIED:20251204T204656Z
UID:10004853-1835942400-1835973000@conexionlaboralsurestepr.org
SUMMARY:Visita Socio | One Stop Careers Center of PR
DESCRIPTION:Programa de Reintegración de Ex-Ofensores bajo Second Change Act
URL:https://conexionlaboralsurestepr.org/event/vista-socio-one-stop-careers-center-of-pr/2028-03-06/
CATEGORIES:Socios
END:VEVENT
BEGIN:VEVENT
DTSTART;TZID=America/Puerto_Rico:20280307T080000
DTEND;TZID=America/Puerto_Rico:20280307T120000
DTSTAMP:20260420T130349
CREATED:20251103T184454Z
LAST-MODIFIED:20251204T204641Z
UID:10003433-1836028800-1836043200@conexionlaboralsurestepr.org
SUMMARY:Visita Socio | PathStone Corporation (Rural)
DESCRIPTION:Programa para Trabajadores Agrícolas Migrantes y Estacionales.\nPrograma Youth Build
URL:https://conexionlaboralsurestepr.org/event/vista-socio-pathstone-corporation-rural/2028-03-07/
CATEGORIES:Socios
END:VEVENT
BEGIN:VEVENT
DTSTART;TZID=America/Puerto_Rico:20280307T080000
DTEND;TZID=America/Puerto_Rico:20280307T120000
DTSTAMP:20260420T130349
CREATED:20251103T184621Z
LAST-MODIFIED:20251204T204632Z
UID:10003495-1836028800-1836043200@conexionlaboralsurestepr.org
SUMMARY:Visita Socio | Título V - Old American Act
DESCRIPTION:Senior Community Services Employment Programs
URL:https://conexionlaboralsurestepr.org/event/vista-socio-titulo-v-old-american-act/2028-03-07/
CATEGORIES:Socios
END:VEVENT
BEGIN:VEVENT
DTSTART;TZID=America/Puerto_Rico:20280307T080000
DTEND;TZID=America/Puerto_Rico:20280307T163000
DTSTAMP:20260420T130349
CREATED:20251031T153427Z
LAST-MODIFIED:20251031T173748Z
UID:10000614-1836028800-1836059400@conexionlaboralsurestepr.org
SUMMARY:Visita Socio | Título I - B
DESCRIPTION:Programa Jóvenes\, Adultos y Desplazados
URL:https://conexionlaboralsurestepr.org/event/visita-socios-titulo-i-b/2028-03-07/
CATEGORIES:Socios
END:VEVENT
BEGIN:VEVENT
DTSTART;TZID=America/Puerto_Rico:20280307T080000
DTEND;TZID=America/Puerto_Rico:20280307T163000
DTSTAMP:20260420T130349
CREATED:20251031T173045Z
LAST-MODIFIED:20251204T204704Z
UID:10002440-1836028800-1836059400@conexionlaboralsurestepr.org
SUMMARY:Visita Socio | Departamento del Trabajo y Recursos Humanos (DTRH)
DESCRIPTION:Programa Veteranos (Capítulo 41 Título 38 del Código de EU)\nServicio de Empleo\, Programa Agrícola y Programa RESEA\nPrograma Seguro por Desempleo
URL:https://conexionlaboralsurestepr.org/event/vista-socio-departamento-del-trabajo-y-recursos-humanos-dtrh/2028-03-07/
CATEGORIES:Socios
END:VEVENT
BEGIN:VEVENT
DTSTART;TZID=America/Puerto_Rico:20280307T080000
DTEND;TZID=America/Puerto_Rico:20280307T163000
DTSTAMP:20260420T130349
CREATED:20251103T185220Z
LAST-MODIFIED:20251204T204656Z
UID:10004854-1836028800-1836059400@conexionlaboralsurestepr.org
SUMMARY:Visita Socio | One Stop Careers Center of PR
DESCRIPTION:Programa de Reintegración de Ex-Ofensores bajo Second Change Act
URL:https://conexionlaboralsurestepr.org/event/vista-socio-one-stop-careers-center-of-pr/2028-03-07/
CATEGORIES:Socios
END:VEVENT
BEGIN:VEVENT
DTSTART;TZID=America/Puerto_Rico:20280308T080000
DTEND;TZID=America/Puerto_Rico:20280308T120000
DTSTAMP:20260420T130349
CREATED:20251103T185047Z
LAST-MODIFIED:20251204T204622Z
UID:10003928-1836115200-1836129600@conexionlaboralsurestepr.org
SUMMARY:Visita Socio | Título IV - "Social Security Act" Departamento de la Familia
DESCRIPTION:Programa TANF (Temporary Assistance for Needy Families)
URL:https://conexionlaboralsurestepr.org/event/vista-socio-titulo-iv-social-security-act-departamento-de-la-familia/2028-03-08/
CATEGORIES:Socios
END:VEVENT
BEGIN:VEVENT
DTSTART;TZID=America/Puerto_Rico:20280308T080000
DTEND;TZID=America/Puerto_Rico:20280308T163000
DTSTAMP:20260420T130349
CREATED:20251031T153427Z
LAST-MODIFIED:20251031T173748Z
UID:10000615-1836115200-1836145800@conexionlaboralsurestepr.org
SUMMARY:Visita Socio | Título I - B
DESCRIPTION:Programa Jóvenes\, Adultos y Desplazados
URL:https://conexionlaboralsurestepr.org/event/visita-socios-titulo-i-b/2028-03-08/
CATEGORIES:Socios
END:VEVENT
BEGIN:VEVENT
DTSTART;TZID=America/Puerto_Rico:20280308T080000
DTEND;TZID=America/Puerto_Rico:20280308T163000
DTSTAMP:20260420T130349
CREATED:20251031T173045Z
LAST-MODIFIED:20251204T204704Z
UID:10002441-1836115200-1836145800@conexionlaboralsurestepr.org
SUMMARY:Visita Socio | Departamento del Trabajo y Recursos Humanos (DTRH)
DESCRIPTION:Programa Veteranos (Capítulo 41 Título 38 del Código de EU)\nServicio de Empleo\, Programa Agrícola y Programa RESEA\nPrograma Seguro por Desempleo
URL:https://conexionlaboralsurestepr.org/event/vista-socio-departamento-del-trabajo-y-recursos-humanos-dtrh/2028-03-08/
CATEGORIES:Socios
END:VEVENT
BEGIN:VEVENT
DTSTART;TZID=America/Puerto_Rico:20280308T080000
DTEND;TZID=America/Puerto_Rico:20280308T163000
DTSTAMP:20260420T130349
CREATED:20251103T185220Z
LAST-MODIFIED:20251204T204656Z
UID:10004855-1836115200-1836145800@conexionlaboralsurestepr.org
SUMMARY:Visita Socio | One Stop Careers Center of PR
DESCRIPTION:Programa de Reintegración de Ex-Ofensores bajo Second Change Act
URL:https://conexionlaboralsurestepr.org/event/vista-socio-one-stop-careers-center-of-pr/2028-03-08/
CATEGORIES:Socios
END:VEVENT
BEGIN:VEVENT
DTSTART;TZID=America/Puerto_Rico:20280309T080000
DTEND;TZID=America/Puerto_Rico:20280309T163000
DTSTAMP:20260420T130349
CREATED:20251031T153427Z
LAST-MODIFIED:20251031T173748Z
UID:10000616-1836201600-1836232200@conexionlaboralsurestepr.org
SUMMARY:Visita Socio | Título I - B
DESCRIPTION:Programa Jóvenes\, Adultos y Desplazados
URL:https://conexionlaboralsurestepr.org/event/visita-socios-titulo-i-b/2028-03-09/
CATEGORIES:Socios
END:VEVENT
BEGIN:VEVENT
DTSTART;TZID=America/Puerto_Rico:20280309T080000
DTEND;TZID=America/Puerto_Rico:20280309T163000
DTSTAMP:20260420T130349
CREATED:20251031T173045Z
LAST-MODIFIED:20251204T204704Z
UID:10002442-1836201600-1836232200@conexionlaboralsurestepr.org
SUMMARY:Visita Socio | Departamento del Trabajo y Recursos Humanos (DTRH)
DESCRIPTION:Programa Veteranos (Capítulo 41 Título 38 del Código de EU)\nServicio de Empleo\, Programa Agrícola y Programa RESEA\nPrograma Seguro por Desempleo
URL:https://conexionlaboralsurestepr.org/event/vista-socio-departamento-del-trabajo-y-recursos-humanos-dtrh/2028-03-09/
CATEGORIES:Socios
END:VEVENT
BEGIN:VEVENT
DTSTART;TZID=America/Puerto_Rico:20280309T080000
DTEND;TZID=America/Puerto_Rico:20280309T163000
DTSTAMP:20260420T130349
CREATED:20251103T184914Z
LAST-MODIFIED:20251204T204647Z
UID:10003658-1836201600-1836232200@conexionlaboralsurestepr.org
SUMMARY:Visita Socio | Título II - Departamento de Educación
DESCRIPTION:Programa de Educación y Literacia de Adultos
URL:https://conexionlaboralsurestepr.org/event/vista-socio-titulo-ii-departamento-de-educacion/2028-03-09/
CATEGORIES:Socios
END:VEVENT
BEGIN:VEVENT
DTSTART;TZID=America/Puerto_Rico:20280309T080000
DTEND;TZID=America/Puerto_Rico:20280309T163000
DTSTAMP:20260420T130349
CREATED:20251103T185220Z
LAST-MODIFIED:20251204T204656Z
UID:10004856-1836201600-1836232200@conexionlaboralsurestepr.org
SUMMARY:Visita Socio | One Stop Careers Center of PR
DESCRIPTION:Programa de Reintegración de Ex-Ofensores bajo Second Change Act
URL:https://conexionlaboralsurestepr.org/event/vista-socio-one-stop-careers-center-of-pr/2028-03-09/
CATEGORIES:Socios
END:VEVENT
BEGIN:VEVENT
DTSTART;TZID=America/Puerto_Rico:20280310T080000
DTEND;TZID=America/Puerto_Rico:20280310T163000
DTSTAMP:20260420T130349
CREATED:20251031T153427Z
LAST-MODIFIED:20251031T173748Z
UID:10001510-1836288000-1836318600@conexionlaboralsurestepr.org
SUMMARY:Visita Socio | Título I - B
DESCRIPTION:Programa Jóvenes\, Adultos y Desplazados
URL:https://conexionlaboralsurestepr.org/event/visita-socios-titulo-i-b/2028-03-10/
CATEGORIES:Socios
END:VEVENT
END:VCALENDAR