BEGIN:VCALENDAR
VERSION:2.0
PRODID:-//Conexión Laboral Sureste - ECPv6.15.20//NONSGML v1.0//EN
CALSCALE:GREGORIAN
METHOD:PUBLISH
X-WR-CALNAME:Conexión Laboral Sureste
X-ORIGINAL-URL:https://conexionlaboralsurestepr.org
X-WR-CALDESC:Events for Conexión Laboral Sureste
REFRESH-INTERVAL;VALUE=DURATION:PT1H
X-Robots-Tag:noindex
X-PUBLISHED-TTL:PT1H
BEGIN:VTIMEZONE
TZID:America/Puerto_Rico
BEGIN:STANDARD
TZOFFSETFROM:-0400
TZOFFSETTO:-0400
TZNAME:AST
DTSTART:20270101T000000
END:STANDARD
END:VTIMEZONE
BEGIN:VEVENT
DTSTART;TZID=America/Puerto_Rico:20280501T080000
DTEND;TZID=America/Puerto_Rico:20280501T120000
DTSTAMP:20260420T190105
CREATED:20251103T184249Z
LAST-MODIFIED:20251204T204710Z
UID:10003373-1840780800-1840795200@conexionlaboralsurestepr.org
SUMMARY:Visita Socio | Título I | Administración de Rehabilitación Vocacional
DESCRIPTION:Programa de Adiestramiento y Empleo Rehabilitación Vocacional
URL:https://conexionlaboralsurestepr.org/event/vista-socio-titulo-i-administracion-de-rehabilitacion-vocacional/2028-05-01/
CATEGORIES:Socios
END:VEVENT
BEGIN:VEVENT
DTSTART;TZID=America/Puerto_Rico:20280501T080000
DTEND;TZID=America/Puerto_Rico:20280501T163000
DTSTAMP:20260420T190105
CREATED:20251031T153427Z
LAST-MODIFIED:20251031T173748Z
UID:10000653-1840780800-1840811400@conexionlaboralsurestepr.org
SUMMARY:Visita Socio | Título I - B
DESCRIPTION:Programa Jóvenes\, Adultos y Desplazados
URL:https://conexionlaboralsurestepr.org/event/visita-socios-titulo-i-b/2028-05-01/
CATEGORIES:Socios
END:VEVENT
BEGIN:VEVENT
DTSTART;TZID=America/Puerto_Rico:20280501T080000
DTEND;TZID=America/Puerto_Rico:20280501T163000
DTSTAMP:20260420T190105
CREATED:20251031T173045Z
LAST-MODIFIED:20251204T204704Z
UID:10002479-1840780800-1840811400@conexionlaboralsurestepr.org
SUMMARY:Visita Socio | Departamento del Trabajo y Recursos Humanos (DTRH)
DESCRIPTION:Programa Veteranos (Capítulo 41 Título 38 del Código de EU)\nServicio de Empleo\, Programa Agrícola y Programa RESEA\nPrograma Seguro por Desempleo
URL:https://conexionlaboralsurestepr.org/event/vista-socio-departamento-del-trabajo-y-recursos-humanos-dtrh/2028-05-01/
CATEGORIES:Socios
END:VEVENT
BEGIN:VEVENT
DTSTART;TZID=America/Puerto_Rico:20280501T080000
DTEND;TZID=America/Puerto_Rico:20280501T163000
DTSTAMP:20260420T190105
CREATED:20251103T185220Z
LAST-MODIFIED:20251204T204656Z
UID:10004901-1840780800-1840811400@conexionlaboralsurestepr.org
SUMMARY:Visita Socio | One Stop Careers Center of PR
DESCRIPTION:Programa de Reintegración de Ex-Ofensores bajo Second Change Act
URL:https://conexionlaboralsurestepr.org/event/vista-socio-one-stop-careers-center-of-pr/2028-05-01/
CATEGORIES:Socios
END:VEVENT
BEGIN:VEVENT
DTSTART;TZID=America/Puerto_Rico:20280502T080000
DTEND;TZID=America/Puerto_Rico:20280502T120000
DTSTAMP:20260420T190105
CREATED:20251103T184454Z
LAST-MODIFIED:20251204T204641Z
UID:10003435-1840867200-1840881600@conexionlaboralsurestepr.org
SUMMARY:Visita Socio | PathStone Corporation (Rural)
DESCRIPTION:Programa para Trabajadores Agrícolas Migrantes y Estacionales.\nPrograma Youth Build
URL:https://conexionlaboralsurestepr.org/event/vista-socio-pathstone-corporation-rural/2028-05-02/
CATEGORIES:Socios
END:VEVENT
BEGIN:VEVENT
DTSTART;TZID=America/Puerto_Rico:20280502T080000
DTEND;TZID=America/Puerto_Rico:20280502T120000
DTSTAMP:20260420T190105
CREATED:20251103T184621Z
LAST-MODIFIED:20251204T204632Z
UID:10003497-1840867200-1840881600@conexionlaboralsurestepr.org
SUMMARY:Visita Socio | Título V - Old American Act
DESCRIPTION:Senior Community Services Employment Programs
URL:https://conexionlaboralsurestepr.org/event/vista-socio-titulo-v-old-american-act/2028-05-02/
CATEGORIES:Socios
END:VEVENT
BEGIN:VEVENT
DTSTART;TZID=America/Puerto_Rico:20280502T080000
DTEND;TZID=America/Puerto_Rico:20280502T163000
DTSTAMP:20260420T190105
CREATED:20251031T153427Z
LAST-MODIFIED:20251031T173748Z
UID:10000654-1840867200-1840897800@conexionlaboralsurestepr.org
SUMMARY:Visita Socio | Título I - B
DESCRIPTION:Programa Jóvenes\, Adultos y Desplazados
URL:https://conexionlaboralsurestepr.org/event/visita-socios-titulo-i-b/2028-05-02/
CATEGORIES:Socios
END:VEVENT
BEGIN:VEVENT
DTSTART;TZID=America/Puerto_Rico:20280502T080000
DTEND;TZID=America/Puerto_Rico:20280502T163000
DTSTAMP:20260420T190105
CREATED:20251031T173045Z
LAST-MODIFIED:20251204T204704Z
UID:10002480-1840867200-1840897800@conexionlaboralsurestepr.org
SUMMARY:Visita Socio | Departamento del Trabajo y Recursos Humanos (DTRH)
DESCRIPTION:Programa Veteranos (Capítulo 41 Título 38 del Código de EU)\nServicio de Empleo\, Programa Agrícola y Programa RESEA\nPrograma Seguro por Desempleo
URL:https://conexionlaboralsurestepr.org/event/vista-socio-departamento-del-trabajo-y-recursos-humanos-dtrh/2028-05-02/
CATEGORIES:Socios
END:VEVENT
BEGIN:VEVENT
DTSTART;TZID=America/Puerto_Rico:20280502T080000
DTEND;TZID=America/Puerto_Rico:20280502T163000
DTSTAMP:20260420T190105
CREATED:20251103T185220Z
LAST-MODIFIED:20251204T204656Z
UID:10004902-1840867200-1840897800@conexionlaboralsurestepr.org
SUMMARY:Visita Socio | One Stop Careers Center of PR
DESCRIPTION:Programa de Reintegración de Ex-Ofensores bajo Second Change Act
URL:https://conexionlaboralsurestepr.org/event/vista-socio-one-stop-careers-center-of-pr/2028-05-02/
CATEGORIES:Socios
END:VEVENT
BEGIN:VEVENT
DTSTART;TZID=America/Puerto_Rico:20280503T080000
DTEND;TZID=America/Puerto_Rico:20280503T120000
DTSTAMP:20260420T190105
CREATED:20251103T185047Z
LAST-MODIFIED:20251204T204622Z
UID:10003936-1840953600-1840968000@conexionlaboralsurestepr.org
SUMMARY:Visita Socio | Título IV - "Social Security Act" Departamento de la Familia
DESCRIPTION:Programa TANF (Temporary Assistance for Needy Families)
URL:https://conexionlaboralsurestepr.org/event/vista-socio-titulo-iv-social-security-act-departamento-de-la-familia/2028-05-03/
CATEGORIES:Socios
END:VEVENT
BEGIN:VEVENT
DTSTART;TZID=America/Puerto_Rico:20280503T080000
DTEND;TZID=America/Puerto_Rico:20280503T163000
DTSTAMP:20260420T190105
CREATED:20251031T153427Z
LAST-MODIFIED:20251031T173748Z
UID:10000655-1840953600-1840984200@conexionlaboralsurestepr.org
SUMMARY:Visita Socio | Título I - B
DESCRIPTION:Programa Jóvenes\, Adultos y Desplazados
URL:https://conexionlaboralsurestepr.org/event/visita-socios-titulo-i-b/2028-05-03/
CATEGORIES:Socios
END:VEVENT
BEGIN:VEVENT
DTSTART;TZID=America/Puerto_Rico:20280503T080000
DTEND;TZID=America/Puerto_Rico:20280503T163000
DTSTAMP:20260420T190105
CREATED:20251031T173045Z
LAST-MODIFIED:20251204T204704Z
UID:10002481-1840953600-1840984200@conexionlaboralsurestepr.org
SUMMARY:Visita Socio | Departamento del Trabajo y Recursos Humanos (DTRH)
DESCRIPTION:Programa Veteranos (Capítulo 41 Título 38 del Código de EU)\nServicio de Empleo\, Programa Agrícola y Programa RESEA\nPrograma Seguro por Desempleo
URL:https://conexionlaboralsurestepr.org/event/vista-socio-departamento-del-trabajo-y-recursos-humanos-dtrh/2028-05-03/
CATEGORIES:Socios
END:VEVENT
BEGIN:VEVENT
DTSTART;TZID=America/Puerto_Rico:20280503T080000
DTEND;TZID=America/Puerto_Rico:20280503T163000
DTSTAMP:20260420T190105
CREATED:20251103T185220Z
LAST-MODIFIED:20251204T204656Z
UID:10004903-1840953600-1840984200@conexionlaboralsurestepr.org
SUMMARY:Visita Socio | One Stop Careers Center of PR
DESCRIPTION:Programa de Reintegración de Ex-Ofensores bajo Second Change Act
URL:https://conexionlaboralsurestepr.org/event/vista-socio-one-stop-careers-center-of-pr/2028-05-03/
CATEGORIES:Socios
END:VEVENT
BEGIN:VEVENT
DTSTART;TZID=America/Puerto_Rico:20280504T080000
DTEND;TZID=America/Puerto_Rico:20280504T163000
DTSTAMP:20260420T190105
CREATED:20251031T153427Z
LAST-MODIFIED:20251031T173748Z
UID:10000656-1841040000-1841070600@conexionlaboralsurestepr.org
SUMMARY:Visita Socio | Título I - B
DESCRIPTION:Programa Jóvenes\, Adultos y Desplazados
URL:https://conexionlaboralsurestepr.org/event/visita-socios-titulo-i-b/2028-05-04/
CATEGORIES:Socios
END:VEVENT
BEGIN:VEVENT
DTSTART;TZID=America/Puerto_Rico:20280504T080000
DTEND;TZID=America/Puerto_Rico:20280504T163000
DTSTAMP:20260420T190105
CREATED:20251031T173045Z
LAST-MODIFIED:20251204T204704Z
UID:10002482-1841040000-1841070600@conexionlaboralsurestepr.org
SUMMARY:Visita Socio | Departamento del Trabajo y Recursos Humanos (DTRH)
DESCRIPTION:Programa Veteranos (Capítulo 41 Título 38 del Código de EU)\nServicio de Empleo\, Programa Agrícola y Programa RESEA\nPrograma Seguro por Desempleo
URL:https://conexionlaboralsurestepr.org/event/vista-socio-departamento-del-trabajo-y-recursos-humanos-dtrh/2028-05-04/
CATEGORIES:Socios
END:VEVENT
BEGIN:VEVENT
DTSTART;TZID=America/Puerto_Rico:20280504T080000
DTEND;TZID=America/Puerto_Rico:20280504T163000
DTSTAMP:20260420T190105
CREATED:20251103T184914Z
LAST-MODIFIED:20251204T204647Z
UID:10003666-1841040000-1841070600@conexionlaboralsurestepr.org
SUMMARY:Visita Socio | Título II - Departamento de Educación
DESCRIPTION:Programa de Educación y Literacia de Adultos
URL:https://conexionlaboralsurestepr.org/event/vista-socio-titulo-ii-departamento-de-educacion/2028-05-04/
CATEGORIES:Socios
END:VEVENT
BEGIN:VEVENT
DTSTART;TZID=America/Puerto_Rico:20280504T080000
DTEND;TZID=America/Puerto_Rico:20280504T163000
DTSTAMP:20260420T190105
CREATED:20251103T185220Z
LAST-MODIFIED:20251204T204656Z
UID:10004904-1841040000-1841070600@conexionlaboralsurestepr.org
SUMMARY:Visita Socio | One Stop Careers Center of PR
DESCRIPTION:Programa de Reintegración de Ex-Ofensores bajo Second Change Act
URL:https://conexionlaboralsurestepr.org/event/vista-socio-one-stop-careers-center-of-pr/2028-05-04/
CATEGORIES:Socios
END:VEVENT
BEGIN:VEVENT
DTSTART;TZID=America/Puerto_Rico:20280505T080000
DTEND;TZID=America/Puerto_Rico:20280505T163000
DTSTAMP:20260420T190105
CREATED:20251031T153427Z
LAST-MODIFIED:20251031T173748Z
UID:10001518-1841126400-1841157000@conexionlaboralsurestepr.org
SUMMARY:Visita Socio | Título I - B
DESCRIPTION:Programa Jóvenes\, Adultos y Desplazados
URL:https://conexionlaboralsurestepr.org/event/visita-socios-titulo-i-b/2028-05-05/
CATEGORIES:Socios
END:VEVENT
BEGIN:VEVENT
DTSTART;TZID=America/Puerto_Rico:20280505T080000
DTEND;TZID=America/Puerto_Rico:20280505T163000
DTSTAMP:20260420T190105
CREATED:20251031T173045Z
LAST-MODIFIED:20251204T204704Z
UID:10002483-1841126400-1841157000@conexionlaboralsurestepr.org
SUMMARY:Visita Socio | Departamento del Trabajo y Recursos Humanos (DTRH)
DESCRIPTION:Programa Veteranos (Capítulo 41 Título 38 del Código de EU)\nServicio de Empleo\, Programa Agrícola y Programa RESEA\nPrograma Seguro por Desempleo
URL:https://conexionlaboralsurestepr.org/event/vista-socio-departamento-del-trabajo-y-recursos-humanos-dtrh/2028-05-05/
CATEGORIES:Socios
END:VEVENT
BEGIN:VEVENT
DTSTART;TZID=America/Puerto_Rico:20280505T080000
DTEND;TZID=America/Puerto_Rico:20280505T163000
DTSTAMP:20260420T190105
CREATED:20251103T185220Z
LAST-MODIFIED:20251204T204656Z
UID:10004905-1841126400-1841157000@conexionlaboralsurestepr.org
SUMMARY:Visita Socio | One Stop Careers Center of PR
DESCRIPTION:Programa de Reintegración de Ex-Ofensores bajo Second Change Act
URL:https://conexionlaboralsurestepr.org/event/vista-socio-one-stop-careers-center-of-pr/2028-05-05/
CATEGORIES:Socios
END:VEVENT
BEGIN:VEVENT
DTSTART;TZID=America/Puerto_Rico:20280507T080000
DTEND;TZID=America/Puerto_Rico:20280507T163000
DTSTAMP:20260420T190105
CREATED:20251103T185220Z
LAST-MODIFIED:20251204T204656Z
UID:10004906-1841299200-1841329800@conexionlaboralsurestepr.org
SUMMARY:Visita Socio | One Stop Careers Center of PR
DESCRIPTION:Programa de Reintegración de Ex-Ofensores bajo Second Change Act
URL:https://conexionlaboralsurestepr.org/event/vista-socio-one-stop-careers-center-of-pr/2028-05-07/
CATEGORIES:Socios
END:VEVENT
BEGIN:VEVENT
DTSTART;TZID=America/Puerto_Rico:20280508T080000
DTEND;TZID=America/Puerto_Rico:20280508T163000
DTSTAMP:20260420T190105
CREATED:20251031T153427Z
LAST-MODIFIED:20251031T173748Z
UID:10000658-1841385600-1841416200@conexionlaboralsurestepr.org
SUMMARY:Visita Socio | Título I - B
DESCRIPTION:Programa Jóvenes\, Adultos y Desplazados
URL:https://conexionlaboralsurestepr.org/event/visita-socios-titulo-i-b/2028-05-08/
CATEGORIES:Socios
END:VEVENT
BEGIN:VEVENT
DTSTART;TZID=America/Puerto_Rico:20280508T080000
DTEND;TZID=America/Puerto_Rico:20280508T163000
DTSTAMP:20260420T190105
CREATED:20251031T173045Z
LAST-MODIFIED:20251204T204704Z
UID:10002484-1841385600-1841416200@conexionlaboralsurestepr.org
SUMMARY:Visita Socio | Departamento del Trabajo y Recursos Humanos (DTRH)
DESCRIPTION:Programa Veteranos (Capítulo 41 Título 38 del Código de EU)\nServicio de Empleo\, Programa Agrícola y Programa RESEA\nPrograma Seguro por Desempleo
URL:https://conexionlaboralsurestepr.org/event/vista-socio-departamento-del-trabajo-y-recursos-humanos-dtrh/2028-05-08/
CATEGORIES:Socios
END:VEVENT
BEGIN:VEVENT
DTSTART;TZID=America/Puerto_Rico:20280508T080000
DTEND;TZID=America/Puerto_Rico:20280508T163000
DTSTAMP:20260420T190105
CREATED:20251103T185220Z
LAST-MODIFIED:20251204T204656Z
UID:10004907-1841385600-1841416200@conexionlaboralsurestepr.org
SUMMARY:Visita Socio | One Stop Careers Center of PR
DESCRIPTION:Programa de Reintegración de Ex-Ofensores bajo Second Change Act
URL:https://conexionlaboralsurestepr.org/event/vista-socio-one-stop-careers-center-of-pr/2028-05-08/
CATEGORIES:Socios
END:VEVENT
BEGIN:VEVENT
DTSTART;TZID=America/Puerto_Rico:20280509T080000
DTEND;TZID=America/Puerto_Rico:20280509T163000
DTSTAMP:20260420T190105
CREATED:20251031T153427Z
LAST-MODIFIED:20251031T173748Z
UID:10000659-1841472000-1841502600@conexionlaboralsurestepr.org
SUMMARY:Visita Socio | Título I - B
DESCRIPTION:Programa Jóvenes\, Adultos y Desplazados
URL:https://conexionlaboralsurestepr.org/event/visita-socios-titulo-i-b/2028-05-09/
CATEGORIES:Socios
END:VEVENT
BEGIN:VEVENT
DTSTART;TZID=America/Puerto_Rico:20280509T080000
DTEND;TZID=America/Puerto_Rico:20280509T163000
DTSTAMP:20260420T190105
CREATED:20251031T173045Z
LAST-MODIFIED:20251204T204704Z
UID:10002485-1841472000-1841502600@conexionlaboralsurestepr.org
SUMMARY:Visita Socio | Departamento del Trabajo y Recursos Humanos (DTRH)
DESCRIPTION:Programa Veteranos (Capítulo 41 Título 38 del Código de EU)\nServicio de Empleo\, Programa Agrícola y Programa RESEA\nPrograma Seguro por Desempleo
URL:https://conexionlaboralsurestepr.org/event/vista-socio-departamento-del-trabajo-y-recursos-humanos-dtrh/2028-05-09/
CATEGORIES:Socios
END:VEVENT
BEGIN:VEVENT
DTSTART;TZID=America/Puerto_Rico:20280509T080000
DTEND;TZID=America/Puerto_Rico:20280509T163000
DTSTAMP:20260420T190105
CREATED:20251103T185220Z
LAST-MODIFIED:20251204T204656Z
UID:10004908-1841472000-1841502600@conexionlaboralsurestepr.org
SUMMARY:Visita Socio | One Stop Careers Center of PR
DESCRIPTION:Programa de Reintegración de Ex-Ofensores bajo Second Change Act
URL:https://conexionlaboralsurestepr.org/event/vista-socio-one-stop-careers-center-of-pr/2028-05-09/
CATEGORIES:Socios
END:VEVENT
BEGIN:VEVENT
DTSTART;TZID=America/Puerto_Rico:20280510T080000
DTEND;TZID=America/Puerto_Rico:20280510T120000
DTSTAMP:20260420T190105
CREATED:20251103T185047Z
LAST-MODIFIED:20251204T204622Z
UID:10003937-1841558400-1841572800@conexionlaboralsurestepr.org
SUMMARY:Visita Socio | Título IV - "Social Security Act" Departamento de la Familia
DESCRIPTION:Programa TANF (Temporary Assistance for Needy Families)
URL:https://conexionlaboralsurestepr.org/event/vista-socio-titulo-iv-social-security-act-departamento-de-la-familia/2028-05-10/
CATEGORIES:Socios
END:VEVENT
BEGIN:VEVENT
DTSTART;TZID=America/Puerto_Rico:20280510T080000
DTEND;TZID=America/Puerto_Rico:20280510T163000
DTSTAMP:20260420T190105
CREATED:20251031T153427Z
LAST-MODIFIED:20251031T173748Z
UID:10000660-1841558400-1841589000@conexionlaboralsurestepr.org
SUMMARY:Visita Socio | Título I - B
DESCRIPTION:Programa Jóvenes\, Adultos y Desplazados
URL:https://conexionlaboralsurestepr.org/event/visita-socios-titulo-i-b/2028-05-10/
CATEGORIES:Socios
END:VEVENT
BEGIN:VEVENT
DTSTART;TZID=America/Puerto_Rico:20280510T080000
DTEND;TZID=America/Puerto_Rico:20280510T163000
DTSTAMP:20260420T190105
CREATED:20251031T173045Z
LAST-MODIFIED:20251204T204704Z
UID:10002486-1841558400-1841589000@conexionlaboralsurestepr.org
SUMMARY:Visita Socio | Departamento del Trabajo y Recursos Humanos (DTRH)
DESCRIPTION:Programa Veteranos (Capítulo 41 Título 38 del Código de EU)\nServicio de Empleo\, Programa Agrícola y Programa RESEA\nPrograma Seguro por Desempleo
URL:https://conexionlaboralsurestepr.org/event/vista-socio-departamento-del-trabajo-y-recursos-humanos-dtrh/2028-05-10/
CATEGORIES:Socios
END:VEVENT
END:VCALENDAR