BEGIN:VCALENDAR
VERSION:2.0
PRODID:-//Conexión Laboral Sureste - ECPv6.15.20//NONSGML v1.0//EN
CALSCALE:GREGORIAN
METHOD:PUBLISH
X-ORIGINAL-URL:https://conexionlaboralsurestepr.org
X-WR-CALDESC:Events for Conexión Laboral Sureste
REFRESH-INTERVAL;VALUE=DURATION:PT1H
X-Robots-Tag:noindex
X-PUBLISHED-TTL:PT1H
BEGIN:VTIMEZONE
TZID:America/Puerto_Rico
BEGIN:STANDARD
TZOFFSETFROM:-0400
TZOFFSETTO:-0400
TZNAME:AST
DTSTART:20270101T000000
END:STANDARD
END:VTIMEZONE
BEGIN:VEVENT
DTSTART;TZID=America/Puerto_Rico:20280601T080000
DTEND;TZID=America/Puerto_Rico:20280601T163000
DTSTAMP:20260420T204320
CREATED:20251031T153427Z
LAST-MODIFIED:20251031T173748Z
UID:10000676-1843459200-1843489800@conexionlaboralsurestepr.org
SUMMARY:Visita Socio | Título I - B
DESCRIPTION:Programa Jóvenes\, Adultos y Desplazados
URL:https://conexionlaboralsurestepr.org/event/visita-socios-titulo-i-b/2028-06-01/
CATEGORIES:Socios
END:VEVENT
BEGIN:VEVENT
DTSTART;TZID=America/Puerto_Rico:20280601T080000
DTEND;TZID=America/Puerto_Rico:20280601T163000
DTSTAMP:20260420T204320
CREATED:20251031T173045Z
LAST-MODIFIED:20251204T204704Z
UID:10002502-1843459200-1843489800@conexionlaboralsurestepr.org
SUMMARY:Visita Socio | Departamento del Trabajo y Recursos Humanos (DTRH)
DESCRIPTION:Programa Veteranos (Capítulo 41 Título 38 del Código de EU)\nServicio de Empleo\, Programa Agrícola y Programa RESEA\nPrograma Seguro por Desempleo
URL:https://conexionlaboralsurestepr.org/event/vista-socio-departamento-del-trabajo-y-recursos-humanos-dtrh/2028-06-01/
CATEGORIES:Socios
END:VEVENT
BEGIN:VEVENT
DTSTART;TZID=America/Puerto_Rico:20280601T080000
DTEND;TZID=America/Puerto_Rico:20280601T163000
DTSTAMP:20260420T204320
CREATED:20251103T184914Z
LAST-MODIFIED:20251204T204647Z
UID:10003670-1843459200-1843489800@conexionlaboralsurestepr.org
SUMMARY:Visita Socio | Título II - Departamento de Educación
DESCRIPTION:Programa de Educación y Literacia de Adultos
URL:https://conexionlaboralsurestepr.org/event/vista-socio-titulo-ii-departamento-de-educacion/2028-06-01/
CATEGORIES:Socios
END:VEVENT
BEGIN:VEVENT
DTSTART;TZID=America/Puerto_Rico:20280601T080000
DTEND;TZID=America/Puerto_Rico:20280601T163000
DTSTAMP:20260420T204320
CREATED:20251103T185220Z
LAST-MODIFIED:20251204T204656Z
UID:10004928-1843459200-1843489800@conexionlaboralsurestepr.org
SUMMARY:Visita Socio | One Stop Careers Center of PR
DESCRIPTION:Programa de Reintegración de Ex-Ofensores bajo Second Change Act
URL:https://conexionlaboralsurestepr.org/event/vista-socio-one-stop-careers-center-of-pr/2028-06-01/
CATEGORIES:Socios
END:VEVENT
BEGIN:VEVENT
DTSTART;TZID=America/Puerto_Rico:20280602T080000
DTEND;TZID=America/Puerto_Rico:20280602T163000
DTSTAMP:20260420T204320
CREATED:20251031T153427Z
LAST-MODIFIED:20251031T173748Z
UID:10001522-1843545600-1843576200@conexionlaboralsurestepr.org
SUMMARY:Visita Socio | Título I - B
DESCRIPTION:Programa Jóvenes\, Adultos y Desplazados
URL:https://conexionlaboralsurestepr.org/event/visita-socios-titulo-i-b/2028-06-02/
CATEGORIES:Socios
END:VEVENT
BEGIN:VEVENT
DTSTART;TZID=America/Puerto_Rico:20280602T080000
DTEND;TZID=America/Puerto_Rico:20280602T163000
DTSTAMP:20260420T204320
CREATED:20251031T173045Z
LAST-MODIFIED:20251204T204704Z
UID:10002503-1843545600-1843576200@conexionlaboralsurestepr.org
SUMMARY:Visita Socio | Departamento del Trabajo y Recursos Humanos (DTRH)
DESCRIPTION:Programa Veteranos (Capítulo 41 Título 38 del Código de EU)\nServicio de Empleo\, Programa Agrícola y Programa RESEA\nPrograma Seguro por Desempleo
URL:https://conexionlaboralsurestepr.org/event/vista-socio-departamento-del-trabajo-y-recursos-humanos-dtrh/2028-06-02/
CATEGORIES:Socios
END:VEVENT
BEGIN:VEVENT
DTSTART;TZID=America/Puerto_Rico:20280602T080000
DTEND;TZID=America/Puerto_Rico:20280602T163000
DTSTAMP:20260420T204320
CREATED:20251103T185220Z
LAST-MODIFIED:20251204T204656Z
UID:10004929-1843545600-1843576200@conexionlaboralsurestepr.org
SUMMARY:Visita Socio | One Stop Careers Center of PR
DESCRIPTION:Programa de Reintegración de Ex-Ofensores bajo Second Change Act
URL:https://conexionlaboralsurestepr.org/event/vista-socio-one-stop-careers-center-of-pr/2028-06-02/
CATEGORIES:Socios
END:VEVENT
BEGIN:VEVENT
DTSTART;TZID=America/Puerto_Rico:20280604T080000
DTEND;TZID=America/Puerto_Rico:20280604T163000
DTSTAMP:20260420T204320
CREATED:20251103T185220Z
LAST-MODIFIED:20251204T204656Z
UID:10004930-1843718400-1843749000@conexionlaboralsurestepr.org
SUMMARY:Visita Socio | One Stop Careers Center of PR
DESCRIPTION:Programa de Reintegración de Ex-Ofensores bajo Second Change Act
URL:https://conexionlaboralsurestepr.org/event/vista-socio-one-stop-careers-center-of-pr/2028-06-04/
CATEGORIES:Socios
END:VEVENT
BEGIN:VEVENT
DTSTART;TZID=America/Puerto_Rico:20280605T080000
DTEND;TZID=America/Puerto_Rico:20280605T120000
DTSTAMP:20260420T204320
CREATED:20251103T184249Z
LAST-MODIFIED:20251204T204710Z
UID:10003374-1843804800-1843819200@conexionlaboralsurestepr.org
SUMMARY:Visita Socio | Título I | Administración de Rehabilitación Vocacional
DESCRIPTION:Programa de Adiestramiento y Empleo Rehabilitación Vocacional
URL:https://conexionlaboralsurestepr.org/event/vista-socio-titulo-i-administracion-de-rehabilitacion-vocacional/2028-06-05/
CATEGORIES:Socios
END:VEVENT
BEGIN:VEVENT
DTSTART;TZID=America/Puerto_Rico:20280605T080000
DTEND;TZID=America/Puerto_Rico:20280605T163000
DTSTAMP:20260420T204320
CREATED:20251031T153427Z
LAST-MODIFIED:20251031T173748Z
UID:10000678-1843804800-1843835400@conexionlaboralsurestepr.org
SUMMARY:Visita Socio | Título I - B
DESCRIPTION:Programa Jóvenes\, Adultos y Desplazados
URL:https://conexionlaboralsurestepr.org/event/visita-socios-titulo-i-b/2028-06-05/
CATEGORIES:Socios
END:VEVENT
BEGIN:VEVENT
DTSTART;TZID=America/Puerto_Rico:20280605T080000
DTEND;TZID=America/Puerto_Rico:20280605T163000
DTSTAMP:20260420T204320
CREATED:20251031T173045Z
LAST-MODIFIED:20251204T204704Z
UID:10002504-1843804800-1843835400@conexionlaboralsurestepr.org
SUMMARY:Visita Socio | Departamento del Trabajo y Recursos Humanos (DTRH)
DESCRIPTION:Programa Veteranos (Capítulo 41 Título 38 del Código de EU)\nServicio de Empleo\, Programa Agrícola y Programa RESEA\nPrograma Seguro por Desempleo
URL:https://conexionlaboralsurestepr.org/event/vista-socio-departamento-del-trabajo-y-recursos-humanos-dtrh/2028-06-05/
CATEGORIES:Socios
END:VEVENT
BEGIN:VEVENT
DTSTART;TZID=America/Puerto_Rico:20280605T080000
DTEND;TZID=America/Puerto_Rico:20280605T163000
DTSTAMP:20260420T204320
CREATED:20251103T185220Z
LAST-MODIFIED:20251204T204656Z
UID:10004931-1843804800-1843835400@conexionlaboralsurestepr.org
SUMMARY:Visita Socio | One Stop Careers Center of PR
DESCRIPTION:Programa de Reintegración de Ex-Ofensores bajo Second Change Act
URL:https://conexionlaboralsurestepr.org/event/vista-socio-one-stop-careers-center-of-pr/2028-06-05/
CATEGORIES:Socios
END:VEVENT
BEGIN:VEVENT
DTSTART;TZID=America/Puerto_Rico:20280606T080000
DTEND;TZID=America/Puerto_Rico:20280606T120000
DTSTAMP:20260420T204320
CREATED:20251103T184454Z
LAST-MODIFIED:20251204T204641Z
UID:10003436-1843891200-1843905600@conexionlaboralsurestepr.org
SUMMARY:Visita Socio | PathStone Corporation (Rural)
DESCRIPTION:Programa para Trabajadores Agrícolas Migrantes y Estacionales.\nPrograma Youth Build
URL:https://conexionlaboralsurestepr.org/event/vista-socio-pathstone-corporation-rural/2028-06-06/
CATEGORIES:Socios
END:VEVENT
BEGIN:VEVENT
DTSTART;TZID=America/Puerto_Rico:20280606T080000
DTEND;TZID=America/Puerto_Rico:20280606T120000
DTSTAMP:20260420T204320
CREATED:20251103T184621Z
LAST-MODIFIED:20251204T204632Z
UID:10003498-1843891200-1843905600@conexionlaboralsurestepr.org
SUMMARY:Visita Socio | Título V - Old American Act
DESCRIPTION:Senior Community Services Employment Programs
URL:https://conexionlaboralsurestepr.org/event/vista-socio-titulo-v-old-american-act/2028-06-06/
CATEGORIES:Socios
END:VEVENT
BEGIN:VEVENT
DTSTART;TZID=America/Puerto_Rico:20280606T080000
DTEND;TZID=America/Puerto_Rico:20280606T163000
DTSTAMP:20260420T204320
CREATED:20251031T153427Z
LAST-MODIFIED:20251031T173748Z
UID:10000679-1843891200-1843921800@conexionlaboralsurestepr.org
SUMMARY:Visita Socio | Título I - B
DESCRIPTION:Programa Jóvenes\, Adultos y Desplazados
URL:https://conexionlaboralsurestepr.org/event/visita-socios-titulo-i-b/2028-06-06/
CATEGORIES:Socios
END:VEVENT
BEGIN:VEVENT
DTSTART;TZID=America/Puerto_Rico:20280606T080000
DTEND;TZID=America/Puerto_Rico:20280606T163000
DTSTAMP:20260420T204320
CREATED:20251031T173045Z
LAST-MODIFIED:20251204T204704Z
UID:10002505-1843891200-1843921800@conexionlaboralsurestepr.org
SUMMARY:Visita Socio | Departamento del Trabajo y Recursos Humanos (DTRH)
DESCRIPTION:Programa Veteranos (Capítulo 41 Título 38 del Código de EU)\nServicio de Empleo\, Programa Agrícola y Programa RESEA\nPrograma Seguro por Desempleo
URL:https://conexionlaboralsurestepr.org/event/vista-socio-departamento-del-trabajo-y-recursos-humanos-dtrh/2028-06-06/
CATEGORIES:Socios
END:VEVENT
BEGIN:VEVENT
DTSTART;TZID=America/Puerto_Rico:20280606T080000
DTEND;TZID=America/Puerto_Rico:20280606T163000
DTSTAMP:20260420T204320
CREATED:20251103T185220Z
LAST-MODIFIED:20251204T204656Z
UID:10004932-1843891200-1843921800@conexionlaboralsurestepr.org
SUMMARY:Visita Socio | One Stop Careers Center of PR
DESCRIPTION:Programa de Reintegración de Ex-Ofensores bajo Second Change Act
URL:https://conexionlaboralsurestepr.org/event/vista-socio-one-stop-careers-center-of-pr/2028-06-06/
CATEGORIES:Socios
END:VEVENT
BEGIN:VEVENT
DTSTART;TZID=America/Puerto_Rico:20280607T080000
DTEND;TZID=America/Puerto_Rico:20280607T120000
DTSTAMP:20260420T204320
CREATED:20251103T185047Z
LAST-MODIFIED:20251204T204622Z
UID:10003941-1843977600-1843992000@conexionlaboralsurestepr.org
SUMMARY:Visita Socio | Título IV - "Social Security Act" Departamento de la Familia
DESCRIPTION:Programa TANF (Temporary Assistance for Needy Families)
URL:https://conexionlaboralsurestepr.org/event/vista-socio-titulo-iv-social-security-act-departamento-de-la-familia/2028-06-07/
CATEGORIES:Socios
END:VEVENT
BEGIN:VEVENT
DTSTART;TZID=America/Puerto_Rico:20280607T080000
DTEND;TZID=America/Puerto_Rico:20280607T163000
DTSTAMP:20260420T204320
CREATED:20251031T153427Z
LAST-MODIFIED:20251031T173748Z
UID:10000680-1843977600-1844008200@conexionlaboralsurestepr.org
SUMMARY:Visita Socio | Título I - B
DESCRIPTION:Programa Jóvenes\, Adultos y Desplazados
URL:https://conexionlaboralsurestepr.org/event/visita-socios-titulo-i-b/2028-06-07/
CATEGORIES:Socios
END:VEVENT
BEGIN:VEVENT
DTSTART;TZID=America/Puerto_Rico:20280607T080000
DTEND;TZID=America/Puerto_Rico:20280607T163000
DTSTAMP:20260420T204320
CREATED:20251031T173045Z
LAST-MODIFIED:20251204T204704Z
UID:10002506-1843977600-1844008200@conexionlaboralsurestepr.org
SUMMARY:Visita Socio | Departamento del Trabajo y Recursos Humanos (DTRH)
DESCRIPTION:Programa Veteranos (Capítulo 41 Título 38 del Código de EU)\nServicio de Empleo\, Programa Agrícola y Programa RESEA\nPrograma Seguro por Desempleo
URL:https://conexionlaboralsurestepr.org/event/vista-socio-departamento-del-trabajo-y-recursos-humanos-dtrh/2028-06-07/
CATEGORIES:Socios
END:VEVENT
BEGIN:VEVENT
DTSTART;TZID=America/Puerto_Rico:20280607T080000
DTEND;TZID=America/Puerto_Rico:20280607T163000
DTSTAMP:20260420T204320
CREATED:20251103T185220Z
LAST-MODIFIED:20251204T204656Z
UID:10004933-1843977600-1844008200@conexionlaboralsurestepr.org
SUMMARY:Visita Socio | One Stop Careers Center of PR
DESCRIPTION:Programa de Reintegración de Ex-Ofensores bajo Second Change Act
URL:https://conexionlaboralsurestepr.org/event/vista-socio-one-stop-careers-center-of-pr/2028-06-07/
CATEGORIES:Socios
END:VEVENT
BEGIN:VEVENT
DTSTART;TZID=America/Puerto_Rico:20280608T080000
DTEND;TZID=America/Puerto_Rico:20280608T163000
DTSTAMP:20260420T204320
CREATED:20251031T153427Z
LAST-MODIFIED:20251031T173748Z
UID:10000681-1844064000-1844094600@conexionlaboralsurestepr.org
SUMMARY:Visita Socio | Título I - B
DESCRIPTION:Programa Jóvenes\, Adultos y Desplazados
URL:https://conexionlaboralsurestepr.org/event/visita-socios-titulo-i-b/2028-06-08/
CATEGORIES:Socios
END:VEVENT
BEGIN:VEVENT
DTSTART;TZID=America/Puerto_Rico:20280608T080000
DTEND;TZID=America/Puerto_Rico:20280608T163000
DTSTAMP:20260420T204320
CREATED:20251031T173045Z
LAST-MODIFIED:20251204T204704Z
UID:10002507-1844064000-1844094600@conexionlaboralsurestepr.org
SUMMARY:Visita Socio | Departamento del Trabajo y Recursos Humanos (DTRH)
DESCRIPTION:Programa Veteranos (Capítulo 41 Título 38 del Código de EU)\nServicio de Empleo\, Programa Agrícola y Programa RESEA\nPrograma Seguro por Desempleo
URL:https://conexionlaboralsurestepr.org/event/vista-socio-departamento-del-trabajo-y-recursos-humanos-dtrh/2028-06-08/
CATEGORIES:Socios
END:VEVENT
BEGIN:VEVENT
DTSTART;TZID=America/Puerto_Rico:20280608T080000
DTEND;TZID=America/Puerto_Rico:20280608T163000
DTSTAMP:20260420T204320
CREATED:20251103T184914Z
LAST-MODIFIED:20251204T204647Z
UID:10003671-1844064000-1844094600@conexionlaboralsurestepr.org
SUMMARY:Visita Socio | Título II - Departamento de Educación
DESCRIPTION:Programa de Educación y Literacia de Adultos
URL:https://conexionlaboralsurestepr.org/event/vista-socio-titulo-ii-departamento-de-educacion/2028-06-08/
CATEGORIES:Socios
END:VEVENT
BEGIN:VEVENT
DTSTART;TZID=America/Puerto_Rico:20280608T080000
DTEND;TZID=America/Puerto_Rico:20280608T163000
DTSTAMP:20260420T204320
CREATED:20251103T185220Z
LAST-MODIFIED:20251204T204656Z
UID:10004934-1844064000-1844094600@conexionlaboralsurestepr.org
SUMMARY:Visita Socio | One Stop Careers Center of PR
DESCRIPTION:Programa de Reintegración de Ex-Ofensores bajo Second Change Act
URL:https://conexionlaboralsurestepr.org/event/vista-socio-one-stop-careers-center-of-pr/2028-06-08/
CATEGORIES:Socios
END:VEVENT
BEGIN:VEVENT
DTSTART;TZID=America/Puerto_Rico:20280609T080000
DTEND;TZID=America/Puerto_Rico:20280609T163000
DTSTAMP:20260420T204320
CREATED:20251031T153427Z
LAST-MODIFIED:20251031T173748Z
UID:10001523-1844150400-1844181000@conexionlaboralsurestepr.org
SUMMARY:Visita Socio | Título I - B
DESCRIPTION:Programa Jóvenes\, Adultos y Desplazados
URL:https://conexionlaboralsurestepr.org/event/visita-socios-titulo-i-b/2028-06-09/
CATEGORIES:Socios
END:VEVENT
BEGIN:VEVENT
DTSTART;TZID=America/Puerto_Rico:20280609T080000
DTEND;TZID=America/Puerto_Rico:20280609T163000
DTSTAMP:20260420T204320
CREATED:20251031T173045Z
LAST-MODIFIED:20251204T204704Z
UID:10002508-1844150400-1844181000@conexionlaboralsurestepr.org
SUMMARY:Visita Socio | Departamento del Trabajo y Recursos Humanos (DTRH)
DESCRIPTION:Programa Veteranos (Capítulo 41 Título 38 del Código de EU)\nServicio de Empleo\, Programa Agrícola y Programa RESEA\nPrograma Seguro por Desempleo
URL:https://conexionlaboralsurestepr.org/event/vista-socio-departamento-del-trabajo-y-recursos-humanos-dtrh/2028-06-09/
CATEGORIES:Socios
END:VEVENT
BEGIN:VEVENT
DTSTART;TZID=America/Puerto_Rico:20280609T080000
DTEND;TZID=America/Puerto_Rico:20280609T163000
DTSTAMP:20260420T204320
CREATED:20251103T185220Z
LAST-MODIFIED:20251204T204656Z
UID:10004935-1844150400-1844181000@conexionlaboralsurestepr.org
SUMMARY:Visita Socio | One Stop Careers Center of PR
DESCRIPTION:Programa de Reintegración de Ex-Ofensores bajo Second Change Act
URL:https://conexionlaboralsurestepr.org/event/vista-socio-one-stop-careers-center-of-pr/2028-06-09/
CATEGORIES:Socios
END:VEVENT
BEGIN:VEVENT
DTSTART;TZID=America/Puerto_Rico:20280611T080000
DTEND;TZID=America/Puerto_Rico:20280611T163000
DTSTAMP:20260420T204320
CREATED:20251103T185220Z
LAST-MODIFIED:20251204T204656Z
UID:10004936-1844323200-1844353800@conexionlaboralsurestepr.org
SUMMARY:Visita Socio | One Stop Careers Center of PR
DESCRIPTION:Programa de Reintegración de Ex-Ofensores bajo Second Change Act
URL:https://conexionlaboralsurestepr.org/event/vista-socio-one-stop-careers-center-of-pr/2028-06-11/
CATEGORIES:Socios
END:VEVENT
BEGIN:VEVENT
DTSTART;TZID=America/Puerto_Rico:20280612T080000
DTEND;TZID=America/Puerto_Rico:20280612T163000
DTSTAMP:20260420T204320
CREATED:20251031T153427Z
LAST-MODIFIED:20251031T173748Z
UID:10000683-1844409600-1844440200@conexionlaboralsurestepr.org
SUMMARY:Visita Socio | Título I - B
DESCRIPTION:Programa Jóvenes\, Adultos y Desplazados
URL:https://conexionlaboralsurestepr.org/event/visita-socios-titulo-i-b/2028-06-12/
CATEGORIES:Socios
END:VEVENT
END:VCALENDAR