BEGIN:VCALENDAR
VERSION:2.0
PRODID:-//Conexión Laboral Sureste - ECPv6.15.20//NONSGML v1.0//EN
CALSCALE:GREGORIAN
METHOD:PUBLISH
X-WR-CALNAME:Conexión Laboral Sureste
X-ORIGINAL-URL:https://conexionlaboralsurestepr.org
X-WR-CALDESC:Events for Conexión Laboral Sureste
REFRESH-INTERVAL;VALUE=DURATION:PT1H
X-Robots-Tag:noindex
X-PUBLISHED-TTL:PT1H
BEGIN:VTIMEZONE
TZID:America/Puerto_Rico
BEGIN:STANDARD
TZOFFSETFROM:-0400
TZOFFSETTO:-0400
TZNAME:AST
DTSTART:20280101T000000
END:STANDARD
END:VTIMEZONE
BEGIN:VEVENT
DTSTART;TZID=America/Puerto_Rico:20290501T080000
DTEND;TZID=America/Puerto_Rico:20290501T120000
DTSTAMP:20260422T012620
CREATED:20251103T184454Z
LAST-MODIFIED:20251204T204641Z
UID:10003447-1872316800-1872331200@conexionlaboralsurestepr.org
SUMMARY:Visita Socio | PathStone Corporation (Rural)
DESCRIPTION:Programa para Trabajadores Agrícolas Migrantes y Estacionales.\nPrograma Youth Build
URL:https://conexionlaboralsurestepr.org/event/vista-socio-pathstone-corporation-rural/2029-05-01/
CATEGORIES:Socios
END:VEVENT
BEGIN:VEVENT
DTSTART;TZID=America/Puerto_Rico:20290501T080000
DTEND;TZID=America/Puerto_Rico:20290501T120000
DTSTAMP:20260422T012620
CREATED:20251103T184621Z
LAST-MODIFIED:20251204T204632Z
UID:10003509-1872316800-1872331200@conexionlaboralsurestepr.org
SUMMARY:Visita Socio | Título V - Old American Act
DESCRIPTION:Senior Community Services Employment Programs
URL:https://conexionlaboralsurestepr.org/event/vista-socio-titulo-v-old-american-act/2029-05-01/
CATEGORIES:Socios
END:VEVENT
BEGIN:VEVENT
DTSTART;TZID=America/Puerto_Rico:20290501T080000
DTEND;TZID=America/Puerto_Rico:20290501T163000
DTSTAMP:20260422T012620
CREATED:20251031T153427Z
LAST-MODIFIED:20251031T173748Z
UID:10000914-1872316800-1872347400@conexionlaboralsurestepr.org
SUMMARY:Visita Socio | Título I - B
DESCRIPTION:Programa Jóvenes\, Adultos y Desplazados
URL:https://conexionlaboralsurestepr.org/event/visita-socios-titulo-i-b/2029-05-01/
CATEGORIES:Socios
END:VEVENT
BEGIN:VEVENT
DTSTART;TZID=America/Puerto_Rico:20290501T080000
DTEND;TZID=America/Puerto_Rico:20290501T163000
DTSTAMP:20260422T012620
CREATED:20251031T173045Z
LAST-MODIFIED:20251204T204704Z
UID:10002740-1872316800-1872347400@conexionlaboralsurestepr.org
SUMMARY:Visita Socio | Departamento del Trabajo y Recursos Humanos (DTRH)
DESCRIPTION:Programa Veteranos (Capítulo 41 Título 38 del Código de EU)\nServicio de Empleo\, Programa Agrícola y Programa RESEA\nPrograma Seguro por Desempleo
URL:https://conexionlaboralsurestepr.org/event/vista-socio-departamento-del-trabajo-y-recursos-humanos-dtrh/2029-05-01/
CATEGORIES:Socios
END:VEVENT
BEGIN:VEVENT
DTSTART;TZID=America/Puerto_Rico:20290501T080000
DTEND;TZID=America/Puerto_Rico:20290501T163000
DTSTAMP:20260422T012620
CREATED:20251103T185220Z
LAST-MODIFIED:20251204T204656Z
UID:10005214-1872316800-1872347400@conexionlaboralsurestepr.org
SUMMARY:Visita Socio | One Stop Careers Center of PR
DESCRIPTION:Programa de Reintegración de Ex-Ofensores bajo Second Change Act
URL:https://conexionlaboralsurestepr.org/event/vista-socio-one-stop-careers-center-of-pr/2029-05-01/
CATEGORIES:Socios
END:VEVENT
BEGIN:VEVENT
DTSTART;TZID=America/Puerto_Rico:20290502T080000
DTEND;TZID=America/Puerto_Rico:20290502T120000
DTSTAMP:20260422T012620
CREATED:20251103T185047Z
LAST-MODIFIED:20251204T204622Z
UID:10003988-1872403200-1872417600@conexionlaboralsurestepr.org
SUMMARY:Visita Socio | Título IV - "Social Security Act" Departamento de la Familia
DESCRIPTION:Programa TANF (Temporary Assistance for Needy Families)
URL:https://conexionlaboralsurestepr.org/event/vista-socio-titulo-iv-social-security-act-departamento-de-la-familia/2029-05-02/
CATEGORIES:Socios
END:VEVENT
BEGIN:VEVENT
DTSTART;TZID=America/Puerto_Rico:20290502T080000
DTEND;TZID=America/Puerto_Rico:20290502T163000
DTSTAMP:20260422T012620
CREATED:20251031T153427Z
LAST-MODIFIED:20251031T173748Z
UID:10000915-1872403200-1872433800@conexionlaboralsurestepr.org
SUMMARY:Visita Socio | Título I - B
DESCRIPTION:Programa Jóvenes\, Adultos y Desplazados
URL:https://conexionlaboralsurestepr.org/event/visita-socios-titulo-i-b/2029-05-02/
CATEGORIES:Socios
END:VEVENT
BEGIN:VEVENT
DTSTART;TZID=America/Puerto_Rico:20290502T080000
DTEND;TZID=America/Puerto_Rico:20290502T163000
DTSTAMP:20260422T012620
CREATED:20251031T173045Z
LAST-MODIFIED:20251204T204704Z
UID:10002741-1872403200-1872433800@conexionlaboralsurestepr.org
SUMMARY:Visita Socio | Departamento del Trabajo y Recursos Humanos (DTRH)
DESCRIPTION:Programa Veteranos (Capítulo 41 Título 38 del Código de EU)\nServicio de Empleo\, Programa Agrícola y Programa RESEA\nPrograma Seguro por Desempleo
URL:https://conexionlaboralsurestepr.org/event/vista-socio-departamento-del-trabajo-y-recursos-humanos-dtrh/2029-05-02/
CATEGORIES:Socios
END:VEVENT
BEGIN:VEVENT
DTSTART;TZID=America/Puerto_Rico:20290502T080000
DTEND;TZID=America/Puerto_Rico:20290502T163000
DTSTAMP:20260422T012620
CREATED:20251103T185220Z
LAST-MODIFIED:20251204T204656Z
UID:10005215-1872403200-1872433800@conexionlaboralsurestepr.org
SUMMARY:Visita Socio | One Stop Careers Center of PR
DESCRIPTION:Programa de Reintegración de Ex-Ofensores bajo Second Change Act
URL:https://conexionlaboralsurestepr.org/event/vista-socio-one-stop-careers-center-of-pr/2029-05-02/
CATEGORIES:Socios
END:VEVENT
BEGIN:VEVENT
DTSTART;TZID=America/Puerto_Rico:20290503T080000
DTEND;TZID=America/Puerto_Rico:20290503T163000
DTSTAMP:20260422T012620
CREATED:20251031T153427Z
LAST-MODIFIED:20251031T173748Z
UID:10000916-1872489600-1872520200@conexionlaboralsurestepr.org
SUMMARY:Visita Socio | Título I - B
DESCRIPTION:Programa Jóvenes\, Adultos y Desplazados
URL:https://conexionlaboralsurestepr.org/event/visita-socios-titulo-i-b/2029-05-03/
CATEGORIES:Socios
END:VEVENT
BEGIN:VEVENT
DTSTART;TZID=America/Puerto_Rico:20290503T080000
DTEND;TZID=America/Puerto_Rico:20290503T163000
DTSTAMP:20260422T012620
CREATED:20251031T173045Z
LAST-MODIFIED:20251204T204704Z
UID:10002742-1872489600-1872520200@conexionlaboralsurestepr.org
SUMMARY:Visita Socio | Departamento del Trabajo y Recursos Humanos (DTRH)
DESCRIPTION:Programa Veteranos (Capítulo 41 Título 38 del Código de EU)\nServicio de Empleo\, Programa Agrícola y Programa RESEA\nPrograma Seguro por Desempleo
URL:https://conexionlaboralsurestepr.org/event/vista-socio-departamento-del-trabajo-y-recursos-humanos-dtrh/2029-05-03/
CATEGORIES:Socios
END:VEVENT
BEGIN:VEVENT
DTSTART;TZID=America/Puerto_Rico:20290503T080000
DTEND;TZID=America/Puerto_Rico:20290503T163000
DTSTAMP:20260422T012620
CREATED:20251103T184914Z
LAST-MODIFIED:20251204T204647Z
UID:10003718-1872489600-1872520200@conexionlaboralsurestepr.org
SUMMARY:Visita Socio | Título II - Departamento de Educación
DESCRIPTION:Programa de Educación y Literacia de Adultos
URL:https://conexionlaboralsurestepr.org/event/vista-socio-titulo-ii-departamento-de-educacion/2029-05-03/
CATEGORIES:Socios
END:VEVENT
BEGIN:VEVENT
DTSTART;TZID=America/Puerto_Rico:20290503T080000
DTEND;TZID=America/Puerto_Rico:20290503T163000
DTSTAMP:20260422T012620
CREATED:20251103T185220Z
LAST-MODIFIED:20251204T204656Z
UID:10005216-1872489600-1872520200@conexionlaboralsurestepr.org
SUMMARY:Visita Socio | One Stop Careers Center of PR
DESCRIPTION:Programa de Reintegración de Ex-Ofensores bajo Second Change Act
URL:https://conexionlaboralsurestepr.org/event/vista-socio-one-stop-careers-center-of-pr/2029-05-03/
CATEGORIES:Socios
END:VEVENT
BEGIN:VEVENT
DTSTART;TZID=America/Puerto_Rico:20290504T080000
DTEND;TZID=America/Puerto_Rico:20290504T163000
DTSTAMP:20260422T012620
CREATED:20251031T153427Z
LAST-MODIFIED:20251031T173748Z
UID:10001570-1872576000-1872606600@conexionlaboralsurestepr.org
SUMMARY:Visita Socio | Título I - B
DESCRIPTION:Programa Jóvenes\, Adultos y Desplazados
URL:https://conexionlaboralsurestepr.org/event/visita-socios-titulo-i-b/2029-05-04/
CATEGORIES:Socios
END:VEVENT
BEGIN:VEVENT
DTSTART;TZID=America/Puerto_Rico:20290504T080000
DTEND;TZID=America/Puerto_Rico:20290504T163000
DTSTAMP:20260422T012620
CREATED:20251031T173045Z
LAST-MODIFIED:20251204T204704Z
UID:10002743-1872576000-1872606600@conexionlaboralsurestepr.org
SUMMARY:Visita Socio | Departamento del Trabajo y Recursos Humanos (DTRH)
DESCRIPTION:Programa Veteranos (Capítulo 41 Título 38 del Código de EU)\nServicio de Empleo\, Programa Agrícola y Programa RESEA\nPrograma Seguro por Desempleo
URL:https://conexionlaboralsurestepr.org/event/vista-socio-departamento-del-trabajo-y-recursos-humanos-dtrh/2029-05-04/
CATEGORIES:Socios
END:VEVENT
BEGIN:VEVENT
DTSTART;TZID=America/Puerto_Rico:20290504T080000
DTEND;TZID=America/Puerto_Rico:20290504T163000
DTSTAMP:20260422T012620
CREATED:20251103T185220Z
LAST-MODIFIED:20251204T204656Z
UID:10005217-1872576000-1872606600@conexionlaboralsurestepr.org
SUMMARY:Visita Socio | One Stop Careers Center of PR
DESCRIPTION:Programa de Reintegración de Ex-Ofensores bajo Second Change Act
URL:https://conexionlaboralsurestepr.org/event/vista-socio-one-stop-careers-center-of-pr/2029-05-04/
CATEGORIES:Socios
END:VEVENT
BEGIN:VEVENT
DTSTART;TZID=America/Puerto_Rico:20290506T080000
DTEND;TZID=America/Puerto_Rico:20290506T163000
DTSTAMP:20260422T012620
CREATED:20251103T185220Z
LAST-MODIFIED:20251204T204656Z
UID:10005218-1872748800-1872779400@conexionlaboralsurestepr.org
SUMMARY:Visita Socio | One Stop Careers Center of PR
DESCRIPTION:Programa de Reintegración de Ex-Ofensores bajo Second Change Act
URL:https://conexionlaboralsurestepr.org/event/vista-socio-one-stop-careers-center-of-pr/2029-05-06/
CATEGORIES:Socios
END:VEVENT
BEGIN:VEVENT
DTSTART;TZID=America/Puerto_Rico:20290507T080000
DTEND;TZID=America/Puerto_Rico:20290507T120000
DTSTAMP:20260422T012620
CREATED:20251103T184249Z
LAST-MODIFIED:20251204T204710Z
UID:10003385-1872835200-1872849600@conexionlaboralsurestepr.org
SUMMARY:Visita Socio | Título I | Administración de Rehabilitación Vocacional
DESCRIPTION:Programa de Adiestramiento y Empleo Rehabilitación Vocacional
URL:https://conexionlaboralsurestepr.org/event/vista-socio-titulo-i-administracion-de-rehabilitacion-vocacional/2029-05-07/
CATEGORIES:Socios
END:VEVENT
BEGIN:VEVENT
DTSTART;TZID=America/Puerto_Rico:20290507T080000
DTEND;TZID=America/Puerto_Rico:20290507T163000
DTSTAMP:20260422T012620
CREATED:20251031T153427Z
LAST-MODIFIED:20251031T173748Z
UID:10000918-1872835200-1872865800@conexionlaboralsurestepr.org
SUMMARY:Visita Socio | Título I - B
DESCRIPTION:Programa Jóvenes\, Adultos y Desplazados
URL:https://conexionlaboralsurestepr.org/event/visita-socios-titulo-i-b/2029-05-07/
CATEGORIES:Socios
END:VEVENT
BEGIN:VEVENT
DTSTART;TZID=America/Puerto_Rico:20290507T080000
DTEND;TZID=America/Puerto_Rico:20290507T163000
DTSTAMP:20260422T012620
CREATED:20251031T173045Z
LAST-MODIFIED:20251204T204704Z
UID:10002744-1872835200-1872865800@conexionlaboralsurestepr.org
SUMMARY:Visita Socio | Departamento del Trabajo y Recursos Humanos (DTRH)
DESCRIPTION:Programa Veteranos (Capítulo 41 Título 38 del Código de EU)\nServicio de Empleo\, Programa Agrícola y Programa RESEA\nPrograma Seguro por Desempleo
URL:https://conexionlaboralsurestepr.org/event/vista-socio-departamento-del-trabajo-y-recursos-humanos-dtrh/2029-05-07/
CATEGORIES:Socios
END:VEVENT
BEGIN:VEVENT
DTSTART;TZID=America/Puerto_Rico:20290507T080000
DTEND;TZID=America/Puerto_Rico:20290507T163000
DTSTAMP:20260422T012620
CREATED:20251103T185220Z
LAST-MODIFIED:20251204T204656Z
UID:10005219-1872835200-1872865800@conexionlaboralsurestepr.org
SUMMARY:Visita Socio | One Stop Careers Center of PR
DESCRIPTION:Programa de Reintegración de Ex-Ofensores bajo Second Change Act
URL:https://conexionlaboralsurestepr.org/event/vista-socio-one-stop-careers-center-of-pr/2029-05-07/
CATEGORIES:Socios
END:VEVENT
BEGIN:VEVENT
DTSTART;TZID=America/Puerto_Rico:20290508T080000
DTEND;TZID=America/Puerto_Rico:20290508T163000
DTSTAMP:20260422T012620
CREATED:20251031T153427Z
LAST-MODIFIED:20251031T173748Z
UID:10000919-1872921600-1872952200@conexionlaboralsurestepr.org
SUMMARY:Visita Socio | Título I - B
DESCRIPTION:Programa Jóvenes\, Adultos y Desplazados
URL:https://conexionlaboralsurestepr.org/event/visita-socios-titulo-i-b/2029-05-08/
CATEGORIES:Socios
END:VEVENT
BEGIN:VEVENT
DTSTART;TZID=America/Puerto_Rico:20290508T080000
DTEND;TZID=America/Puerto_Rico:20290508T163000
DTSTAMP:20260422T012620
CREATED:20251031T173045Z
LAST-MODIFIED:20251204T204704Z
UID:10002745-1872921600-1872952200@conexionlaboralsurestepr.org
SUMMARY:Visita Socio | Departamento del Trabajo y Recursos Humanos (DTRH)
DESCRIPTION:Programa Veteranos (Capítulo 41 Título 38 del Código de EU)\nServicio de Empleo\, Programa Agrícola y Programa RESEA\nPrograma Seguro por Desempleo
URL:https://conexionlaboralsurestepr.org/event/vista-socio-departamento-del-trabajo-y-recursos-humanos-dtrh/2029-05-08/
CATEGORIES:Socios
END:VEVENT
BEGIN:VEVENT
DTSTART;TZID=America/Puerto_Rico:20290508T080000
DTEND;TZID=America/Puerto_Rico:20290508T163000
DTSTAMP:20260422T012621
CREATED:20251103T185220Z
LAST-MODIFIED:20251204T204656Z
UID:10005220-1872921600-1872952200@conexionlaboralsurestepr.org
SUMMARY:Visita Socio | One Stop Careers Center of PR
DESCRIPTION:Programa de Reintegración de Ex-Ofensores bajo Second Change Act
URL:https://conexionlaboralsurestepr.org/event/vista-socio-one-stop-careers-center-of-pr/2029-05-08/
CATEGORIES:Socios
END:VEVENT
BEGIN:VEVENT
DTSTART;TZID=America/Puerto_Rico:20290509T080000
DTEND;TZID=America/Puerto_Rico:20290509T120000
DTSTAMP:20260422T012621
CREATED:20251103T185047Z
LAST-MODIFIED:20251204T204622Z
UID:10003989-1873008000-1873022400@conexionlaboralsurestepr.org
SUMMARY:Visita Socio | Título IV - "Social Security Act" Departamento de la Familia
DESCRIPTION:Programa TANF (Temporary Assistance for Needy Families)
URL:https://conexionlaboralsurestepr.org/event/vista-socio-titulo-iv-social-security-act-departamento-de-la-familia/2029-05-09/
CATEGORIES:Socios
END:VEVENT
BEGIN:VEVENT
DTSTART;TZID=America/Puerto_Rico:20290509T080000
DTEND;TZID=America/Puerto_Rico:20290509T163000
DTSTAMP:20260422T012621
CREATED:20251031T153427Z
LAST-MODIFIED:20251031T173748Z
UID:10000920-1873008000-1873038600@conexionlaboralsurestepr.org
SUMMARY:Visita Socio | Título I - B
DESCRIPTION:Programa Jóvenes\, Adultos y Desplazados
URL:https://conexionlaboralsurestepr.org/event/visita-socios-titulo-i-b/2029-05-09/
CATEGORIES:Socios
END:VEVENT
BEGIN:VEVENT
DTSTART;TZID=America/Puerto_Rico:20290509T080000
DTEND;TZID=America/Puerto_Rico:20290509T163000
DTSTAMP:20260422T012621
CREATED:20251031T173045Z
LAST-MODIFIED:20251204T204704Z
UID:10002746-1873008000-1873038600@conexionlaboralsurestepr.org
SUMMARY:Visita Socio | Departamento del Trabajo y Recursos Humanos (DTRH)
DESCRIPTION:Programa Veteranos (Capítulo 41 Título 38 del Código de EU)\nServicio de Empleo\, Programa Agrícola y Programa RESEA\nPrograma Seguro por Desempleo
URL:https://conexionlaboralsurestepr.org/event/vista-socio-departamento-del-trabajo-y-recursos-humanos-dtrh/2029-05-09/
CATEGORIES:Socios
END:VEVENT
BEGIN:VEVENT
DTSTART;TZID=America/Puerto_Rico:20290509T080000
DTEND;TZID=America/Puerto_Rico:20290509T163000
DTSTAMP:20260422T012621
CREATED:20251103T185220Z
LAST-MODIFIED:20251204T204656Z
UID:10005221-1873008000-1873038600@conexionlaboralsurestepr.org
SUMMARY:Visita Socio | One Stop Careers Center of PR
DESCRIPTION:Programa de Reintegración de Ex-Ofensores bajo Second Change Act
URL:https://conexionlaboralsurestepr.org/event/vista-socio-one-stop-careers-center-of-pr/2029-05-09/
CATEGORIES:Socios
END:VEVENT
BEGIN:VEVENT
DTSTART;TZID=America/Puerto_Rico:20290510T080000
DTEND;TZID=America/Puerto_Rico:20290510T163000
DTSTAMP:20260422T012621
CREATED:20251031T153427Z
LAST-MODIFIED:20251031T173748Z
UID:10000921-1873094400-1873125000@conexionlaboralsurestepr.org
SUMMARY:Visita Socio | Título I - B
DESCRIPTION:Programa Jóvenes\, Adultos y Desplazados
URL:https://conexionlaboralsurestepr.org/event/visita-socios-titulo-i-b/2029-05-10/
CATEGORIES:Socios
END:VEVENT
BEGIN:VEVENT
DTSTART;TZID=America/Puerto_Rico:20290510T080000
DTEND;TZID=America/Puerto_Rico:20290510T163000
DTSTAMP:20260422T012621
CREATED:20251031T173045Z
LAST-MODIFIED:20251204T204704Z
UID:10002747-1873094400-1873125000@conexionlaboralsurestepr.org
SUMMARY:Visita Socio | Departamento del Trabajo y Recursos Humanos (DTRH)
DESCRIPTION:Programa Veteranos (Capítulo 41 Título 38 del Código de EU)\nServicio de Empleo\, Programa Agrícola y Programa RESEA\nPrograma Seguro por Desempleo
URL:https://conexionlaboralsurestepr.org/event/vista-socio-departamento-del-trabajo-y-recursos-humanos-dtrh/2029-05-10/
CATEGORIES:Socios
END:VEVENT
END:VCALENDAR