BEGIN:VCALENDAR
VERSION:2.0
PRODID:-//Conexión Laboral Sureste - ECPv6.15.20//NONSGML v1.0//EN
CALSCALE:GREGORIAN
METHOD:PUBLISH
X-ORIGINAL-URL:https://conexionlaboralsurestepr.org
X-WR-CALDESC:Events for Conexión Laboral Sureste
REFRESH-INTERVAL;VALUE=DURATION:PT1H
X-Robots-Tag:noindex
X-PUBLISHED-TTL:PT1H
BEGIN:VTIMEZONE
TZID:America/Puerto_Rico
BEGIN:STANDARD
TZOFFSETFROM:-0400
TZOFFSETTO:-0400
TZNAME:AST
DTSTART:20280101T000000
END:STANDARD
END:VTIMEZONE
BEGIN:VEVENT
DTSTART;TZID=America/Puerto_Rico:20291001T080000
DTEND;TZID=America/Puerto_Rico:20291001T120000
DTSTAMP:20260424T115212
CREATED:20251103T184249Z
LAST-MODIFIED:20251204T204710Z
UID:10003390-1885536000-1885550400@conexionlaboralsurestepr.org
SUMMARY:Visita Socio | Título I | Administración de Rehabilitación Vocacional
DESCRIPTION:Programa de Adiestramiento y Empleo Rehabilitación Vocacional
URL:https://conexionlaboralsurestepr.org/event/vista-socio-titulo-i-administracion-de-rehabilitacion-vocacional/2029-10-01/
CATEGORIES:Socios
END:VEVENT
BEGIN:VEVENT
DTSTART;TZID=America/Puerto_Rico:20291001T080000
DTEND;TZID=America/Puerto_Rico:20291001T163000
DTSTAMP:20260424T115212
CREATED:20251031T153427Z
LAST-MODIFIED:20251031T173748Z
UID:10001023-1885536000-1885566600@conexionlaboralsurestepr.org
SUMMARY:Visita Socio | Título I - B
DESCRIPTION:Programa Jóvenes\, Adultos y Desplazados
URL:https://conexionlaboralsurestepr.org/event/visita-socios-titulo-i-b/2029-10-01/
CATEGORIES:Socios
END:VEVENT
BEGIN:VEVENT
DTSTART;TZID=America/Puerto_Rico:20291001T080000
DTEND;TZID=America/Puerto_Rico:20291001T163000
DTSTAMP:20260424T115212
CREATED:20251031T173045Z
LAST-MODIFIED:20251204T204704Z
UID:10002849-1885536000-1885566600@conexionlaboralsurestepr.org
SUMMARY:Visita Socio | Departamento del Trabajo y Recursos Humanos (DTRH)
DESCRIPTION:Programa Veteranos (Capítulo 41 Título 38 del Código de EU)\nServicio de Empleo\, Programa Agrícola y Programa RESEA\nPrograma Seguro por Desempleo
URL:https://conexionlaboralsurestepr.org/event/vista-socio-departamento-del-trabajo-y-recursos-humanos-dtrh/2029-10-01/
CATEGORIES:Socios
END:VEVENT
BEGIN:VEVENT
DTSTART;TZID=America/Puerto_Rico:20291001T080000
DTEND;TZID=America/Puerto_Rico:20291001T163000
DTSTAMP:20260424T115212
CREATED:20251103T185220Z
LAST-MODIFIED:20251204T204656Z
UID:10005345-1885536000-1885566600@conexionlaboralsurestepr.org
SUMMARY:Visita Socio | One Stop Careers Center of PR
DESCRIPTION:Programa de Reintegración de Ex-Ofensores bajo Second Change Act
URL:https://conexionlaboralsurestepr.org/event/vista-socio-one-stop-careers-center-of-pr/2029-10-01/
CATEGORIES:Socios
END:VEVENT
BEGIN:VEVENT
DTSTART;TZID=America/Puerto_Rico:20291002T080000
DTEND;TZID=America/Puerto_Rico:20291002T120000
DTSTAMP:20260424T115212
CREATED:20251103T184454Z
LAST-MODIFIED:20251204T204641Z
UID:10003452-1885622400-1885636800@conexionlaboralsurestepr.org
SUMMARY:Visita Socio | PathStone Corporation (Rural)
DESCRIPTION:Programa para Trabajadores Agrícolas Migrantes y Estacionales.\nPrograma Youth Build
URL:https://conexionlaboralsurestepr.org/event/vista-socio-pathstone-corporation-rural/2029-10-02/
CATEGORIES:Socios
END:VEVENT
BEGIN:VEVENT
DTSTART;TZID=America/Puerto_Rico:20291002T080000
DTEND;TZID=America/Puerto_Rico:20291002T120000
DTSTAMP:20260424T115212
CREATED:20251103T184621Z
LAST-MODIFIED:20251204T204632Z
UID:10003514-1885622400-1885636800@conexionlaboralsurestepr.org
SUMMARY:Visita Socio | Título V - Old American Act
DESCRIPTION:Senior Community Services Employment Programs
URL:https://conexionlaboralsurestepr.org/event/vista-socio-titulo-v-old-american-act/2029-10-02/
CATEGORIES:Socios
END:VEVENT
BEGIN:VEVENT
DTSTART;TZID=America/Puerto_Rico:20291002T080000
DTEND;TZID=America/Puerto_Rico:20291002T163000
DTSTAMP:20260424T115212
CREATED:20251031T153427Z
LAST-MODIFIED:20251031T173748Z
UID:10001024-1885622400-1885653000@conexionlaboralsurestepr.org
SUMMARY:Visita Socio | Título I - B
DESCRIPTION:Programa Jóvenes\, Adultos y Desplazados
URL:https://conexionlaboralsurestepr.org/event/visita-socios-titulo-i-b/2029-10-02/
CATEGORIES:Socios
END:VEVENT
BEGIN:VEVENT
DTSTART;TZID=America/Puerto_Rico:20291002T080000
DTEND;TZID=America/Puerto_Rico:20291002T163000
DTSTAMP:20260424T115212
CREATED:20251031T173045Z
LAST-MODIFIED:20251204T204704Z
UID:10002850-1885622400-1885653000@conexionlaboralsurestepr.org
SUMMARY:Visita Socio | Departamento del Trabajo y Recursos Humanos (DTRH)
DESCRIPTION:Programa Veteranos (Capítulo 41 Título 38 del Código de EU)\nServicio de Empleo\, Programa Agrícola y Programa RESEA\nPrograma Seguro por Desempleo
URL:https://conexionlaboralsurestepr.org/event/vista-socio-departamento-del-trabajo-y-recursos-humanos-dtrh/2029-10-02/
CATEGORIES:Socios
END:VEVENT
BEGIN:VEVENT
DTSTART;TZID=America/Puerto_Rico:20291002T080000
DTEND;TZID=America/Puerto_Rico:20291002T163000
DTSTAMP:20260424T115212
CREATED:20251103T185220Z
LAST-MODIFIED:20251204T204656Z
UID:10005346-1885622400-1885653000@conexionlaboralsurestepr.org
SUMMARY:Visita Socio | One Stop Careers Center of PR
DESCRIPTION:Programa de Reintegración de Ex-Ofensores bajo Second Change Act
URL:https://conexionlaboralsurestepr.org/event/vista-socio-one-stop-careers-center-of-pr/2029-10-02/
CATEGORIES:Socios
END:VEVENT
BEGIN:VEVENT
DTSTART;TZID=America/Puerto_Rico:20291003T080000
DTEND;TZID=America/Puerto_Rico:20291003T120000
DTSTAMP:20260424T115212
CREATED:20251103T185047Z
LAST-MODIFIED:20251204T204622Z
UID:10004010-1885708800-1885723200@conexionlaboralsurestepr.org
SUMMARY:Visita Socio | Título IV - "Social Security Act" Departamento de la Familia
DESCRIPTION:Programa TANF (Temporary Assistance for Needy Families)
URL:https://conexionlaboralsurestepr.org/event/vista-socio-titulo-iv-social-security-act-departamento-de-la-familia/2029-10-03/
CATEGORIES:Socios
END:VEVENT
BEGIN:VEVENT
DTSTART;TZID=America/Puerto_Rico:20291003T080000
DTEND;TZID=America/Puerto_Rico:20291003T163000
DTSTAMP:20260424T115212
CREATED:20251031T153427Z
LAST-MODIFIED:20251031T173748Z
UID:10001025-1885708800-1885739400@conexionlaboralsurestepr.org
SUMMARY:Visita Socio | Título I - B
DESCRIPTION:Programa Jóvenes\, Adultos y Desplazados
URL:https://conexionlaboralsurestepr.org/event/visita-socios-titulo-i-b/2029-10-03/
CATEGORIES:Socios
END:VEVENT
BEGIN:VEVENT
DTSTART;TZID=America/Puerto_Rico:20291003T080000
DTEND;TZID=America/Puerto_Rico:20291003T163000
DTSTAMP:20260424T115212
CREATED:20251031T173045Z
LAST-MODIFIED:20251204T204704Z
UID:10002851-1885708800-1885739400@conexionlaboralsurestepr.org
SUMMARY:Visita Socio | Departamento del Trabajo y Recursos Humanos (DTRH)
DESCRIPTION:Programa Veteranos (Capítulo 41 Título 38 del Código de EU)\nServicio de Empleo\, Programa Agrícola y Programa RESEA\nPrograma Seguro por Desempleo
URL:https://conexionlaboralsurestepr.org/event/vista-socio-departamento-del-trabajo-y-recursos-humanos-dtrh/2029-10-03/
CATEGORIES:Socios
END:VEVENT
BEGIN:VEVENT
DTSTART;TZID=America/Puerto_Rico:20291003T080000
DTEND;TZID=America/Puerto_Rico:20291003T163000
DTSTAMP:20260424T115213
CREATED:20251103T185220Z
LAST-MODIFIED:20251204T204656Z
UID:10005347-1885708800-1885739400@conexionlaboralsurestepr.org
SUMMARY:Visita Socio | One Stop Careers Center of PR
DESCRIPTION:Programa de Reintegración de Ex-Ofensores bajo Second Change Act
URL:https://conexionlaboralsurestepr.org/event/vista-socio-one-stop-careers-center-of-pr/2029-10-03/
CATEGORIES:Socios
END:VEVENT
BEGIN:VEVENT
DTSTART;TZID=America/Puerto_Rico:20291004T080000
DTEND;TZID=America/Puerto_Rico:20291004T163000
DTSTAMP:20260424T115213
CREATED:20251031T153427Z
LAST-MODIFIED:20251031T173748Z
UID:10001026-1885795200-1885825800@conexionlaboralsurestepr.org
SUMMARY:Visita Socio | Título I - B
DESCRIPTION:Programa Jóvenes\, Adultos y Desplazados
URL:https://conexionlaboralsurestepr.org/event/visita-socios-titulo-i-b/2029-10-04/
CATEGORIES:Socios
END:VEVENT
BEGIN:VEVENT
DTSTART;TZID=America/Puerto_Rico:20291004T080000
DTEND;TZID=America/Puerto_Rico:20291004T163000
DTSTAMP:20260424T115213
CREATED:20251031T173045Z
LAST-MODIFIED:20251204T204704Z
UID:10002852-1885795200-1885825800@conexionlaboralsurestepr.org
SUMMARY:Visita Socio | Departamento del Trabajo y Recursos Humanos (DTRH)
DESCRIPTION:Programa Veteranos (Capítulo 41 Título 38 del Código de EU)\nServicio de Empleo\, Programa Agrícola y Programa RESEA\nPrograma Seguro por Desempleo
URL:https://conexionlaboralsurestepr.org/event/vista-socio-departamento-del-trabajo-y-recursos-humanos-dtrh/2029-10-04/
CATEGORIES:Socios
END:VEVENT
BEGIN:VEVENT
DTSTART;TZID=America/Puerto_Rico:20291004T080000
DTEND;TZID=America/Puerto_Rico:20291004T163000
DTSTAMP:20260424T115213
CREATED:20251103T184914Z
LAST-MODIFIED:20251204T204647Z
UID:10003740-1885795200-1885825800@conexionlaboralsurestepr.org
SUMMARY:Visita Socio | Título II - Departamento de Educación
DESCRIPTION:Programa de Educación y Literacia de Adultos
URL:https://conexionlaboralsurestepr.org/event/vista-socio-titulo-ii-departamento-de-educacion/2029-10-04/
CATEGORIES:Socios
END:VEVENT
BEGIN:VEVENT
DTSTART;TZID=America/Puerto_Rico:20291004T080000
DTEND;TZID=America/Puerto_Rico:20291004T163000
DTSTAMP:20260424T115213
CREATED:20251103T185220Z
LAST-MODIFIED:20251204T204656Z
UID:10005348-1885795200-1885825800@conexionlaboralsurestepr.org
SUMMARY:Visita Socio | One Stop Careers Center of PR
DESCRIPTION:Programa de Reintegración de Ex-Ofensores bajo Second Change Act
URL:https://conexionlaboralsurestepr.org/event/vista-socio-one-stop-careers-center-of-pr/2029-10-04/
CATEGORIES:Socios
END:VEVENT
BEGIN:VEVENT
DTSTART;TZID=America/Puerto_Rico:20291005T080000
DTEND;TZID=America/Puerto_Rico:20291005T163000
DTSTAMP:20260424T115213
CREATED:20251031T153427Z
LAST-MODIFIED:20251031T173748Z
UID:10001592-1885881600-1885912200@conexionlaboralsurestepr.org
SUMMARY:Visita Socio | Título I - B
DESCRIPTION:Programa Jóvenes\, Adultos y Desplazados
URL:https://conexionlaboralsurestepr.org/event/visita-socios-titulo-i-b/2029-10-05/
CATEGORIES:Socios
END:VEVENT
BEGIN:VEVENT
DTSTART;TZID=America/Puerto_Rico:20291005T080000
DTEND;TZID=America/Puerto_Rico:20291005T163000
DTSTAMP:20260424T115213
CREATED:20251031T173045Z
LAST-MODIFIED:20251204T204704Z
UID:10002853-1885881600-1885912200@conexionlaboralsurestepr.org
SUMMARY:Visita Socio | Departamento del Trabajo y Recursos Humanos (DTRH)
DESCRIPTION:Programa Veteranos (Capítulo 41 Título 38 del Código de EU)\nServicio de Empleo\, Programa Agrícola y Programa RESEA\nPrograma Seguro por Desempleo
URL:https://conexionlaboralsurestepr.org/event/vista-socio-departamento-del-trabajo-y-recursos-humanos-dtrh/2029-10-05/
CATEGORIES:Socios
END:VEVENT
BEGIN:VEVENT
DTSTART;TZID=America/Puerto_Rico:20291005T080000
DTEND;TZID=America/Puerto_Rico:20291005T163000
DTSTAMP:20260424T115213
CREATED:20251103T185220Z
LAST-MODIFIED:20251204T204656Z
UID:10005349-1885881600-1885912200@conexionlaboralsurestepr.org
SUMMARY:Visita Socio | One Stop Careers Center of PR
DESCRIPTION:Programa de Reintegración de Ex-Ofensores bajo Second Change Act
URL:https://conexionlaboralsurestepr.org/event/vista-socio-one-stop-careers-center-of-pr/2029-10-05/
CATEGORIES:Socios
END:VEVENT
BEGIN:VEVENT
DTSTART;TZID=America/Puerto_Rico:20291007T080000
DTEND;TZID=America/Puerto_Rico:20291007T163000
DTSTAMP:20260424T115213
CREATED:20251103T185220Z
LAST-MODIFIED:20251204T204656Z
UID:10005350-1886054400-1886085000@conexionlaboralsurestepr.org
SUMMARY:Visita Socio | One Stop Careers Center of PR
DESCRIPTION:Programa de Reintegración de Ex-Ofensores bajo Second Change Act
URL:https://conexionlaboralsurestepr.org/event/vista-socio-one-stop-careers-center-of-pr/2029-10-07/
CATEGORIES:Socios
END:VEVENT
BEGIN:VEVENT
DTSTART;TZID=America/Puerto_Rico:20291008T080000
DTEND;TZID=America/Puerto_Rico:20291008T163000
DTSTAMP:20260424T115213
CREATED:20251031T153427Z
LAST-MODIFIED:20251031T173748Z
UID:10001028-1886140800-1886171400@conexionlaboralsurestepr.org
SUMMARY:Visita Socio | Título I - B
DESCRIPTION:Programa Jóvenes\, Adultos y Desplazados
URL:https://conexionlaboralsurestepr.org/event/visita-socios-titulo-i-b/2029-10-08/
CATEGORIES:Socios
END:VEVENT
BEGIN:VEVENT
DTSTART;TZID=America/Puerto_Rico:20291008T080000
DTEND;TZID=America/Puerto_Rico:20291008T163000
DTSTAMP:20260424T115213
CREATED:20251031T173045Z
LAST-MODIFIED:20251204T204704Z
UID:10002854-1886140800-1886171400@conexionlaboralsurestepr.org
SUMMARY:Visita Socio | Departamento del Trabajo y Recursos Humanos (DTRH)
DESCRIPTION:Programa Veteranos (Capítulo 41 Título 38 del Código de EU)\nServicio de Empleo\, Programa Agrícola y Programa RESEA\nPrograma Seguro por Desempleo
URL:https://conexionlaboralsurestepr.org/event/vista-socio-departamento-del-trabajo-y-recursos-humanos-dtrh/2029-10-08/
CATEGORIES:Socios
END:VEVENT
BEGIN:VEVENT
DTSTART;TZID=America/Puerto_Rico:20291008T080000
DTEND;TZID=America/Puerto_Rico:20291008T163000
DTSTAMP:20260424T115213
CREATED:20251103T185220Z
LAST-MODIFIED:20251204T204656Z
UID:10005351-1886140800-1886171400@conexionlaboralsurestepr.org
SUMMARY:Visita Socio | One Stop Careers Center of PR
DESCRIPTION:Programa de Reintegración de Ex-Ofensores bajo Second Change Act
URL:https://conexionlaboralsurestepr.org/event/vista-socio-one-stop-careers-center-of-pr/2029-10-08/
CATEGORIES:Socios
END:VEVENT
BEGIN:VEVENT
DTSTART;TZID=America/Puerto_Rico:20291009T080000
DTEND;TZID=America/Puerto_Rico:20291009T163000
DTSTAMP:20260424T115213
CREATED:20251031T153427Z
LAST-MODIFIED:20251031T173748Z
UID:10001029-1886227200-1886257800@conexionlaboralsurestepr.org
SUMMARY:Visita Socio | Título I - B
DESCRIPTION:Programa Jóvenes\, Adultos y Desplazados
URL:https://conexionlaboralsurestepr.org/event/visita-socios-titulo-i-b/2029-10-09/
CATEGORIES:Socios
END:VEVENT
BEGIN:VEVENT
DTSTART;TZID=America/Puerto_Rico:20291009T080000
DTEND;TZID=America/Puerto_Rico:20291009T163000
DTSTAMP:20260424T115213
CREATED:20251031T173045Z
LAST-MODIFIED:20251204T204704Z
UID:10002855-1886227200-1886257800@conexionlaboralsurestepr.org
SUMMARY:Visita Socio | Departamento del Trabajo y Recursos Humanos (DTRH)
DESCRIPTION:Programa Veteranos (Capítulo 41 Título 38 del Código de EU)\nServicio de Empleo\, Programa Agrícola y Programa RESEA\nPrograma Seguro por Desempleo
URL:https://conexionlaboralsurestepr.org/event/vista-socio-departamento-del-trabajo-y-recursos-humanos-dtrh/2029-10-09/
CATEGORIES:Socios
END:VEVENT
BEGIN:VEVENT
DTSTART;TZID=America/Puerto_Rico:20291009T080000
DTEND;TZID=America/Puerto_Rico:20291009T163000
DTSTAMP:20260424T115213
CREATED:20251103T185220Z
LAST-MODIFIED:20251204T204656Z
UID:10005352-1886227200-1886257800@conexionlaboralsurestepr.org
SUMMARY:Visita Socio | One Stop Careers Center of PR
DESCRIPTION:Programa de Reintegración de Ex-Ofensores bajo Second Change Act
URL:https://conexionlaboralsurestepr.org/event/vista-socio-one-stop-careers-center-of-pr/2029-10-09/
CATEGORIES:Socios
END:VEVENT
BEGIN:VEVENT
DTSTART;TZID=America/Puerto_Rico:20291010T080000
DTEND;TZID=America/Puerto_Rico:20291010T120000
DTSTAMP:20260424T115213
CREATED:20251103T185047Z
LAST-MODIFIED:20251204T204622Z
UID:10004011-1886313600-1886328000@conexionlaboralsurestepr.org
SUMMARY:Visita Socio | Título IV - "Social Security Act" Departamento de la Familia
DESCRIPTION:Programa TANF (Temporary Assistance for Needy Families)
URL:https://conexionlaboralsurestepr.org/event/vista-socio-titulo-iv-social-security-act-departamento-de-la-familia/2029-10-10/
CATEGORIES:Socios
END:VEVENT
BEGIN:VEVENT
DTSTART;TZID=America/Puerto_Rico:20291010T080000
DTEND;TZID=America/Puerto_Rico:20291010T163000
DTSTAMP:20260424T115213
CREATED:20251031T153427Z
LAST-MODIFIED:20251031T173748Z
UID:10001030-1886313600-1886344200@conexionlaboralsurestepr.org
SUMMARY:Visita Socio | Título I - B
DESCRIPTION:Programa Jóvenes\, Adultos y Desplazados
URL:https://conexionlaboralsurestepr.org/event/visita-socios-titulo-i-b/2029-10-10/
CATEGORIES:Socios
END:VEVENT
BEGIN:VEVENT
DTSTART;TZID=America/Puerto_Rico:20291010T080000
DTEND;TZID=America/Puerto_Rico:20291010T163000
DTSTAMP:20260424T115213
CREATED:20251031T173045Z
LAST-MODIFIED:20251204T204704Z
UID:10002856-1886313600-1886344200@conexionlaboralsurestepr.org
SUMMARY:Visita Socio | Departamento del Trabajo y Recursos Humanos (DTRH)
DESCRIPTION:Programa Veteranos (Capítulo 41 Título 38 del Código de EU)\nServicio de Empleo\, Programa Agrícola y Programa RESEA\nPrograma Seguro por Desempleo
URL:https://conexionlaboralsurestepr.org/event/vista-socio-departamento-del-trabajo-y-recursos-humanos-dtrh/2029-10-10/
CATEGORIES:Socios
END:VEVENT
END:VCALENDAR