BEGIN:VCALENDAR
VERSION:2.0
PRODID:-//Conexión Laboral Sureste - ECPv6.15.20//NONSGML v1.0//EN
CALSCALE:GREGORIAN
METHOD:PUBLISH
X-ORIGINAL-URL:https://conexionlaboralsurestepr.org
X-WR-CALDESC:Events for Conexión Laboral Sureste
REFRESH-INTERVAL;VALUE=DURATION:PT1H
X-Robots-Tag:noindex
X-PUBLISHED-TTL:PT1H
BEGIN:VTIMEZONE
TZID:America/Puerto_Rico
BEGIN:STANDARD
TZOFFSETFROM:-0400
TZOFFSETTO:-0400
TZNAME:AST
DTSTART:20290101T000000
END:STANDARD
END:VTIMEZONE
BEGIN:VEVENT
DTSTART;TZID=America/Puerto_Rico:20300201T080000
DTEND;TZID=America/Puerto_Rico:20300201T163000
DTSTAMP:20260424T204530
CREATED:20251031T153427Z
LAST-MODIFIED:20251031T173748Z
UID:10001609-1896163200-1896193800@conexionlaboralsurestepr.org
SUMMARY:Visita Socio | Título I - B
DESCRIPTION:Programa Jóvenes\, Adultos y Desplazados
URL:https://conexionlaboralsurestepr.org/event/visita-socios-titulo-i-b/2030-02-01/
CATEGORIES:Socios
END:VEVENT
BEGIN:VEVENT
DTSTART;TZID=America/Puerto_Rico:20300201T080000
DTEND;TZID=America/Puerto_Rico:20300201T163000
DTSTAMP:20260424T204530
CREATED:20251031T173045Z
LAST-MODIFIED:20251204T204704Z
UID:10002938-1896163200-1896193800@conexionlaboralsurestepr.org
SUMMARY:Visita Socio | Departamento del Trabajo y Recursos Humanos (DTRH)
DESCRIPTION:Programa Veteranos (Capítulo 41 Título 38 del Código de EU)\nServicio de Empleo\, Programa Agrícola y Programa RESEA\nPrograma Seguro por Desempleo
URL:https://conexionlaboralsurestepr.org/event/vista-socio-departamento-del-trabajo-y-recursos-humanos-dtrh/2030-02-01/
CATEGORIES:Socios
END:VEVENT
BEGIN:VEVENT
DTSTART;TZID=America/Puerto_Rico:20300201T080000
DTEND;TZID=America/Puerto_Rico:20300201T163000
DTSTAMP:20260424T204530
CREATED:20251103T185220Z
LAST-MODIFIED:20251204T204656Z
UID:10005451-1896163200-1896193800@conexionlaboralsurestepr.org
SUMMARY:Visita Socio | One Stop Careers Center of PR
DESCRIPTION:Programa de Reintegración de Ex-Ofensores bajo Second Change Act
URL:https://conexionlaboralsurestepr.org/event/vista-socio-one-stop-careers-center-of-pr/2030-02-01/
CATEGORIES:Socios
END:VEVENT
BEGIN:VEVENT
DTSTART;TZID=America/Puerto_Rico:20300203T080000
DTEND;TZID=America/Puerto_Rico:20300203T163000
DTSTAMP:20260424T204530
CREATED:20251103T185220Z
LAST-MODIFIED:20251204T204656Z
UID:10005452-1896336000-1896366600@conexionlaboralsurestepr.org
SUMMARY:Visita Socio | One Stop Careers Center of PR
DESCRIPTION:Programa de Reintegración de Ex-Ofensores bajo Second Change Act
URL:https://conexionlaboralsurestepr.org/event/vista-socio-one-stop-careers-center-of-pr/2030-02-03/
CATEGORIES:Socios
END:VEVENT
BEGIN:VEVENT
DTSTART;TZID=America/Puerto_Rico:20300204T080000
DTEND;TZID=America/Puerto_Rico:20300204T120000
DTSTAMP:20260424T204530
CREATED:20251103T184249Z
LAST-MODIFIED:20251204T204710Z
UID:10003394-1896422400-1896436800@conexionlaboralsurestepr.org
SUMMARY:Visita Socio | Título I | Administración de Rehabilitación Vocacional
DESCRIPTION:Programa de Adiestramiento y Empleo Rehabilitación Vocacional
URL:https://conexionlaboralsurestepr.org/event/vista-socio-titulo-i-administracion-de-rehabilitacion-vocacional/2030-02-04/
CATEGORIES:Socios
END:VEVENT
BEGIN:VEVENT
DTSTART;TZID=America/Puerto_Rico:20300204T080000
DTEND;TZID=America/Puerto_Rico:20300204T163000
DTSTAMP:20260424T204530
CREATED:20251031T153427Z
LAST-MODIFIED:20251031T173748Z
UID:10001113-1896422400-1896453000@conexionlaboralsurestepr.org
SUMMARY:Visita Socio | Título I - B
DESCRIPTION:Programa Jóvenes\, Adultos y Desplazados
URL:https://conexionlaboralsurestepr.org/event/visita-socios-titulo-i-b/2030-02-04/
CATEGORIES:Socios
END:VEVENT
BEGIN:VEVENT
DTSTART;TZID=America/Puerto_Rico:20300204T080000
DTEND;TZID=America/Puerto_Rico:20300204T163000
DTSTAMP:20260424T204530
CREATED:20251031T173045Z
LAST-MODIFIED:20251204T204704Z
UID:10002939-1896422400-1896453000@conexionlaboralsurestepr.org
SUMMARY:Visita Socio | Departamento del Trabajo y Recursos Humanos (DTRH)
DESCRIPTION:Programa Veteranos (Capítulo 41 Título 38 del Código de EU)\nServicio de Empleo\, Programa Agrícola y Programa RESEA\nPrograma Seguro por Desempleo
URL:https://conexionlaboralsurestepr.org/event/vista-socio-departamento-del-trabajo-y-recursos-humanos-dtrh/2030-02-04/
CATEGORIES:Socios
END:VEVENT
BEGIN:VEVENT
DTSTART;TZID=America/Puerto_Rico:20300204T080000
DTEND;TZID=America/Puerto_Rico:20300204T163000
DTSTAMP:20260424T204530
CREATED:20251103T185220Z
LAST-MODIFIED:20251204T204656Z
UID:10005453-1896422400-1896453000@conexionlaboralsurestepr.org
SUMMARY:Visita Socio | One Stop Careers Center of PR
DESCRIPTION:Programa de Reintegración de Ex-Ofensores bajo Second Change Act
URL:https://conexionlaboralsurestepr.org/event/vista-socio-one-stop-careers-center-of-pr/2030-02-04/
CATEGORIES:Socios
END:VEVENT
BEGIN:VEVENT
DTSTART;TZID=America/Puerto_Rico:20300205T080000
DTEND;TZID=America/Puerto_Rico:20300205T120000
DTSTAMP:20260424T204530
CREATED:20251103T184454Z
LAST-MODIFIED:20251204T204641Z
UID:10003456-1896508800-1896523200@conexionlaboralsurestepr.org
SUMMARY:Visita Socio | PathStone Corporation (Rural)
DESCRIPTION:Programa para Trabajadores Agrícolas Migrantes y Estacionales.\nPrograma Youth Build
URL:https://conexionlaboralsurestepr.org/event/vista-socio-pathstone-corporation-rural/2030-02-05/
CATEGORIES:Socios
END:VEVENT
BEGIN:VEVENT
DTSTART;TZID=America/Puerto_Rico:20300205T080000
DTEND;TZID=America/Puerto_Rico:20300205T120000
DTSTAMP:20260424T204530
CREATED:20251103T184621Z
LAST-MODIFIED:20251204T204632Z
UID:10003518-1896508800-1896523200@conexionlaboralsurestepr.org
SUMMARY:Visita Socio | Título V - Old American Act
DESCRIPTION:Senior Community Services Employment Programs
URL:https://conexionlaboralsurestepr.org/event/vista-socio-titulo-v-old-american-act/2030-02-05/
CATEGORIES:Socios
END:VEVENT
BEGIN:VEVENT
DTSTART;TZID=America/Puerto_Rico:20300205T080000
DTEND;TZID=America/Puerto_Rico:20300205T163000
DTSTAMP:20260424T204530
CREATED:20251031T153427Z
LAST-MODIFIED:20251031T173748Z
UID:10001114-1896508800-1896539400@conexionlaboralsurestepr.org
SUMMARY:Visita Socio | Título I - B
DESCRIPTION:Programa Jóvenes\, Adultos y Desplazados
URL:https://conexionlaboralsurestepr.org/event/visita-socios-titulo-i-b/2030-02-05/
CATEGORIES:Socios
END:VEVENT
BEGIN:VEVENT
DTSTART;TZID=America/Puerto_Rico:20300205T080000
DTEND;TZID=America/Puerto_Rico:20300205T163000
DTSTAMP:20260424T204530
CREATED:20251031T173045Z
LAST-MODIFIED:20251204T204704Z
UID:10002940-1896508800-1896539400@conexionlaboralsurestepr.org
SUMMARY:Visita Socio | Departamento del Trabajo y Recursos Humanos (DTRH)
DESCRIPTION:Programa Veteranos (Capítulo 41 Título 38 del Código de EU)\nServicio de Empleo\, Programa Agrícola y Programa RESEA\nPrograma Seguro por Desempleo
URL:https://conexionlaboralsurestepr.org/event/vista-socio-departamento-del-trabajo-y-recursos-humanos-dtrh/2030-02-05/
CATEGORIES:Socios
END:VEVENT
BEGIN:VEVENT
DTSTART;TZID=America/Puerto_Rico:20300205T080000
DTEND;TZID=America/Puerto_Rico:20300205T163000
DTSTAMP:20260424T204530
CREATED:20251103T185220Z
LAST-MODIFIED:20251204T204656Z
UID:10005454-1896508800-1896539400@conexionlaboralsurestepr.org
SUMMARY:Visita Socio | One Stop Careers Center of PR
DESCRIPTION:Programa de Reintegración de Ex-Ofensores bajo Second Change Act
URL:https://conexionlaboralsurestepr.org/event/vista-socio-one-stop-careers-center-of-pr/2030-02-05/
CATEGORIES:Socios
END:VEVENT
BEGIN:VEVENT
DTSTART;TZID=America/Puerto_Rico:20300206T080000
DTEND;TZID=America/Puerto_Rico:20300206T120000
DTSTAMP:20260424T204530
CREATED:20251103T185047Z
LAST-MODIFIED:20251204T204622Z
UID:10004028-1896595200-1896609600@conexionlaboralsurestepr.org
SUMMARY:Visita Socio | Título IV - "Social Security Act" Departamento de la Familia
DESCRIPTION:Programa TANF (Temporary Assistance for Needy Families)
URL:https://conexionlaboralsurestepr.org/event/vista-socio-titulo-iv-social-security-act-departamento-de-la-familia/2030-02-06/
CATEGORIES:Socios
END:VEVENT
BEGIN:VEVENT
DTSTART;TZID=America/Puerto_Rico:20300206T080000
DTEND;TZID=America/Puerto_Rico:20300206T163000
DTSTAMP:20260424T204530
CREATED:20251031T153427Z
LAST-MODIFIED:20251031T173748Z
UID:10001115-1896595200-1896625800@conexionlaboralsurestepr.org
SUMMARY:Visita Socio | Título I - B
DESCRIPTION:Programa Jóvenes\, Adultos y Desplazados
URL:https://conexionlaboralsurestepr.org/event/visita-socios-titulo-i-b/2030-02-06/
CATEGORIES:Socios
END:VEVENT
BEGIN:VEVENT
DTSTART;TZID=America/Puerto_Rico:20300206T080000
DTEND;TZID=America/Puerto_Rico:20300206T163000
DTSTAMP:20260424T204530
CREATED:20251031T173045Z
LAST-MODIFIED:20251204T204704Z
UID:10002941-1896595200-1896625800@conexionlaboralsurestepr.org
SUMMARY:Visita Socio | Departamento del Trabajo y Recursos Humanos (DTRH)
DESCRIPTION:Programa Veteranos (Capítulo 41 Título 38 del Código de EU)\nServicio de Empleo\, Programa Agrícola y Programa RESEA\nPrograma Seguro por Desempleo
URL:https://conexionlaboralsurestepr.org/event/vista-socio-departamento-del-trabajo-y-recursos-humanos-dtrh/2030-02-06/
CATEGORIES:Socios
END:VEVENT
BEGIN:VEVENT
DTSTART;TZID=America/Puerto_Rico:20300206T080000
DTEND;TZID=America/Puerto_Rico:20300206T163000
DTSTAMP:20260424T204530
CREATED:20251103T185220Z
LAST-MODIFIED:20251204T204656Z
UID:10005455-1896595200-1896625800@conexionlaboralsurestepr.org
SUMMARY:Visita Socio | One Stop Careers Center of PR
DESCRIPTION:Programa de Reintegración de Ex-Ofensores bajo Second Change Act
URL:https://conexionlaboralsurestepr.org/event/vista-socio-one-stop-careers-center-of-pr/2030-02-06/
CATEGORIES:Socios
END:VEVENT
BEGIN:VEVENT
DTSTART;TZID=America/Puerto_Rico:20300207T080000
DTEND;TZID=America/Puerto_Rico:20300207T163000
DTSTAMP:20260424T204530
CREATED:20251031T153427Z
LAST-MODIFIED:20251031T173748Z
UID:10001116-1896681600-1896712200@conexionlaboralsurestepr.org
SUMMARY:Visita Socio | Título I - B
DESCRIPTION:Programa Jóvenes\, Adultos y Desplazados
URL:https://conexionlaboralsurestepr.org/event/visita-socios-titulo-i-b/2030-02-07/
CATEGORIES:Socios
END:VEVENT
BEGIN:VEVENT
DTSTART;TZID=America/Puerto_Rico:20300207T080000
DTEND;TZID=America/Puerto_Rico:20300207T163000
DTSTAMP:20260424T204530
CREATED:20251031T173045Z
LAST-MODIFIED:20251204T204704Z
UID:10002942-1896681600-1896712200@conexionlaboralsurestepr.org
SUMMARY:Visita Socio | Departamento del Trabajo y Recursos Humanos (DTRH)
DESCRIPTION:Programa Veteranos (Capítulo 41 Título 38 del Código de EU)\nServicio de Empleo\, Programa Agrícola y Programa RESEA\nPrograma Seguro por Desempleo
URL:https://conexionlaboralsurestepr.org/event/vista-socio-departamento-del-trabajo-y-recursos-humanos-dtrh/2030-02-07/
CATEGORIES:Socios
END:VEVENT
BEGIN:VEVENT
DTSTART;TZID=America/Puerto_Rico:20300207T080000
DTEND;TZID=America/Puerto_Rico:20300207T163000
DTSTAMP:20260424T204530
CREATED:20251103T184914Z
LAST-MODIFIED:20251204T204647Z
UID:10003758-1896681600-1896712200@conexionlaboralsurestepr.org
SUMMARY:Visita Socio | Título II - Departamento de Educación
DESCRIPTION:Programa de Educación y Literacia de Adultos
URL:https://conexionlaboralsurestepr.org/event/vista-socio-titulo-ii-departamento-de-educacion/2030-02-07/
CATEGORIES:Socios
END:VEVENT
BEGIN:VEVENT
DTSTART;TZID=America/Puerto_Rico:20300207T080000
DTEND;TZID=America/Puerto_Rico:20300207T163000
DTSTAMP:20260424T204530
CREATED:20251103T185220Z
LAST-MODIFIED:20251204T204656Z
UID:10005456-1896681600-1896712200@conexionlaboralsurestepr.org
SUMMARY:Visita Socio | One Stop Careers Center of PR
DESCRIPTION:Programa de Reintegración de Ex-Ofensores bajo Second Change Act
URL:https://conexionlaboralsurestepr.org/event/vista-socio-one-stop-careers-center-of-pr/2030-02-07/
CATEGORIES:Socios
END:VEVENT
BEGIN:VEVENT
DTSTART;TZID=America/Puerto_Rico:20300208T080000
DTEND;TZID=America/Puerto_Rico:20300208T163000
DTSTAMP:20260424T204530
CREATED:20251031T153427Z
LAST-MODIFIED:20251031T173748Z
UID:10001610-1896768000-1896798600@conexionlaboralsurestepr.org
SUMMARY:Visita Socio | Título I - B
DESCRIPTION:Programa Jóvenes\, Adultos y Desplazados
URL:https://conexionlaboralsurestepr.org/event/visita-socios-titulo-i-b/2030-02-08/
CATEGORIES:Socios
END:VEVENT
BEGIN:VEVENT
DTSTART;TZID=America/Puerto_Rico:20300208T080000
DTEND;TZID=America/Puerto_Rico:20300208T163000
DTSTAMP:20260424T204530
CREATED:20251031T173045Z
LAST-MODIFIED:20251204T204704Z
UID:10002943-1896768000-1896798600@conexionlaboralsurestepr.org
SUMMARY:Visita Socio | Departamento del Trabajo y Recursos Humanos (DTRH)
DESCRIPTION:Programa Veteranos (Capítulo 41 Título 38 del Código de EU)\nServicio de Empleo\, Programa Agrícola y Programa RESEA\nPrograma Seguro por Desempleo
URL:https://conexionlaboralsurestepr.org/event/vista-socio-departamento-del-trabajo-y-recursos-humanos-dtrh/2030-02-08/
CATEGORIES:Socios
END:VEVENT
BEGIN:VEVENT
DTSTART;TZID=America/Puerto_Rico:20300208T080000
DTEND;TZID=America/Puerto_Rico:20300208T163000
DTSTAMP:20260424T204530
CREATED:20251103T185220Z
LAST-MODIFIED:20251204T204656Z
UID:10005457-1896768000-1896798600@conexionlaboralsurestepr.org
SUMMARY:Visita Socio | One Stop Careers Center of PR
DESCRIPTION:Programa de Reintegración de Ex-Ofensores bajo Second Change Act
URL:https://conexionlaboralsurestepr.org/event/vista-socio-one-stop-careers-center-of-pr/2030-02-08/
CATEGORIES:Socios
END:VEVENT
BEGIN:VEVENT
DTSTART;TZID=America/Puerto_Rico:20300210T080000
DTEND;TZID=America/Puerto_Rico:20300210T163000
DTSTAMP:20260424T204530
CREATED:20251103T185220Z
LAST-MODIFIED:20251204T204656Z
UID:10005458-1896940800-1896971400@conexionlaboralsurestepr.org
SUMMARY:Visita Socio | One Stop Careers Center of PR
DESCRIPTION:Programa de Reintegración de Ex-Ofensores bajo Second Change Act
URL:https://conexionlaboralsurestepr.org/event/vista-socio-one-stop-careers-center-of-pr/2030-02-10/
CATEGORIES:Socios
END:VEVENT
BEGIN:VEVENT
DTSTART;TZID=America/Puerto_Rico:20300211T080000
DTEND;TZID=America/Puerto_Rico:20300211T163000
DTSTAMP:20260424T204530
CREATED:20251031T153427Z
LAST-MODIFIED:20251031T173748Z
UID:10001118-1897027200-1897057800@conexionlaboralsurestepr.org
SUMMARY:Visita Socio | Título I - B
DESCRIPTION:Programa Jóvenes\, Adultos y Desplazados
URL:https://conexionlaboralsurestepr.org/event/visita-socios-titulo-i-b/2030-02-11/
CATEGORIES:Socios
END:VEVENT
BEGIN:VEVENT
DTSTART;TZID=America/Puerto_Rico:20300211T080000
DTEND;TZID=America/Puerto_Rico:20300211T163000
DTSTAMP:20260424T204530
CREATED:20251031T173045Z
LAST-MODIFIED:20251204T204704Z
UID:10002944-1897027200-1897057800@conexionlaboralsurestepr.org
SUMMARY:Visita Socio | Departamento del Trabajo y Recursos Humanos (DTRH)
DESCRIPTION:Programa Veteranos (Capítulo 41 Título 38 del Código de EU)\nServicio de Empleo\, Programa Agrícola y Programa RESEA\nPrograma Seguro por Desempleo
URL:https://conexionlaboralsurestepr.org/event/vista-socio-departamento-del-trabajo-y-recursos-humanos-dtrh/2030-02-11/
CATEGORIES:Socios
END:VEVENT
BEGIN:VEVENT
DTSTART;TZID=America/Puerto_Rico:20300211T080000
DTEND;TZID=America/Puerto_Rico:20300211T163000
DTSTAMP:20260424T204530
CREATED:20251103T185220Z
LAST-MODIFIED:20251204T204656Z
UID:10005459-1897027200-1897057800@conexionlaboralsurestepr.org
SUMMARY:Visita Socio | One Stop Careers Center of PR
DESCRIPTION:Programa de Reintegración de Ex-Ofensores bajo Second Change Act
URL:https://conexionlaboralsurestepr.org/event/vista-socio-one-stop-careers-center-of-pr/2030-02-11/
CATEGORIES:Socios
END:VEVENT
BEGIN:VEVENT
DTSTART;TZID=America/Puerto_Rico:20300212T080000
DTEND;TZID=America/Puerto_Rico:20300212T163000
DTSTAMP:20260424T204530
CREATED:20251031T153427Z
LAST-MODIFIED:20251031T173748Z
UID:10001119-1897113600-1897144200@conexionlaboralsurestepr.org
SUMMARY:Visita Socio | Título I - B
DESCRIPTION:Programa Jóvenes\, Adultos y Desplazados
URL:https://conexionlaboralsurestepr.org/event/visita-socios-titulo-i-b/2030-02-12/
CATEGORIES:Socios
END:VEVENT
BEGIN:VEVENT
DTSTART;TZID=America/Puerto_Rico:20300212T080000
DTEND;TZID=America/Puerto_Rico:20300212T163000
DTSTAMP:20260424T204530
CREATED:20251031T173045Z
LAST-MODIFIED:20251204T204704Z
UID:10002945-1897113600-1897144200@conexionlaboralsurestepr.org
SUMMARY:Visita Socio | Departamento del Trabajo y Recursos Humanos (DTRH)
DESCRIPTION:Programa Veteranos (Capítulo 41 Título 38 del Código de EU)\nServicio de Empleo\, Programa Agrícola y Programa RESEA\nPrograma Seguro por Desempleo
URL:https://conexionlaboralsurestepr.org/event/vista-socio-departamento-del-trabajo-y-recursos-humanos-dtrh/2030-02-12/
CATEGORIES:Socios
END:VEVENT
END:VCALENDAR