BEGIN:VCALENDAR
VERSION:2.0
PRODID:-//Conexión Laboral Sureste - ECPv6.15.20//NONSGML v1.0//EN
CALSCALE:GREGORIAN
METHOD:PUBLISH
X-ORIGINAL-URL:https://conexionlaboralsurestepr.org
X-WR-CALDESC:Events for Conexión Laboral Sureste
REFRESH-INTERVAL;VALUE=DURATION:PT1H
X-Robots-Tag:noindex
X-PUBLISHED-TTL:PT1H
BEGIN:VTIMEZONE
TZID:America/Puerto_Rico
BEGIN:STANDARD
TZOFFSETFROM:-0400
TZOFFSETTO:-0400
TZNAME:AST
DTSTART:20240101T000000
END:STANDARD
END:VTIMEZONE
BEGIN:VEVENT
DTSTART;TZID=America/Puerto_Rico:20250908T080000
DTEND;TZID=America/Puerto_Rico:20250908T163000
DTSTAMP:20260419T152545
CREATED:20251031T153427Z
LAST-MODIFIED:20251031T173748Z
UID:10001311-1757318400-1757349000@conexionlaboralsurestepr.org
SUMMARY:Visita Socio | Título I - B
DESCRIPTION:Programa Jóvenes\, Adultos y Desplazados
URL:https://conexionlaboralsurestepr.org/event/visita-socios-titulo-i-b/2025-09-08/
CATEGORIES:Socios
END:VEVENT
BEGIN:VEVENT
DTSTART;TZID=America/Puerto_Rico:20250908T080000
DTEND;TZID=America/Puerto_Rico:20250908T163000
DTSTAMP:20260419T152545
CREATED:20251031T173045Z
LAST-MODIFIED:20251204T204704Z
UID:10001789-1757318400-1757349000@conexionlaboralsurestepr.org
SUMMARY:Visita Socio | Departamento del Trabajo y Recursos Humanos (DTRH)
DESCRIPTION:Programa Veteranos (Capítulo 41 Título 38 del Código de EU)\nServicio de Empleo\, Programa Agrícola y Programa RESEA\nPrograma Seguro por Desempleo
URL:https://conexionlaboralsurestepr.org/event/vista-socio-departamento-del-trabajo-y-recursos-humanos-dtrh/2025-09-08/
CATEGORIES:Socios
END:VEVENT
BEGIN:VEVENT
DTSTART;TZID=America/Puerto_Rico:20250908T080000
DTEND;TZID=America/Puerto_Rico:20250908T163000
DTSTAMP:20260419T152545
CREATED:20251103T185220Z
LAST-MODIFIED:20251204T204656Z
UID:10004073-1757318400-1757349000@conexionlaboralsurestepr.org
SUMMARY:Visita Socio | One Stop Careers Center of PR
DESCRIPTION:Programa de Reintegración de Ex-Ofensores bajo Second Change Act
URL:https://conexionlaboralsurestepr.org/event/vista-socio-one-stop-careers-center-of-pr/2025-09-08/
CATEGORIES:Socios
END:VEVENT
BEGIN:VEVENT
DTSTART;TZID=America/Puerto_Rico:20250909T080000
DTEND;TZID=America/Puerto_Rico:20250909T163000
DTSTAMP:20260419T152545
CREATED:20251031T153427Z
LAST-MODIFIED:20251031T173748Z
UID:10001312-1757404800-1757435400@conexionlaboralsurestepr.org
SUMMARY:Visita Socio | Título I - B
DESCRIPTION:Programa Jóvenes\, Adultos y Desplazados
URL:https://conexionlaboralsurestepr.org/event/visita-socios-titulo-i-b/2025-09-09/
CATEGORIES:Socios
END:VEVENT
BEGIN:VEVENT
DTSTART;TZID=America/Puerto_Rico:20250909T080000
DTEND;TZID=America/Puerto_Rico:20250909T163000
DTSTAMP:20260419T152545
CREATED:20251031T173045Z
LAST-MODIFIED:20251204T204704Z
UID:10001790-1757404800-1757435400@conexionlaboralsurestepr.org
SUMMARY:Visita Socio | Departamento del Trabajo y Recursos Humanos (DTRH)
DESCRIPTION:Programa Veteranos (Capítulo 41 Título 38 del Código de EU)\nServicio de Empleo\, Programa Agrícola y Programa RESEA\nPrograma Seguro por Desempleo
URL:https://conexionlaboralsurestepr.org/event/vista-socio-departamento-del-trabajo-y-recursos-humanos-dtrh/2025-09-09/
CATEGORIES:Socios
END:VEVENT
BEGIN:VEVENT
DTSTART;TZID=America/Puerto_Rico:20250909T080000
DTEND;TZID=America/Puerto_Rico:20250909T163000
DTSTAMP:20260419T152545
CREATED:20251103T185220Z
LAST-MODIFIED:20251204T204656Z
UID:10004074-1757404800-1757435400@conexionlaboralsurestepr.org
SUMMARY:Visita Socio | One Stop Careers Center of PR
DESCRIPTION:Programa de Reintegración de Ex-Ofensores bajo Second Change Act
URL:https://conexionlaboralsurestepr.org/event/vista-socio-one-stop-careers-center-of-pr/2025-09-09/
CATEGORIES:Socios
END:VEVENT
BEGIN:VEVENT
DTSTART;TZID=America/Puerto_Rico:20250910T080000
DTEND;TZID=America/Puerto_Rico:20250910T120000
DTSTAMP:20260419T152545
CREATED:20251103T185047Z
LAST-MODIFIED:20251204T204622Z
UID:10003798-1757491200-1757505600@conexionlaboralsurestepr.org
SUMMARY:Visita Socio | Título IV - "Social Security Act" Departamento de la Familia
DESCRIPTION:Programa TANF (Temporary Assistance for Needy Families)
URL:https://conexionlaboralsurestepr.org/event/vista-socio-titulo-iv-social-security-act-departamento-de-la-familia/2025-09-10/
CATEGORIES:Socios
END:VEVENT
BEGIN:VEVENT
DTSTART;TZID=America/Puerto_Rico:20250910T080000
DTEND;TZID=America/Puerto_Rico:20250910T163000
DTSTAMP:20260419T152545
CREATED:20251031T153427Z
LAST-MODIFIED:20251031T173748Z
UID:10001313-1757491200-1757521800@conexionlaboralsurestepr.org
SUMMARY:Visita Socio | Título I - B
DESCRIPTION:Programa Jóvenes\, Adultos y Desplazados
URL:https://conexionlaboralsurestepr.org/event/visita-socios-titulo-i-b/2025-09-10/
CATEGORIES:Socios
END:VEVENT
BEGIN:VEVENT
DTSTART;TZID=America/Puerto_Rico:20250910T080000
DTEND;TZID=America/Puerto_Rico:20250910T163000
DTSTAMP:20260419T152545
CREATED:20251031T173045Z
LAST-MODIFIED:20251204T204704Z
UID:10001791-1757491200-1757521800@conexionlaboralsurestepr.org
SUMMARY:Visita Socio | Departamento del Trabajo y Recursos Humanos (DTRH)
DESCRIPTION:Programa Veteranos (Capítulo 41 Título 38 del Código de EU)\nServicio de Empleo\, Programa Agrícola y Programa RESEA\nPrograma Seguro por Desempleo
URL:https://conexionlaboralsurestepr.org/event/vista-socio-departamento-del-trabajo-y-recursos-humanos-dtrh/2025-09-10/
CATEGORIES:Socios
END:VEVENT
BEGIN:VEVENT
DTSTART;TZID=America/Puerto_Rico:20250910T080000
DTEND;TZID=America/Puerto_Rico:20250910T163000
DTSTAMP:20260419T152545
CREATED:20251103T185220Z
LAST-MODIFIED:20251204T204656Z
UID:10004075-1757491200-1757521800@conexionlaboralsurestepr.org
SUMMARY:Visita Socio | One Stop Careers Center of PR
DESCRIPTION:Programa de Reintegración de Ex-Ofensores bajo Second Change Act
URL:https://conexionlaboralsurestepr.org/event/vista-socio-one-stop-careers-center-of-pr/2025-09-10/
CATEGORIES:Socios
END:VEVENT
BEGIN:VEVENT
DTSTART;TZID=America/Puerto_Rico:20250911T080000
DTEND;TZID=America/Puerto_Rico:20250911T163000
DTSTAMP:20260419T152545
CREATED:20251031T153427Z
LAST-MODIFIED:20251031T173748Z
UID:10001314-1757577600-1757608200@conexionlaboralsurestepr.org
SUMMARY:Visita Socio | Título I - B
DESCRIPTION:Programa Jóvenes\, Adultos y Desplazados
URL:https://conexionlaboralsurestepr.org/event/visita-socios-titulo-i-b/2025-09-11/
CATEGORIES:Socios
END:VEVENT
BEGIN:VEVENT
DTSTART;TZID=America/Puerto_Rico:20250911T080000
DTEND;TZID=America/Puerto_Rico:20250911T163000
DTSTAMP:20260419T152545
CREATED:20251031T173045Z
LAST-MODIFIED:20251204T204704Z
UID:10001792-1757577600-1757608200@conexionlaboralsurestepr.org
SUMMARY:Visita Socio | Departamento del Trabajo y Recursos Humanos (DTRH)
DESCRIPTION:Programa Veteranos (Capítulo 41 Título 38 del Código de EU)\nServicio de Empleo\, Programa Agrícola y Programa RESEA\nPrograma Seguro por Desempleo
URL:https://conexionlaboralsurestepr.org/event/vista-socio-departamento-del-trabajo-y-recursos-humanos-dtrh/2025-09-11/
CATEGORIES:Socios
END:VEVENT
BEGIN:VEVENT
DTSTART;TZID=America/Puerto_Rico:20250911T080000
DTEND;TZID=America/Puerto_Rico:20250911T163000
DTSTAMP:20260419T152545
CREATED:20251103T184914Z
LAST-MODIFIED:20251204T204647Z
UID:10003528-1757577600-1757608200@conexionlaboralsurestepr.org
SUMMARY:Visita Socio | Título II - Departamento de Educación
DESCRIPTION:Programa de Educación y Literacia de Adultos
URL:https://conexionlaboralsurestepr.org/event/vista-socio-titulo-ii-departamento-de-educacion/2025-09-11/
CATEGORIES:Socios
END:VEVENT
BEGIN:VEVENT
DTSTART;TZID=America/Puerto_Rico:20250911T080000
DTEND;TZID=America/Puerto_Rico:20250911T163000
DTSTAMP:20260419T152545
CREATED:20251103T185220Z
LAST-MODIFIED:20251204T204656Z
UID:10004076-1757577600-1757608200@conexionlaboralsurestepr.org
SUMMARY:Visita Socio | One Stop Careers Center of PR
DESCRIPTION:Programa de Reintegración de Ex-Ofensores bajo Second Change Act
URL:https://conexionlaboralsurestepr.org/event/vista-socio-one-stop-careers-center-of-pr/2025-09-11/
CATEGORIES:Socios
END:VEVENT
BEGIN:VEVENT
DTSTART;TZID=America/Puerto_Rico:20250912T080000
DTEND;TZID=America/Puerto_Rico:20250912T163000
DTSTAMP:20260419T152545
CREATED:20251031T153427Z
LAST-MODIFIED:20251031T173748Z
UID:10001649-1757664000-1757694600@conexionlaboralsurestepr.org
SUMMARY:Visita Socio | Título I - B
DESCRIPTION:Programa Jóvenes\, Adultos y Desplazados
URL:https://conexionlaboralsurestepr.org/event/visita-socios-titulo-i-b/2025-09-12/
CATEGORIES:Socios
END:VEVENT
BEGIN:VEVENT
DTSTART;TZID=America/Puerto_Rico:20250912T080000
DTEND;TZID=America/Puerto_Rico:20250912T163000
DTSTAMP:20260419T152545
CREATED:20251031T173045Z
LAST-MODIFIED:20251204T204704Z
UID:10001793-1757664000-1757694600@conexionlaboralsurestepr.org
SUMMARY:Visita Socio | Departamento del Trabajo y Recursos Humanos (DTRH)
DESCRIPTION:Programa Veteranos (Capítulo 41 Título 38 del Código de EU)\nServicio de Empleo\, Programa Agrícola y Programa RESEA\nPrograma Seguro por Desempleo
URL:https://conexionlaboralsurestepr.org/event/vista-socio-departamento-del-trabajo-y-recursos-humanos-dtrh/2025-09-12/
CATEGORIES:Socios
END:VEVENT
BEGIN:VEVENT
DTSTART;TZID=America/Puerto_Rico:20250912T080000
DTEND;TZID=America/Puerto_Rico:20250912T163000
DTSTAMP:20260419T152545
CREATED:20251103T185220Z
LAST-MODIFIED:20251204T204656Z
UID:10004077-1757664000-1757694600@conexionlaboralsurestepr.org
SUMMARY:Visita Socio | One Stop Careers Center of PR
DESCRIPTION:Programa de Reintegración de Ex-Ofensores bajo Second Change Act
URL:https://conexionlaboralsurestepr.org/event/vista-socio-one-stop-careers-center-of-pr/2025-09-12/
CATEGORIES:Socios
END:VEVENT
BEGIN:VEVENT
DTSTART;TZID=America/Puerto_Rico:20250914T080000
DTEND;TZID=America/Puerto_Rico:20250914T163000
DTSTAMP:20260419T152545
CREATED:20251103T185220Z
LAST-MODIFIED:20251204T204656Z
UID:10004078-1757836800-1757867400@conexionlaboralsurestepr.org
SUMMARY:Visita Socio | One Stop Careers Center of PR
DESCRIPTION:Programa de Reintegración de Ex-Ofensores bajo Second Change Act
URL:https://conexionlaboralsurestepr.org/event/vista-socio-one-stop-careers-center-of-pr/2025-09-14/
CATEGORIES:Socios
END:VEVENT
END:VCALENDAR