BEGIN:VCALENDAR
VERSION:2.0
PRODID:-//Conexión Laboral Sureste - ECPv6.15.20//NONSGML v1.0//EN
CALSCALE:GREGORIAN
METHOD:PUBLISH
X-ORIGINAL-URL:https://conexionlaboralsurestepr.org
X-WR-CALDESC:Events for Conexión Laboral Sureste
REFRESH-INTERVAL;VALUE=DURATION:PT1H
X-Robots-Tag:noindex
X-PUBLISHED-TTL:PT1H
BEGIN:VTIMEZONE
TZID:America/Puerto_Rico
BEGIN:STANDARD
TZOFFSETFROM:-0400
TZOFFSETTO:-0400
TZNAME:AST
DTSTART:20240101T000000
END:STANDARD
END:VTIMEZONE
BEGIN:VEVENT
DTSTART;TZID=America/Puerto_Rico:20251027T080000
DTEND;TZID=America/Puerto_Rico:20251027T163000
DTSTAMP:20260419T124945
CREATED:20251031T153427Z
LAST-MODIFIED:20251031T173748Z
UID:10001339-1761552000-1761582600@conexionlaboralsurestepr.org
SUMMARY:Visita Socio | Título I - B
DESCRIPTION:Programa Jóvenes\, Adultos y Desplazados
URL:https://conexionlaboralsurestepr.org/event/visita-socios-titulo-i-b/2025-10-27/
CATEGORIES:Socios
END:VEVENT
BEGIN:VEVENT
DTSTART;TZID=America/Puerto_Rico:20251027T080000
DTEND;TZID=America/Puerto_Rico:20251027T163000
DTSTAMP:20260419T124945
CREATED:20251031T173045Z
LAST-MODIFIED:20251204T204704Z
UID:10001824-1761552000-1761582600@conexionlaboralsurestepr.org
SUMMARY:Visita Socio | Departamento del Trabajo y Recursos Humanos (DTRH)
DESCRIPTION:Programa Veteranos (Capítulo 41 Título 38 del Código de EU)\nServicio de Empleo\, Programa Agrícola y Programa RESEA\nPrograma Seguro por Desempleo
URL:https://conexionlaboralsurestepr.org/event/vista-socio-departamento-del-trabajo-y-recursos-humanos-dtrh/2025-10-27/
CATEGORIES:Socios
END:VEVENT
BEGIN:VEVENT
DTSTART;TZID=America/Puerto_Rico:20251027T080000
DTEND;TZID=America/Puerto_Rico:20251027T163000
DTSTAMP:20260419T124945
CREATED:20251103T185220Z
LAST-MODIFIED:20251204T204656Z
UID:10004115-1761552000-1761582600@conexionlaboralsurestepr.org
SUMMARY:Visita Socio | One Stop Careers Center of PR
DESCRIPTION:Programa de Reintegración de Ex-Ofensores bajo Second Change Act
URL:https://conexionlaboralsurestepr.org/event/vista-socio-one-stop-careers-center-of-pr/2025-10-27/
CATEGORIES:Socios
END:VEVENT
BEGIN:VEVENT
DTSTART;TZID=America/Puerto_Rico:20251028T080000
DTEND;TZID=America/Puerto_Rico:20251028T163000
DTSTAMP:20260419T124945
CREATED:20251031T153427Z
LAST-MODIFIED:20251031T173748Z
UID:10001340-1761638400-1761669000@conexionlaboralsurestepr.org
SUMMARY:Visita Socio | Título I - B
DESCRIPTION:Programa Jóvenes\, Adultos y Desplazados
URL:https://conexionlaboralsurestepr.org/event/visita-socios-titulo-i-b/2025-10-28/
CATEGORIES:Socios
END:VEVENT
BEGIN:VEVENT
DTSTART;TZID=America/Puerto_Rico:20251028T080000
DTEND;TZID=America/Puerto_Rico:20251028T163000
DTSTAMP:20260419T124945
CREATED:20251031T173045Z
LAST-MODIFIED:20251204T204704Z
UID:10001825-1761638400-1761669000@conexionlaboralsurestepr.org
SUMMARY:Visita Socio | Departamento del Trabajo y Recursos Humanos (DTRH)
DESCRIPTION:Programa Veteranos (Capítulo 41 Título 38 del Código de EU)\nServicio de Empleo\, Programa Agrícola y Programa RESEA\nPrograma Seguro por Desempleo
URL:https://conexionlaboralsurestepr.org/event/vista-socio-departamento-del-trabajo-y-recursos-humanos-dtrh/2025-10-28/
CATEGORIES:Socios
END:VEVENT
BEGIN:VEVENT
DTSTART;TZID=America/Puerto_Rico:20251028T080000
DTEND;TZID=America/Puerto_Rico:20251028T163000
DTSTAMP:20260419T124945
CREATED:20251103T185220Z
LAST-MODIFIED:20251204T204656Z
UID:10004116-1761638400-1761669000@conexionlaboralsurestepr.org
SUMMARY:Visita Socio | One Stop Careers Center of PR
DESCRIPTION:Programa de Reintegración de Ex-Ofensores bajo Second Change Act
URL:https://conexionlaboralsurestepr.org/event/vista-socio-one-stop-careers-center-of-pr/2025-10-28/
CATEGORIES:Socios
END:VEVENT
BEGIN:VEVENT
DTSTART;TZID=America/Puerto_Rico:20251029T080000
DTEND;TZID=America/Puerto_Rico:20251029T120000
DTSTAMP:20260419T124945
CREATED:20251103T185047Z
LAST-MODIFIED:20251204T204622Z
UID:10003805-1761724800-1761739200@conexionlaboralsurestepr.org
SUMMARY:Visita Socio | Título IV - "Social Security Act" Departamento de la Familia
DESCRIPTION:Programa TANF (Temporary Assistance for Needy Families)
URL:https://conexionlaboralsurestepr.org/event/vista-socio-titulo-iv-social-security-act-departamento-de-la-familia/2025-10-29/
CATEGORIES:Socios
END:VEVENT
BEGIN:VEVENT
DTSTART;TZID=America/Puerto_Rico:20251029T080000
DTEND;TZID=America/Puerto_Rico:20251029T163000
DTSTAMP:20260419T124945
CREATED:20251031T153427Z
LAST-MODIFIED:20251031T173748Z
UID:10001341-1761724800-1761755400@conexionlaboralsurestepr.org
SUMMARY:Visita Socio | Título I - B
DESCRIPTION:Programa Jóvenes\, Adultos y Desplazados
URL:https://conexionlaboralsurestepr.org/event/visita-socios-titulo-i-b/2025-10-29/
CATEGORIES:Socios
END:VEVENT
BEGIN:VEVENT
DTSTART;TZID=America/Puerto_Rico:20251029T080000
DTEND;TZID=America/Puerto_Rico:20251029T163000
DTSTAMP:20260419T124945
CREATED:20251031T173045Z
LAST-MODIFIED:20251204T204704Z
UID:10001826-1761724800-1761755400@conexionlaboralsurestepr.org
SUMMARY:Visita Socio | Departamento del Trabajo y Recursos Humanos (DTRH)
DESCRIPTION:Programa Veteranos (Capítulo 41 Título 38 del Código de EU)\nServicio de Empleo\, Programa Agrícola y Programa RESEA\nPrograma Seguro por Desempleo
URL:https://conexionlaboralsurestepr.org/event/vista-socio-departamento-del-trabajo-y-recursos-humanos-dtrh/2025-10-29/
CATEGORIES:Socios
END:VEVENT
BEGIN:VEVENT
DTSTART;TZID=America/Puerto_Rico:20251029T080000
DTEND;TZID=America/Puerto_Rico:20251029T163000
DTSTAMP:20260419T124945
CREATED:20251103T185220Z
LAST-MODIFIED:20251204T204656Z
UID:10004117-1761724800-1761755400@conexionlaboralsurestepr.org
SUMMARY:Visita Socio | One Stop Careers Center of PR
DESCRIPTION:Programa de Reintegración de Ex-Ofensores bajo Second Change Act
URL:https://conexionlaboralsurestepr.org/event/vista-socio-one-stop-careers-center-of-pr/2025-10-29/
CATEGORIES:Socios
END:VEVENT
BEGIN:VEVENT
DTSTART;TZID=America/Puerto_Rico:20251030T080000
DTEND;TZID=America/Puerto_Rico:20251030T163000
DTSTAMP:20260419T124945
CREATED:20251031T153427Z
LAST-MODIFIED:20251031T173748Z
UID:10001342-1761811200-1761841800@conexionlaboralsurestepr.org
SUMMARY:Visita Socio | Título I - B
DESCRIPTION:Programa Jóvenes\, Adultos y Desplazados
URL:https://conexionlaboralsurestepr.org/event/visita-socios-titulo-i-b/2025-10-30/
CATEGORIES:Socios
END:VEVENT
BEGIN:VEVENT
DTSTART;TZID=America/Puerto_Rico:20251030T080000
DTEND;TZID=America/Puerto_Rico:20251030T163000
DTSTAMP:20260419T124945
CREATED:20251031T173045Z
LAST-MODIFIED:20251204T204704Z
UID:10001827-1761811200-1761841800@conexionlaboralsurestepr.org
SUMMARY:Visita Socio | Departamento del Trabajo y Recursos Humanos (DTRH)
DESCRIPTION:Programa Veteranos (Capítulo 41 Título 38 del Código de EU)\nServicio de Empleo\, Programa Agrícola y Programa RESEA\nPrograma Seguro por Desempleo
URL:https://conexionlaboralsurestepr.org/event/vista-socio-departamento-del-trabajo-y-recursos-humanos-dtrh/2025-10-30/
CATEGORIES:Socios
END:VEVENT
BEGIN:VEVENT
DTSTART;TZID=America/Puerto_Rico:20251030T080000
DTEND;TZID=America/Puerto_Rico:20251030T163000
DTSTAMP:20260419T124945
CREATED:20251103T184914Z
LAST-MODIFIED:20251204T204647Z
UID:10003535-1761811200-1761841800@conexionlaboralsurestepr.org
SUMMARY:Visita Socio | Título II - Departamento de Educación
DESCRIPTION:Programa de Educación y Literacia de Adultos
URL:https://conexionlaboralsurestepr.org/event/vista-socio-titulo-ii-departamento-de-educacion/2025-10-30/
CATEGORIES:Socios
END:VEVENT
BEGIN:VEVENT
DTSTART;TZID=America/Puerto_Rico:20251030T080000
DTEND;TZID=America/Puerto_Rico:20251030T163000
DTSTAMP:20260419T124945
CREATED:20251103T185220Z
LAST-MODIFIED:20251204T204656Z
UID:10004118-1761811200-1761841800@conexionlaboralsurestepr.org
SUMMARY:Visita Socio | One Stop Careers Center of PR
DESCRIPTION:Programa de Reintegración de Ex-Ofensores bajo Second Change Act
URL:https://conexionlaboralsurestepr.org/event/vista-socio-one-stop-careers-center-of-pr/2025-10-30/
CATEGORIES:Socios
END:VEVENT
BEGIN:VEVENT
DTSTART;TZID=America/Puerto_Rico:20251031T080000
DTEND;TZID=America/Puerto_Rico:20251031T163000
DTSTAMP:20260419T124945
CREATED:20251031T153427Z
LAST-MODIFIED:20251031T173748Z
UID:10001656-1761897600-1761928200@conexionlaboralsurestepr.org
SUMMARY:Visita Socio | Título I - B
DESCRIPTION:Programa Jóvenes\, Adultos y Desplazados
URL:https://conexionlaboralsurestepr.org/event/visita-socios-titulo-i-b/2025-10-31/
CATEGORIES:Socios
END:VEVENT
BEGIN:VEVENT
DTSTART;TZID=America/Puerto_Rico:20251031T080000
DTEND;TZID=America/Puerto_Rico:20251031T163000
DTSTAMP:20260419T124945
CREATED:20251031T173045Z
LAST-MODIFIED:20251204T204704Z
UID:10001828-1761897600-1761928200@conexionlaboralsurestepr.org
SUMMARY:Visita Socio | Departamento del Trabajo y Recursos Humanos (DTRH)
DESCRIPTION:Programa Veteranos (Capítulo 41 Título 38 del Código de EU)\nServicio de Empleo\, Programa Agrícola y Programa RESEA\nPrograma Seguro por Desempleo
URL:https://conexionlaboralsurestepr.org/event/vista-socio-departamento-del-trabajo-y-recursos-humanos-dtrh/2025-10-31/
CATEGORIES:Socios
END:VEVENT
BEGIN:VEVENT
DTSTART;TZID=America/Puerto_Rico:20251031T080000
DTEND;TZID=America/Puerto_Rico:20251031T163000
DTSTAMP:20260419T124945
CREATED:20251103T185220Z
LAST-MODIFIED:20251204T204656Z
UID:10004119-1761897600-1761928200@conexionlaboralsurestepr.org
SUMMARY:Visita Socio | One Stop Careers Center of PR
DESCRIPTION:Programa de Reintegración de Ex-Ofensores bajo Second Change Act
URL:https://conexionlaboralsurestepr.org/event/vista-socio-one-stop-careers-center-of-pr/2025-10-31/
CATEGORIES:Socios
END:VEVENT
BEGIN:VEVENT
DTSTART;TZID=America/Puerto_Rico:20251102T080000
DTEND;TZID=America/Puerto_Rico:20251102T163000
DTSTAMP:20260419T124945
CREATED:20251103T185220Z
LAST-MODIFIED:20251204T204656Z
UID:10004120-1762070400-1762101000@conexionlaboralsurestepr.org
SUMMARY:Visita Socio | One Stop Careers Center of PR
DESCRIPTION:Programa de Reintegración de Ex-Ofensores bajo Second Change Act
URL:https://conexionlaboralsurestepr.org/event/vista-socio-one-stop-careers-center-of-pr/2025-11-02/
CATEGORIES:Socios
END:VEVENT
END:VCALENDAR