BEGIN:VCALENDAR
VERSION:2.0
PRODID:-//Conexión Laboral Sureste - ECPv6.15.20//NONSGML v1.0//EN
CALSCALE:GREGORIAN
METHOD:PUBLISH
X-WR-CALNAME:Conexión Laboral Sureste
X-ORIGINAL-URL:https://conexionlaboralsurestepr.org
X-WR-CALDESC:Events for Conexión Laboral Sureste
REFRESH-INTERVAL;VALUE=DURATION:PT1H
X-Robots-Tag:noindex
X-PUBLISHED-TTL:PT1H
BEGIN:VTIMEZONE
TZID:America/Puerto_Rico
BEGIN:STANDARD
TZOFFSETFROM:-0400
TZOFFSETTO:-0400
TZNAME:AST
DTSTART:20250101T000000
END:STANDARD
END:VTIMEZONE
BEGIN:VEVENT
DTSTART;TZID=America/Puerto_Rico:20260720T080000
DTEND;TZID=America/Puerto_Rico:20260720T163000
DTSTAMP:20260419T090637
CREATED:20251031T153427Z
LAST-MODIFIED:20251031T173748Z
UID:10003163-1784534400-1784565000@conexionlaboralsurestepr.org
SUMMARY:Visita Socio | Título I - B
DESCRIPTION:Programa Jóvenes\, Adultos y Desplazados
URL:https://conexionlaboralsurestepr.org/event/visita-socios-titulo-i-b/2026-07-20/
CATEGORIES:Socios
END:VEVENT
BEGIN:VEVENT
DTSTART;TZID=America/Puerto_Rico:20260720T080000
DTEND;TZID=America/Puerto_Rico:20260720T163000
DTSTAMP:20260419T090637
CREATED:20251031T173045Z
LAST-MODIFIED:20251204T204704Z
UID:10002014-1784534400-1784565000@conexionlaboralsurestepr.org
SUMMARY:Visita Socio | Departamento del Trabajo y Recursos Humanos (DTRH)
DESCRIPTION:Programa Veteranos (Capítulo 41 Título 38 del Código de EU)\nServicio de Empleo\, Programa Agrícola y Programa RESEA\nPrograma Seguro por Desempleo
URL:https://conexionlaboralsurestepr.org/event/vista-socio-departamento-del-trabajo-y-recursos-humanos-dtrh/2026-07-20/
CATEGORIES:Socios
END:VEVENT
BEGIN:VEVENT
DTSTART;TZID=America/Puerto_Rico:20260720T080000
DTEND;TZID=America/Puerto_Rico:20260720T163000
DTSTAMP:20260419T090637
CREATED:20251103T185220Z
LAST-MODIFIED:20251204T204656Z
UID:10004343-1784534400-1784565000@conexionlaboralsurestepr.org
SUMMARY:Visita Socio | One Stop Careers Center of PR
DESCRIPTION:Programa de Reintegración de Ex-Ofensores bajo Second Change Act
URL:https://conexionlaboralsurestepr.org/event/vista-socio-one-stop-careers-center-of-pr/2026-07-20/
CATEGORIES:Socios
END:VEVENT
BEGIN:VEVENT
DTSTART;TZID=America/Puerto_Rico:20260721T080000
DTEND;TZID=America/Puerto_Rico:20260721T163000
DTSTAMP:20260419T090637
CREATED:20251031T153427Z
LAST-MODIFIED:20251031T173748Z
UID:10003164-1784620800-1784651400@conexionlaboralsurestepr.org
SUMMARY:Visita Socio | Título I - B
DESCRIPTION:Programa Jóvenes\, Adultos y Desplazados
URL:https://conexionlaboralsurestepr.org/event/visita-socios-titulo-i-b/2026-07-21/
CATEGORIES:Socios
END:VEVENT
BEGIN:VEVENT
DTSTART;TZID=America/Puerto_Rico:20260721T080000
DTEND;TZID=America/Puerto_Rico:20260721T163000
DTSTAMP:20260419T090637
CREATED:20251031T173045Z
LAST-MODIFIED:20251204T204704Z
UID:10002015-1784620800-1784651400@conexionlaboralsurestepr.org
SUMMARY:Visita Socio | Departamento del Trabajo y Recursos Humanos (DTRH)
DESCRIPTION:Programa Veteranos (Capítulo 41 Título 38 del Código de EU)\nServicio de Empleo\, Programa Agrícola y Programa RESEA\nPrograma Seguro por Desempleo
URL:https://conexionlaboralsurestepr.org/event/vista-socio-departamento-del-trabajo-y-recursos-humanos-dtrh/2026-07-21/
CATEGORIES:Socios
END:VEVENT
BEGIN:VEVENT
DTSTART;TZID=America/Puerto_Rico:20260721T080000
DTEND;TZID=America/Puerto_Rico:20260721T163000
DTSTAMP:20260419T090637
CREATED:20251103T185220Z
LAST-MODIFIED:20251204T204656Z
UID:10004344-1784620800-1784651400@conexionlaboralsurestepr.org
SUMMARY:Visita Socio | One Stop Careers Center of PR
DESCRIPTION:Programa de Reintegración de Ex-Ofensores bajo Second Change Act
URL:https://conexionlaboralsurestepr.org/event/vista-socio-one-stop-careers-center-of-pr/2026-07-21/
CATEGORIES:Socios
END:VEVENT
BEGIN:VEVENT
DTSTART;TZID=America/Puerto_Rico:20260722T080000
DTEND;TZID=America/Puerto_Rico:20260722T120000
DTSTAMP:20260419T090637
CREATED:20251103T185047Z
LAST-MODIFIED:20251204T204622Z
UID:10003843-1784707200-1784721600@conexionlaboralsurestepr.org
SUMMARY:Visita Socio | Título IV - "Social Security Act" Departamento de la Familia
DESCRIPTION:Programa TANF (Temporary Assistance for Needy Families)
URL:https://conexionlaboralsurestepr.org/event/vista-socio-titulo-iv-social-security-act-departamento-de-la-familia/2026-07-22/
CATEGORIES:Socios
END:VEVENT
BEGIN:VEVENT
DTSTART;TZID=America/Puerto_Rico:20260722T080000
DTEND;TZID=America/Puerto_Rico:20260722T163000
DTSTAMP:20260419T090638
CREATED:20251031T153427Z
LAST-MODIFIED:20251031T173748Z
UID:10000190-1784707200-1784737800@conexionlaboralsurestepr.org
SUMMARY:Visita Socio | Título I - B
DESCRIPTION:Programa Jóvenes\, Adultos y Desplazados
URL:https://conexionlaboralsurestepr.org/event/visita-socios-titulo-i-b/2026-07-22/
CATEGORIES:Socios
END:VEVENT
BEGIN:VEVENT
DTSTART;TZID=America/Puerto_Rico:20260722T080000
DTEND;TZID=America/Puerto_Rico:20260722T163000
DTSTAMP:20260419T090638
CREATED:20251031T173045Z
LAST-MODIFIED:20251204T204704Z
UID:10002016-1784707200-1784737800@conexionlaboralsurestepr.org
SUMMARY:Visita Socio | Departamento del Trabajo y Recursos Humanos (DTRH)
DESCRIPTION:Programa Veteranos (Capítulo 41 Título 38 del Código de EU)\nServicio de Empleo\, Programa Agrícola y Programa RESEA\nPrograma Seguro por Desempleo
URL:https://conexionlaboralsurestepr.org/event/vista-socio-departamento-del-trabajo-y-recursos-humanos-dtrh/2026-07-22/
CATEGORIES:Socios
END:VEVENT
BEGIN:VEVENT
DTSTART;TZID=America/Puerto_Rico:20260722T080000
DTEND;TZID=America/Puerto_Rico:20260722T163000
DTSTAMP:20260419T090638
CREATED:20251103T185220Z
LAST-MODIFIED:20251204T204656Z
UID:10004345-1784707200-1784737800@conexionlaboralsurestepr.org
SUMMARY:Visita Socio | One Stop Careers Center of PR
DESCRIPTION:Programa de Reintegración de Ex-Ofensores bajo Second Change Act
URL:https://conexionlaboralsurestepr.org/event/vista-socio-one-stop-careers-center-of-pr/2026-07-22/
CATEGORIES:Socios
END:VEVENT
BEGIN:VEVENT
DTSTART;TZID=America/Puerto_Rico:20260723T080000
DTEND;TZID=America/Puerto_Rico:20260723T163000
DTSTAMP:20260419T090638
CREATED:20251031T153427Z
LAST-MODIFIED:20251031T173748Z
UID:10000191-1784793600-1784824200@conexionlaboralsurestepr.org
SUMMARY:Visita Socio | Título I - B
DESCRIPTION:Programa Jóvenes\, Adultos y Desplazados
URL:https://conexionlaboralsurestepr.org/event/visita-socios-titulo-i-b/2026-07-23/
CATEGORIES:Socios
END:VEVENT
BEGIN:VEVENT
DTSTART;TZID=America/Puerto_Rico:20260723T080000
DTEND;TZID=America/Puerto_Rico:20260723T163000
DTSTAMP:20260419T090638
CREATED:20251031T173045Z
LAST-MODIFIED:20251204T204704Z
UID:10002017-1784793600-1784824200@conexionlaboralsurestepr.org
SUMMARY:Visita Socio | Departamento del Trabajo y Recursos Humanos (DTRH)
DESCRIPTION:Programa Veteranos (Capítulo 41 Título 38 del Código de EU)\nServicio de Empleo\, Programa Agrícola y Programa RESEA\nPrograma Seguro por Desempleo
URL:https://conexionlaboralsurestepr.org/event/vista-socio-departamento-del-trabajo-y-recursos-humanos-dtrh/2026-07-23/
CATEGORIES:Socios
END:VEVENT
BEGIN:VEVENT
DTSTART;TZID=America/Puerto_Rico:20260723T080000
DTEND;TZID=America/Puerto_Rico:20260723T163000
DTSTAMP:20260419T090638
CREATED:20251103T184914Z
LAST-MODIFIED:20251204T204647Z
UID:10003573-1784793600-1784824200@conexionlaboralsurestepr.org
SUMMARY:Visita Socio | Título II - Departamento de Educación
DESCRIPTION:Programa de Educación y Literacia de Adultos
URL:https://conexionlaboralsurestepr.org/event/vista-socio-titulo-ii-departamento-de-educacion/2026-07-23/
CATEGORIES:Socios
END:VEVENT
BEGIN:VEVENT
DTSTART;TZID=America/Puerto_Rico:20260723T080000
DTEND;TZID=America/Puerto_Rico:20260723T163000
DTSTAMP:20260419T090638
CREATED:20251103T185220Z
LAST-MODIFIED:20251204T204656Z
UID:10004346-1784793600-1784824200@conexionlaboralsurestepr.org
SUMMARY:Visita Socio | One Stop Careers Center of PR
DESCRIPTION:Programa de Reintegración de Ex-Ofensores bajo Second Change Act
URL:https://conexionlaboralsurestepr.org/event/vista-socio-one-stop-careers-center-of-pr/2026-07-23/
CATEGORIES:Socios
END:VEVENT
BEGIN:VEVENT
DTSTART;TZID=America/Puerto_Rico:20260724T080000
DTEND;TZID=America/Puerto_Rico:20260724T163000
DTSTAMP:20260419T090638
CREATED:20251031T153427Z
LAST-MODIFIED:20251031T173748Z
UID:10003165-1784880000-1784910600@conexionlaboralsurestepr.org
SUMMARY:Visita Socio | Título I - B
DESCRIPTION:Programa Jóvenes\, Adultos y Desplazados
URL:https://conexionlaboralsurestepr.org/event/visita-socios-titulo-i-b/2026-07-24/
CATEGORIES:Socios
END:VEVENT
BEGIN:VEVENT
DTSTART;TZID=America/Puerto_Rico:20260724T080000
DTEND;TZID=America/Puerto_Rico:20260724T163000
DTSTAMP:20260419T090638
CREATED:20251031T173045Z
LAST-MODIFIED:20251204T204704Z
UID:10002018-1784880000-1784910600@conexionlaboralsurestepr.org
SUMMARY:Visita Socio | Departamento del Trabajo y Recursos Humanos (DTRH)
DESCRIPTION:Programa Veteranos (Capítulo 41 Título 38 del Código de EU)\nServicio de Empleo\, Programa Agrícola y Programa RESEA\nPrograma Seguro por Desempleo
URL:https://conexionlaboralsurestepr.org/event/vista-socio-departamento-del-trabajo-y-recursos-humanos-dtrh/2026-07-24/
CATEGORIES:Socios
END:VEVENT
BEGIN:VEVENT
DTSTART;TZID=America/Puerto_Rico:20260724T080000
DTEND;TZID=America/Puerto_Rico:20260724T163000
DTSTAMP:20260419T090638
CREATED:20251103T185220Z
LAST-MODIFIED:20251204T204656Z
UID:10004347-1784880000-1784910600@conexionlaboralsurestepr.org
SUMMARY:Visita Socio | One Stop Careers Center of PR
DESCRIPTION:Programa de Reintegración de Ex-Ofensores bajo Second Change Act
URL:https://conexionlaboralsurestepr.org/event/vista-socio-one-stop-careers-center-of-pr/2026-07-24/
CATEGORIES:Socios
END:VEVENT
BEGIN:VEVENT
DTSTART;TZID=America/Puerto_Rico:20260726T080000
DTEND;TZID=America/Puerto_Rico:20260726T163000
DTSTAMP:20260419T090638
CREATED:20251103T185220Z
LAST-MODIFIED:20251204T204656Z
UID:10004348-1785052800-1785083400@conexionlaboralsurestepr.org
SUMMARY:Visita Socio | One Stop Careers Center of PR
DESCRIPTION:Programa de Reintegración de Ex-Ofensores bajo Second Change Act
URL:https://conexionlaboralsurestepr.org/event/vista-socio-one-stop-careers-center-of-pr/2026-07-26/
CATEGORIES:Socios
END:VEVENT
END:VCALENDAR