BEGIN:VCALENDAR
VERSION:2.0
PRODID:-//Conexión Laboral Sureste - ECPv6.15.20//NONSGML v1.0//EN
CALSCALE:GREGORIAN
METHOD:PUBLISH
X-WR-CALNAME:Conexión Laboral Sureste
X-ORIGINAL-URL:https://conexionlaboralsurestepr.org
X-WR-CALDESC:Events for Conexión Laboral Sureste
REFRESH-INTERVAL;VALUE=DURATION:PT1H
X-Robots-Tag:noindex
X-PUBLISHED-TTL:PT1H
BEGIN:VTIMEZONE
TZID:America/Puerto_Rico
BEGIN:STANDARD
TZOFFSETFROM:-0400
TZOFFSETTO:-0400
TZNAME:AST
DTSTART:20260101T000000
END:STANDARD
END:VTIMEZONE
BEGIN:VEVENT
DTSTART;TZID=America/Puerto_Rico:20270125T080000
DTEND;TZID=America/Puerto_Rico:20270125T163000
DTSTAMP:20260419T195020
CREATED:20251031T153427Z
LAST-MODIFIED:20251031T173748Z
UID:10000323-1800864000-1800894600@conexionlaboralsurestepr.org
SUMMARY:Visita Socio | Título I - B
DESCRIPTION:Programa Jóvenes\, Adultos y Desplazados
URL:https://conexionlaboralsurestepr.org/event/visita-socios-titulo-i-b/2027-01-25/
CATEGORIES:Socios
END:VEVENT
BEGIN:VEVENT
DTSTART;TZID=America/Puerto_Rico:20270125T080000
DTEND;TZID=America/Puerto_Rico:20270125T163000
DTSTAMP:20260419T195020
CREATED:20251031T173045Z
LAST-MODIFIED:20251204T204704Z
UID:10002149-1800864000-1800894600@conexionlaboralsurestepr.org
SUMMARY:Visita Socio | Departamento del Trabajo y Recursos Humanos (DTRH)
DESCRIPTION:Programa Veteranos (Capítulo 41 Título 38 del Código de EU)\nServicio de Empleo\, Programa Agrícola y Programa RESEA\nPrograma Seguro por Desempleo
URL:https://conexionlaboralsurestepr.org/event/vista-socio-departamento-del-trabajo-y-recursos-humanos-dtrh/2027-01-25/
CATEGORIES:Socios
END:VEVENT
BEGIN:VEVENT
DTSTART;TZID=America/Puerto_Rico:20270125T080000
DTEND;TZID=America/Puerto_Rico:20270125T163000
DTSTAMP:20260419T195020
CREATED:20251103T185220Z
LAST-MODIFIED:20251204T204656Z
UID:10004505-1800864000-1800894600@conexionlaboralsurestepr.org
SUMMARY:Visita Socio | One Stop Careers Center of PR
DESCRIPTION:Programa de Reintegración de Ex-Ofensores bajo Second Change Act
URL:https://conexionlaboralsurestepr.org/event/vista-socio-one-stop-careers-center-of-pr/2027-01-25/
CATEGORIES:Socios
END:VEVENT
BEGIN:VEVENT
DTSTART;TZID=America/Puerto_Rico:20270126T080000
DTEND;TZID=America/Puerto_Rico:20270126T163000
DTSTAMP:20260419T195020
CREATED:20251031T153427Z
LAST-MODIFIED:20251031T173748Z
UID:10000324-1800950400-1800981000@conexionlaboralsurestepr.org
SUMMARY:Visita Socio | Título I - B
DESCRIPTION:Programa Jóvenes\, Adultos y Desplazados
URL:https://conexionlaboralsurestepr.org/event/visita-socios-titulo-i-b/2027-01-26/
CATEGORIES:Socios
END:VEVENT
BEGIN:VEVENT
DTSTART;TZID=America/Puerto_Rico:20270126T080000
DTEND;TZID=America/Puerto_Rico:20270126T163000
DTSTAMP:20260419T195020
CREATED:20251031T173045Z
LAST-MODIFIED:20251204T204704Z
UID:10002150-1800950400-1800981000@conexionlaboralsurestepr.org
SUMMARY:Visita Socio | Departamento del Trabajo y Recursos Humanos (DTRH)
DESCRIPTION:Programa Veteranos (Capítulo 41 Título 38 del Código de EU)\nServicio de Empleo\, Programa Agrícola y Programa RESEA\nPrograma Seguro por Desempleo
URL:https://conexionlaboralsurestepr.org/event/vista-socio-departamento-del-trabajo-y-recursos-humanos-dtrh/2027-01-26/
CATEGORIES:Socios
END:VEVENT
BEGIN:VEVENT
DTSTART;TZID=America/Puerto_Rico:20270126T080000
DTEND;TZID=America/Puerto_Rico:20270126T163000
DTSTAMP:20260419T195020
CREATED:20251103T185220Z
LAST-MODIFIED:20251204T204656Z
UID:10004506-1800950400-1800981000@conexionlaboralsurestepr.org
SUMMARY:Visita Socio | One Stop Careers Center of PR
DESCRIPTION:Programa de Reintegración de Ex-Ofensores bajo Second Change Act
URL:https://conexionlaboralsurestepr.org/event/vista-socio-one-stop-careers-center-of-pr/2027-01-26/
CATEGORIES:Socios
END:VEVENT
BEGIN:VEVENT
DTSTART;TZID=America/Puerto_Rico:20270127T080000
DTEND;TZID=America/Puerto_Rico:20270127T120000
DTSTAMP:20260419T195020
CREATED:20251103T185047Z
LAST-MODIFIED:20251204T204622Z
UID:10003870-1801036800-1801051200@conexionlaboralsurestepr.org
SUMMARY:Visita Socio | Título IV - "Social Security Act" Departamento de la Familia
DESCRIPTION:Programa TANF (Temporary Assistance for Needy Families)
URL:https://conexionlaboralsurestepr.org/event/vista-socio-titulo-iv-social-security-act-departamento-de-la-familia/2027-01-27/
CATEGORIES:Socios
END:VEVENT
BEGIN:VEVENT
DTSTART;TZID=America/Puerto_Rico:20270127T080000
DTEND;TZID=America/Puerto_Rico:20270127T163000
DTSTAMP:20260419T195020
CREATED:20251031T153427Z
LAST-MODIFIED:20251031T173748Z
UID:10000325-1801036800-1801067400@conexionlaboralsurestepr.org
SUMMARY:Visita Socio | Título I - B
DESCRIPTION:Programa Jóvenes\, Adultos y Desplazados
URL:https://conexionlaboralsurestepr.org/event/visita-socios-titulo-i-b/2027-01-27/
CATEGORIES:Socios
END:VEVENT
BEGIN:VEVENT
DTSTART;TZID=America/Puerto_Rico:20270127T080000
DTEND;TZID=America/Puerto_Rico:20270127T163000
DTSTAMP:20260419T195020
CREATED:20251031T173045Z
LAST-MODIFIED:20251204T204704Z
UID:10002151-1801036800-1801067400@conexionlaboralsurestepr.org
SUMMARY:Visita Socio | Departamento del Trabajo y Recursos Humanos (DTRH)
DESCRIPTION:Programa Veteranos (Capítulo 41 Título 38 del Código de EU)\nServicio de Empleo\, Programa Agrícola y Programa RESEA\nPrograma Seguro por Desempleo
URL:https://conexionlaboralsurestepr.org/event/vista-socio-departamento-del-trabajo-y-recursos-humanos-dtrh/2027-01-27/
CATEGORIES:Socios
END:VEVENT
BEGIN:VEVENT
DTSTART;TZID=America/Puerto_Rico:20270127T080000
DTEND;TZID=America/Puerto_Rico:20270127T163000
DTSTAMP:20260419T195020
CREATED:20251103T185220Z
LAST-MODIFIED:20251204T204656Z
UID:10004507-1801036800-1801067400@conexionlaboralsurestepr.org
SUMMARY:Visita Socio | One Stop Careers Center of PR
DESCRIPTION:Programa de Reintegración de Ex-Ofensores bajo Second Change Act
URL:https://conexionlaboralsurestepr.org/event/vista-socio-one-stop-careers-center-of-pr/2027-01-27/
CATEGORIES:Socios
END:VEVENT
BEGIN:VEVENT
DTSTART;TZID=America/Puerto_Rico:20270128T080000
DTEND;TZID=America/Puerto_Rico:20270128T163000
DTSTAMP:20260419T195020
CREATED:20251031T153427Z
LAST-MODIFIED:20251031T173748Z
UID:10000326-1801123200-1801153800@conexionlaboralsurestepr.org
SUMMARY:Visita Socio | Título I - B
DESCRIPTION:Programa Jóvenes\, Adultos y Desplazados
URL:https://conexionlaboralsurestepr.org/event/visita-socios-titulo-i-b/2027-01-28/
CATEGORIES:Socios
END:VEVENT
BEGIN:VEVENT
DTSTART;TZID=America/Puerto_Rico:20270128T080000
DTEND;TZID=America/Puerto_Rico:20270128T163000
DTSTAMP:20260419T195020
CREATED:20251031T173045Z
LAST-MODIFIED:20251204T204704Z
UID:10002152-1801123200-1801153800@conexionlaboralsurestepr.org
SUMMARY:Visita Socio | Departamento del Trabajo y Recursos Humanos (DTRH)
DESCRIPTION:Programa Veteranos (Capítulo 41 Título 38 del Código de EU)\nServicio de Empleo\, Programa Agrícola y Programa RESEA\nPrograma Seguro por Desempleo
URL:https://conexionlaboralsurestepr.org/event/vista-socio-departamento-del-trabajo-y-recursos-humanos-dtrh/2027-01-28/
CATEGORIES:Socios
END:VEVENT
BEGIN:VEVENT
DTSTART;TZID=America/Puerto_Rico:20270128T080000
DTEND;TZID=America/Puerto_Rico:20270128T163000
DTSTAMP:20260419T195020
CREATED:20251103T184914Z
LAST-MODIFIED:20251204T204647Z
UID:10003600-1801123200-1801153800@conexionlaboralsurestepr.org
SUMMARY:Visita Socio | Título II - Departamento de Educación
DESCRIPTION:Programa de Educación y Literacia de Adultos
URL:https://conexionlaboralsurestepr.org/event/vista-socio-titulo-ii-departamento-de-educacion/2027-01-28/
CATEGORIES:Socios
END:VEVENT
BEGIN:VEVENT
DTSTART;TZID=America/Puerto_Rico:20270128T080000
DTEND;TZID=America/Puerto_Rico:20270128T163000
DTSTAMP:20260419T195020
CREATED:20251103T185220Z
LAST-MODIFIED:20251204T204656Z
UID:10004508-1801123200-1801153800@conexionlaboralsurestepr.org
SUMMARY:Visita Socio | One Stop Careers Center of PR
DESCRIPTION:Programa de Reintegración de Ex-Ofensores bajo Second Change Act
URL:https://conexionlaboralsurestepr.org/event/vista-socio-one-stop-careers-center-of-pr/2027-01-28/
CATEGORIES:Socios
END:VEVENT
BEGIN:VEVENT
DTSTART;TZID=America/Puerto_Rico:20270129T080000
DTEND;TZID=America/Puerto_Rico:20270129T163000
DTSTAMP:20260419T195020
CREATED:20251031T153427Z
LAST-MODIFIED:20251031T173748Z
UID:10001452-1801209600-1801240200@conexionlaboralsurestepr.org
SUMMARY:Visita Socio | Título I - B
DESCRIPTION:Programa Jóvenes\, Adultos y Desplazados
URL:https://conexionlaboralsurestepr.org/event/visita-socios-titulo-i-b/2027-01-29/
CATEGORIES:Socios
END:VEVENT
BEGIN:VEVENT
DTSTART;TZID=America/Puerto_Rico:20270129T080000
DTEND;TZID=America/Puerto_Rico:20270129T163000
DTSTAMP:20260419T195020
CREATED:20251031T173045Z
LAST-MODIFIED:20251204T204704Z
UID:10002153-1801209600-1801240200@conexionlaboralsurestepr.org
SUMMARY:Visita Socio | Departamento del Trabajo y Recursos Humanos (DTRH)
DESCRIPTION:Programa Veteranos (Capítulo 41 Título 38 del Código de EU)\nServicio de Empleo\, Programa Agrícola y Programa RESEA\nPrograma Seguro por Desempleo
URL:https://conexionlaboralsurestepr.org/event/vista-socio-departamento-del-trabajo-y-recursos-humanos-dtrh/2027-01-29/
CATEGORIES:Socios
END:VEVENT
BEGIN:VEVENT
DTSTART;TZID=America/Puerto_Rico:20270129T080000
DTEND;TZID=America/Puerto_Rico:20270129T163000
DTSTAMP:20260419T195020
CREATED:20251103T185220Z
LAST-MODIFIED:20251204T204656Z
UID:10004509-1801209600-1801240200@conexionlaboralsurestepr.org
SUMMARY:Visita Socio | One Stop Careers Center of PR
DESCRIPTION:Programa de Reintegración de Ex-Ofensores bajo Second Change Act
URL:https://conexionlaboralsurestepr.org/event/vista-socio-one-stop-careers-center-of-pr/2027-01-29/
CATEGORIES:Socios
END:VEVENT
BEGIN:VEVENT
DTSTART;TZID=America/Puerto_Rico:20270131T080000
DTEND;TZID=America/Puerto_Rico:20270131T163000
DTSTAMP:20260419T195020
CREATED:20251103T185220Z
LAST-MODIFIED:20251204T204656Z
UID:10004510-1801382400-1801413000@conexionlaboralsurestepr.org
SUMMARY:Visita Socio | One Stop Careers Center of PR
DESCRIPTION:Programa de Reintegración de Ex-Ofensores bajo Second Change Act
URL:https://conexionlaboralsurestepr.org/event/vista-socio-one-stop-careers-center-of-pr/2027-01-31/
CATEGORIES:Socios
END:VEVENT
END:VCALENDAR