BEGIN:VCALENDAR
VERSION:2.0
PRODID:-//Conexión Laboral Sureste - ECPv6.15.20//NONSGML v1.0//EN
CALSCALE:GREGORIAN
METHOD:PUBLISH
X-WR-CALNAME:Conexión Laboral Sureste
X-ORIGINAL-URL:https://conexionlaboralsurestepr.org
X-WR-CALDESC:Events for Conexión Laboral Sureste
REFRESH-INTERVAL;VALUE=DURATION:PT1H
X-Robots-Tag:noindex
X-PUBLISHED-TTL:PT1H
BEGIN:VTIMEZONE
TZID:America/Puerto_Rico
BEGIN:STANDARD
TZOFFSETFROM:-0400
TZOFFSETTO:-0400
TZNAME:AST
DTSTART:20260101T000000
END:STANDARD
END:VTIMEZONE
BEGIN:VEVENT
DTSTART;TZID=America/Puerto_Rico:20270329T080000
DTEND;TZID=America/Puerto_Rico:20270329T163000
DTSTAMP:20260419T210502
CREATED:20251031T153427Z
LAST-MODIFIED:20251031T173748Z
UID:10000368-1806307200-1806337800@conexionlaboralsurestepr.org
SUMMARY:Visita Socio | Título I - B
DESCRIPTION:Programa Jóvenes\, Adultos y Desplazados
URL:https://conexionlaboralsurestepr.org/event/visita-socios-titulo-i-b/2027-03-29/
CATEGORIES:Socios
END:VEVENT
BEGIN:VEVENT
DTSTART;TZID=America/Puerto_Rico:20270329T080000
DTEND;TZID=America/Puerto_Rico:20270329T163000
DTSTAMP:20260419T210502
CREATED:20251031T173045Z
LAST-MODIFIED:20251204T204704Z
UID:10002194-1806307200-1806337800@conexionlaboralsurestepr.org
SUMMARY:Visita Socio | Departamento del Trabajo y Recursos Humanos (DTRH)
DESCRIPTION:Programa Veteranos (Capítulo 41 Título 38 del Código de EU)\nServicio de Empleo\, Programa Agrícola y Programa RESEA\nPrograma Seguro por Desempleo
URL:https://conexionlaboralsurestepr.org/event/vista-socio-departamento-del-trabajo-y-recursos-humanos-dtrh/2027-03-29/
CATEGORIES:Socios
END:VEVENT
BEGIN:VEVENT
DTSTART;TZID=America/Puerto_Rico:20270329T080000
DTEND;TZID=America/Puerto_Rico:20270329T163000
DTSTAMP:20260419T210502
CREATED:20251103T185220Z
LAST-MODIFIED:20251204T204656Z
UID:10004559-1806307200-1806337800@conexionlaboralsurestepr.org
SUMMARY:Visita Socio | One Stop Careers Center of PR
DESCRIPTION:Programa de Reintegración de Ex-Ofensores bajo Second Change Act
URL:https://conexionlaboralsurestepr.org/event/vista-socio-one-stop-careers-center-of-pr/2027-03-29/
CATEGORIES:Socios
END:VEVENT
BEGIN:VEVENT
DTSTART;TZID=America/Puerto_Rico:20270330T080000
DTEND;TZID=America/Puerto_Rico:20270330T163000
DTSTAMP:20260419T210502
CREATED:20251031T153427Z
LAST-MODIFIED:20251031T173748Z
UID:10000369-1806393600-1806424200@conexionlaboralsurestepr.org
SUMMARY:Visita Socio | Título I - B
DESCRIPTION:Programa Jóvenes\, Adultos y Desplazados
URL:https://conexionlaboralsurestepr.org/event/visita-socios-titulo-i-b/2027-03-30/
CATEGORIES:Socios
END:VEVENT
BEGIN:VEVENT
DTSTART;TZID=America/Puerto_Rico:20270330T080000
DTEND;TZID=America/Puerto_Rico:20270330T163000
DTSTAMP:20260419T210502
CREATED:20251031T173045Z
LAST-MODIFIED:20251204T204704Z
UID:10002195-1806393600-1806424200@conexionlaboralsurestepr.org
SUMMARY:Visita Socio | Departamento del Trabajo y Recursos Humanos (DTRH)
DESCRIPTION:Programa Veteranos (Capítulo 41 Título 38 del Código de EU)\nServicio de Empleo\, Programa Agrícola y Programa RESEA\nPrograma Seguro por Desempleo
URL:https://conexionlaboralsurestepr.org/event/vista-socio-departamento-del-trabajo-y-recursos-humanos-dtrh/2027-03-30/
CATEGORIES:Socios
END:VEVENT
BEGIN:VEVENT
DTSTART;TZID=America/Puerto_Rico:20270330T080000
DTEND;TZID=America/Puerto_Rico:20270330T163000
DTSTAMP:20260419T210502
CREATED:20251103T185220Z
LAST-MODIFIED:20251204T204656Z
UID:10004560-1806393600-1806424200@conexionlaboralsurestepr.org
SUMMARY:Visita Socio | One Stop Careers Center of PR
DESCRIPTION:Programa de Reintegración de Ex-Ofensores bajo Second Change Act
URL:https://conexionlaboralsurestepr.org/event/vista-socio-one-stop-careers-center-of-pr/2027-03-30/
CATEGORIES:Socios
END:VEVENT
BEGIN:VEVENT
DTSTART;TZID=America/Puerto_Rico:20270331T080000
DTEND;TZID=America/Puerto_Rico:20270331T120000
DTSTAMP:20260419T210502
CREATED:20251103T185047Z
LAST-MODIFIED:20251204T204622Z
UID:10003879-1806480000-1806494400@conexionlaboralsurestepr.org
SUMMARY:Visita Socio | Título IV - "Social Security Act" Departamento de la Familia
DESCRIPTION:Programa TANF (Temporary Assistance for Needy Families)
URL:https://conexionlaboralsurestepr.org/event/vista-socio-titulo-iv-social-security-act-departamento-de-la-familia/2027-03-31/
CATEGORIES:Socios
END:VEVENT
BEGIN:VEVENT
DTSTART;TZID=America/Puerto_Rico:20270331T080000
DTEND;TZID=America/Puerto_Rico:20270331T163000
DTSTAMP:20260419T210502
CREATED:20251031T153427Z
LAST-MODIFIED:20251031T173748Z
UID:10000370-1806480000-1806510600@conexionlaboralsurestepr.org
SUMMARY:Visita Socio | Título I - B
DESCRIPTION:Programa Jóvenes\, Adultos y Desplazados
URL:https://conexionlaboralsurestepr.org/event/visita-socios-titulo-i-b/2027-03-31/
CATEGORIES:Socios
END:VEVENT
BEGIN:VEVENT
DTSTART;TZID=America/Puerto_Rico:20270331T080000
DTEND;TZID=America/Puerto_Rico:20270331T163000
DTSTAMP:20260419T210502
CREATED:20251031T173045Z
LAST-MODIFIED:20251204T204704Z
UID:10002196-1806480000-1806510600@conexionlaboralsurestepr.org
SUMMARY:Visita Socio | Departamento del Trabajo y Recursos Humanos (DTRH)
DESCRIPTION:Programa Veteranos (Capítulo 41 Título 38 del Código de EU)\nServicio de Empleo\, Programa Agrícola y Programa RESEA\nPrograma Seguro por Desempleo
URL:https://conexionlaboralsurestepr.org/event/vista-socio-departamento-del-trabajo-y-recursos-humanos-dtrh/2027-03-31/
CATEGORIES:Socios
END:VEVENT
BEGIN:VEVENT
DTSTART;TZID=America/Puerto_Rico:20270331T080000
DTEND;TZID=America/Puerto_Rico:20270331T163000
DTSTAMP:20260419T210502
CREATED:20251103T185220Z
LAST-MODIFIED:20251204T204656Z
UID:10004561-1806480000-1806510600@conexionlaboralsurestepr.org
SUMMARY:Visita Socio | One Stop Careers Center of PR
DESCRIPTION:Programa de Reintegración de Ex-Ofensores bajo Second Change Act
URL:https://conexionlaboralsurestepr.org/event/vista-socio-one-stop-careers-center-of-pr/2027-03-31/
CATEGORIES:Socios
END:VEVENT
BEGIN:VEVENT
DTSTART;TZID=America/Puerto_Rico:20270401T080000
DTEND;TZID=America/Puerto_Rico:20270401T163000
DTSTAMP:20260419T210503
CREATED:20251031T153427Z
LAST-MODIFIED:20251031T173748Z
UID:10000371-1806566400-1806597000@conexionlaboralsurestepr.org
SUMMARY:Visita Socio | Título I - B
DESCRIPTION:Programa Jóvenes\, Adultos y Desplazados
URL:https://conexionlaboralsurestepr.org/event/visita-socios-titulo-i-b/2027-04-01/
CATEGORIES:Socios
END:VEVENT
BEGIN:VEVENT
DTSTART;TZID=America/Puerto_Rico:20270401T080000
DTEND;TZID=America/Puerto_Rico:20270401T163000
DTSTAMP:20260419T210503
CREATED:20251031T173045Z
LAST-MODIFIED:20251204T204704Z
UID:10002197-1806566400-1806597000@conexionlaboralsurestepr.org
SUMMARY:Visita Socio | Departamento del Trabajo y Recursos Humanos (DTRH)
DESCRIPTION:Programa Veteranos (Capítulo 41 Título 38 del Código de EU)\nServicio de Empleo\, Programa Agrícola y Programa RESEA\nPrograma Seguro por Desempleo
URL:https://conexionlaboralsurestepr.org/event/vista-socio-departamento-del-trabajo-y-recursos-humanos-dtrh/2027-04-01/
CATEGORIES:Socios
END:VEVENT
BEGIN:VEVENT
DTSTART;TZID=America/Puerto_Rico:20270401T080000
DTEND;TZID=America/Puerto_Rico:20270401T163000
DTSTAMP:20260419T210503
CREATED:20251103T184914Z
LAST-MODIFIED:20251204T204647Z
UID:10003609-1806566400-1806597000@conexionlaboralsurestepr.org
SUMMARY:Visita Socio | Título II - Departamento de Educación
DESCRIPTION:Programa de Educación y Literacia de Adultos
URL:https://conexionlaboralsurestepr.org/event/vista-socio-titulo-ii-departamento-de-educacion/2027-04-01/
CATEGORIES:Socios
END:VEVENT
BEGIN:VEVENT
DTSTART;TZID=America/Puerto_Rico:20270401T080000
DTEND;TZID=America/Puerto_Rico:20270401T163000
DTSTAMP:20260419T210503
CREATED:20251103T185220Z
LAST-MODIFIED:20251204T204656Z
UID:10004562-1806566400-1806597000@conexionlaboralsurestepr.org
SUMMARY:Visita Socio | One Stop Careers Center of PR
DESCRIPTION:Programa de Reintegración de Ex-Ofensores bajo Second Change Act
URL:https://conexionlaboralsurestepr.org/event/vista-socio-one-stop-careers-center-of-pr/2027-04-01/
CATEGORIES:Socios
END:VEVENT
BEGIN:VEVENT
DTSTART;TZID=America/Puerto_Rico:20270402T080000
DTEND;TZID=America/Puerto_Rico:20270402T163000
DTSTAMP:20260419T210503
CREATED:20251031T153427Z
LAST-MODIFIED:20251031T173748Z
UID:10001461-1806652800-1806683400@conexionlaboralsurestepr.org
SUMMARY:Visita Socio | Título I - B
DESCRIPTION:Programa Jóvenes\, Adultos y Desplazados
URL:https://conexionlaboralsurestepr.org/event/visita-socios-titulo-i-b/2027-04-02/
CATEGORIES:Socios
END:VEVENT
BEGIN:VEVENT
DTSTART;TZID=America/Puerto_Rico:20270402T080000
DTEND;TZID=America/Puerto_Rico:20270402T163000
DTSTAMP:20260419T210503
CREATED:20251031T173045Z
LAST-MODIFIED:20251204T204704Z
UID:10002198-1806652800-1806683400@conexionlaboralsurestepr.org
SUMMARY:Visita Socio | Departamento del Trabajo y Recursos Humanos (DTRH)
DESCRIPTION:Programa Veteranos (Capítulo 41 Título 38 del Código de EU)\nServicio de Empleo\, Programa Agrícola y Programa RESEA\nPrograma Seguro por Desempleo
URL:https://conexionlaboralsurestepr.org/event/vista-socio-departamento-del-trabajo-y-recursos-humanos-dtrh/2027-04-02/
CATEGORIES:Socios
END:VEVENT
BEGIN:VEVENT
DTSTART;TZID=America/Puerto_Rico:20270402T080000
DTEND;TZID=America/Puerto_Rico:20270402T163000
DTSTAMP:20260419T210503
CREATED:20251103T185220Z
LAST-MODIFIED:20251204T204656Z
UID:10004563-1806652800-1806683400@conexionlaboralsurestepr.org
SUMMARY:Visita Socio | One Stop Careers Center of PR
DESCRIPTION:Programa de Reintegración de Ex-Ofensores bajo Second Change Act
URL:https://conexionlaboralsurestepr.org/event/vista-socio-one-stop-careers-center-of-pr/2027-04-02/
CATEGORIES:Socios
END:VEVENT
BEGIN:VEVENT
DTSTART;TZID=America/Puerto_Rico:20270404T080000
DTEND;TZID=America/Puerto_Rico:20270404T163000
DTSTAMP:20260419T210503
CREATED:20251103T185220Z
LAST-MODIFIED:20251204T204656Z
UID:10004564-1806825600-1806856200@conexionlaboralsurestepr.org
SUMMARY:Visita Socio | One Stop Careers Center of PR
DESCRIPTION:Programa de Reintegración de Ex-Ofensores bajo Second Change Act
URL:https://conexionlaboralsurestepr.org/event/vista-socio-one-stop-careers-center-of-pr/2027-04-04/
CATEGORIES:Socios
END:VEVENT
END:VCALENDAR