BEGIN:VCALENDAR
VERSION:2.0
PRODID:-//Conexión Laboral Sureste - ECPv6.15.20//NONSGML v1.0//EN
CALSCALE:GREGORIAN
METHOD:PUBLISH
X-WR-CALNAME:Conexión Laboral Sureste
X-ORIGINAL-URL:https://conexionlaboralsurestepr.org
X-WR-CALDESC:Events for Conexión Laboral Sureste
REFRESH-INTERVAL;VALUE=DURATION:PT1H
X-Robots-Tag:noindex
X-PUBLISHED-TTL:PT1H
BEGIN:VTIMEZONE
TZID:America/Puerto_Rico
BEGIN:STANDARD
TZOFFSETFROM:-0400
TZOFFSETTO:-0400
TZNAME:AST
DTSTART:20260101T000000
END:STANDARD
END:VTIMEZONE
BEGIN:VEVENT
DTSTART;TZID=America/Puerto_Rico:20270510T080000
DTEND;TZID=America/Puerto_Rico:20270510T163000
DTSTAMP:20260420T001735
CREATED:20251031T153427Z
LAST-MODIFIED:20251031T173748Z
UID:10000398-1809936000-1809966600@conexionlaboralsurestepr.org
SUMMARY:Visita Socio | Título I - B
DESCRIPTION:Programa Jóvenes\, Adultos y Desplazados
URL:https://conexionlaboralsurestepr.org/event/visita-socios-titulo-i-b/2027-05-10/
CATEGORIES:Socios
END:VEVENT
BEGIN:VEVENT
DTSTART;TZID=America/Puerto_Rico:20270510T080000
DTEND;TZID=America/Puerto_Rico:20270510T163000
DTSTAMP:20260420T001735
CREATED:20251031T173045Z
LAST-MODIFIED:20251204T204704Z
UID:10002224-1809936000-1809966600@conexionlaboralsurestepr.org
SUMMARY:Visita Socio | Departamento del Trabajo y Recursos Humanos (DTRH)
DESCRIPTION:Programa Veteranos (Capítulo 41 Título 38 del Código de EU)\nServicio de Empleo\, Programa Agrícola y Programa RESEA\nPrograma Seguro por Desempleo
URL:https://conexionlaboralsurestepr.org/event/vista-socio-departamento-del-trabajo-y-recursos-humanos-dtrh/2027-05-10/
CATEGORIES:Socios
END:VEVENT
BEGIN:VEVENT
DTSTART;TZID=America/Puerto_Rico:20270510T080000
DTEND;TZID=America/Puerto_Rico:20270510T163000
DTSTAMP:20260420T001735
CREATED:20251103T185220Z
LAST-MODIFIED:20251204T204656Z
UID:10004595-1809936000-1809966600@conexionlaboralsurestepr.org
SUMMARY:Visita Socio | One Stop Careers Center of PR
DESCRIPTION:Programa de Reintegración de Ex-Ofensores bajo Second Change Act
URL:https://conexionlaboralsurestepr.org/event/vista-socio-one-stop-careers-center-of-pr/2027-05-10/
CATEGORIES:Socios
END:VEVENT
BEGIN:VEVENT
DTSTART;TZID=America/Puerto_Rico:20270511T080000
DTEND;TZID=America/Puerto_Rico:20270511T163000
DTSTAMP:20260420T001736
CREATED:20251031T153427Z
LAST-MODIFIED:20251031T173748Z
UID:10000399-1810022400-1810053000@conexionlaboralsurestepr.org
SUMMARY:Visita Socio | Título I - B
DESCRIPTION:Programa Jóvenes\, Adultos y Desplazados
URL:https://conexionlaboralsurestepr.org/event/visita-socios-titulo-i-b/2027-05-11/
CATEGORIES:Socios
END:VEVENT
BEGIN:VEVENT
DTSTART;TZID=America/Puerto_Rico:20270511T080000
DTEND;TZID=America/Puerto_Rico:20270511T163000
DTSTAMP:20260420T001736
CREATED:20251031T173045Z
LAST-MODIFIED:20251204T204704Z
UID:10002225-1810022400-1810053000@conexionlaboralsurestepr.org
SUMMARY:Visita Socio | Departamento del Trabajo y Recursos Humanos (DTRH)
DESCRIPTION:Programa Veteranos (Capítulo 41 Título 38 del Código de EU)\nServicio de Empleo\, Programa Agrícola y Programa RESEA\nPrograma Seguro por Desempleo
URL:https://conexionlaboralsurestepr.org/event/vista-socio-departamento-del-trabajo-y-recursos-humanos-dtrh/2027-05-11/
CATEGORIES:Socios
END:VEVENT
BEGIN:VEVENT
DTSTART;TZID=America/Puerto_Rico:20270511T080000
DTEND;TZID=America/Puerto_Rico:20270511T163000
DTSTAMP:20260420T001736
CREATED:20251103T185220Z
LAST-MODIFIED:20251204T204656Z
UID:10004596-1810022400-1810053000@conexionlaboralsurestepr.org
SUMMARY:Visita Socio | One Stop Careers Center of PR
DESCRIPTION:Programa de Reintegración de Ex-Ofensores bajo Second Change Act
URL:https://conexionlaboralsurestepr.org/event/vista-socio-one-stop-careers-center-of-pr/2027-05-11/
CATEGORIES:Socios
END:VEVENT
BEGIN:VEVENT
DTSTART;TZID=America/Puerto_Rico:20270512T080000
DTEND;TZID=America/Puerto_Rico:20270512T120000
DTSTAMP:20260420T001736
CREATED:20251103T185047Z
LAST-MODIFIED:20251204T204622Z
UID:10003885-1810108800-1810123200@conexionlaboralsurestepr.org
SUMMARY:Visita Socio | Título IV - "Social Security Act" Departamento de la Familia
DESCRIPTION:Programa TANF (Temporary Assistance for Needy Families)
URL:https://conexionlaboralsurestepr.org/event/vista-socio-titulo-iv-social-security-act-departamento-de-la-familia/2027-05-12/
CATEGORIES:Socios
END:VEVENT
BEGIN:VEVENT
DTSTART;TZID=America/Puerto_Rico:20270512T080000
DTEND;TZID=America/Puerto_Rico:20270512T163000
DTSTAMP:20260420T001736
CREATED:20251031T153427Z
LAST-MODIFIED:20251031T173748Z
UID:10000400-1810108800-1810139400@conexionlaboralsurestepr.org
SUMMARY:Visita Socio | Título I - B
DESCRIPTION:Programa Jóvenes\, Adultos y Desplazados
URL:https://conexionlaboralsurestepr.org/event/visita-socios-titulo-i-b/2027-05-12/
CATEGORIES:Socios
END:VEVENT
BEGIN:VEVENT
DTSTART;TZID=America/Puerto_Rico:20270512T080000
DTEND;TZID=America/Puerto_Rico:20270512T163000
DTSTAMP:20260420T001736
CREATED:20251031T173045Z
LAST-MODIFIED:20251204T204704Z
UID:10002226-1810108800-1810139400@conexionlaboralsurestepr.org
SUMMARY:Visita Socio | Departamento del Trabajo y Recursos Humanos (DTRH)
DESCRIPTION:Programa Veteranos (Capítulo 41 Título 38 del Código de EU)\nServicio de Empleo\, Programa Agrícola y Programa RESEA\nPrograma Seguro por Desempleo
URL:https://conexionlaboralsurestepr.org/event/vista-socio-departamento-del-trabajo-y-recursos-humanos-dtrh/2027-05-12/
CATEGORIES:Socios
END:VEVENT
BEGIN:VEVENT
DTSTART;TZID=America/Puerto_Rico:20270512T080000
DTEND;TZID=America/Puerto_Rico:20270512T163000
DTSTAMP:20260420T001736
CREATED:20251103T185220Z
LAST-MODIFIED:20251204T204656Z
UID:10004597-1810108800-1810139400@conexionlaboralsurestepr.org
SUMMARY:Visita Socio | One Stop Careers Center of PR
DESCRIPTION:Programa de Reintegración de Ex-Ofensores bajo Second Change Act
URL:https://conexionlaboralsurestepr.org/event/vista-socio-one-stop-careers-center-of-pr/2027-05-12/
CATEGORIES:Socios
END:VEVENT
BEGIN:VEVENT
DTSTART;TZID=America/Puerto_Rico:20270513T080000
DTEND;TZID=America/Puerto_Rico:20270513T163000
DTSTAMP:20260420T001736
CREATED:20251031T153427Z
LAST-MODIFIED:20251031T173748Z
UID:10000401-1810195200-1810225800@conexionlaboralsurestepr.org
SUMMARY:Visita Socio | Título I - B
DESCRIPTION:Programa Jóvenes\, Adultos y Desplazados
URL:https://conexionlaboralsurestepr.org/event/visita-socios-titulo-i-b/2027-05-13/
CATEGORIES:Socios
END:VEVENT
BEGIN:VEVENT
DTSTART;TZID=America/Puerto_Rico:20270513T080000
DTEND;TZID=America/Puerto_Rico:20270513T163000
DTSTAMP:20260420T001736
CREATED:20251031T173045Z
LAST-MODIFIED:20251204T204704Z
UID:10002227-1810195200-1810225800@conexionlaboralsurestepr.org
SUMMARY:Visita Socio | Departamento del Trabajo y Recursos Humanos (DTRH)
DESCRIPTION:Programa Veteranos (Capítulo 41 Título 38 del Código de EU)\nServicio de Empleo\, Programa Agrícola y Programa RESEA\nPrograma Seguro por Desempleo
URL:https://conexionlaboralsurestepr.org/event/vista-socio-departamento-del-trabajo-y-recursos-humanos-dtrh/2027-05-13/
CATEGORIES:Socios
END:VEVENT
BEGIN:VEVENT
DTSTART;TZID=America/Puerto_Rico:20270513T080000
DTEND;TZID=America/Puerto_Rico:20270513T163000
DTSTAMP:20260420T001736
CREATED:20251103T184914Z
LAST-MODIFIED:20251204T204647Z
UID:10003615-1810195200-1810225800@conexionlaboralsurestepr.org
SUMMARY:Visita Socio | Título II - Departamento de Educación
DESCRIPTION:Programa de Educación y Literacia de Adultos
URL:https://conexionlaboralsurestepr.org/event/vista-socio-titulo-ii-departamento-de-educacion/2027-05-13/
CATEGORIES:Socios
END:VEVENT
BEGIN:VEVENT
DTSTART;TZID=America/Puerto_Rico:20270513T080000
DTEND;TZID=America/Puerto_Rico:20270513T163000
DTSTAMP:20260420T001736
CREATED:20251103T185220Z
LAST-MODIFIED:20251204T204656Z
UID:10004598-1810195200-1810225800@conexionlaboralsurestepr.org
SUMMARY:Visita Socio | One Stop Careers Center of PR
DESCRIPTION:Programa de Reintegración de Ex-Ofensores bajo Second Change Act
URL:https://conexionlaboralsurestepr.org/event/vista-socio-one-stop-careers-center-of-pr/2027-05-13/
CATEGORIES:Socios
END:VEVENT
BEGIN:VEVENT
DTSTART;TZID=America/Puerto_Rico:20270514T080000
DTEND;TZID=America/Puerto_Rico:20270514T163000
DTSTAMP:20260420T001736
CREATED:20251031T153427Z
LAST-MODIFIED:20251031T173748Z
UID:10001467-1810281600-1810312200@conexionlaboralsurestepr.org
SUMMARY:Visita Socio | Título I - B
DESCRIPTION:Programa Jóvenes\, Adultos y Desplazados
URL:https://conexionlaboralsurestepr.org/event/visita-socios-titulo-i-b/2027-05-14/
CATEGORIES:Socios
END:VEVENT
BEGIN:VEVENT
DTSTART;TZID=America/Puerto_Rico:20270514T080000
DTEND;TZID=America/Puerto_Rico:20270514T163000
DTSTAMP:20260420T001736
CREATED:20251031T173045Z
LAST-MODIFIED:20251204T204704Z
UID:10002228-1810281600-1810312200@conexionlaboralsurestepr.org
SUMMARY:Visita Socio | Departamento del Trabajo y Recursos Humanos (DTRH)
DESCRIPTION:Programa Veteranos (Capítulo 41 Título 38 del Código de EU)\nServicio de Empleo\, Programa Agrícola y Programa RESEA\nPrograma Seguro por Desempleo
URL:https://conexionlaboralsurestepr.org/event/vista-socio-departamento-del-trabajo-y-recursos-humanos-dtrh/2027-05-14/
CATEGORIES:Socios
END:VEVENT
BEGIN:VEVENT
DTSTART;TZID=America/Puerto_Rico:20270514T080000
DTEND;TZID=America/Puerto_Rico:20270514T163000
DTSTAMP:20260420T001736
CREATED:20251103T185220Z
LAST-MODIFIED:20251204T204656Z
UID:10004599-1810281600-1810312200@conexionlaboralsurestepr.org
SUMMARY:Visita Socio | One Stop Careers Center of PR
DESCRIPTION:Programa de Reintegración de Ex-Ofensores bajo Second Change Act
URL:https://conexionlaboralsurestepr.org/event/vista-socio-one-stop-careers-center-of-pr/2027-05-14/
CATEGORIES:Socios
END:VEVENT
BEGIN:VEVENT
DTSTART;TZID=America/Puerto_Rico:20270516T080000
DTEND;TZID=America/Puerto_Rico:20270516T163000
DTSTAMP:20260420T001736
CREATED:20251103T185220Z
LAST-MODIFIED:20251204T204656Z
UID:10004600-1810454400-1810485000@conexionlaboralsurestepr.org
SUMMARY:Visita Socio | One Stop Careers Center of PR
DESCRIPTION:Programa de Reintegración de Ex-Ofensores bajo Second Change Act
URL:https://conexionlaboralsurestepr.org/event/vista-socio-one-stop-careers-center-of-pr/2027-05-16/
CATEGORIES:Socios
END:VEVENT
END:VCALENDAR