BEGIN:VCALENDAR
VERSION:2.0
PRODID:-//Conexión Laboral Sureste - ECPv6.15.20//NONSGML v1.0//EN
CALSCALE:GREGORIAN
METHOD:PUBLISH
X-WR-CALNAME:Conexión Laboral Sureste
X-ORIGINAL-URL:https://conexionlaboralsurestepr.org
X-WR-CALDESC:Events for Conexión Laboral Sureste
REFRESH-INTERVAL;VALUE=DURATION:PT1H
X-Robots-Tag:noindex
X-PUBLISHED-TTL:PT1H
BEGIN:VTIMEZONE
TZID:America/Puerto_Rico
BEGIN:STANDARD
TZOFFSETFROM:-0400
TZOFFSETTO:-0400
TZNAME:AST
DTSTART:20260101T000000
END:STANDARD
END:VTIMEZONE
BEGIN:VEVENT
DTSTART;TZID=America/Puerto_Rico:20270607T080000
DTEND;TZID=America/Puerto_Rico:20270607T120000
DTSTAMP:20260420T012935
CREATED:20251103T184249Z
LAST-MODIFIED:20251204T204710Z
UID:10003362-1812355200-1812369600@conexionlaboralsurestepr.org
SUMMARY:Visita Socio | Título I | Administración de Rehabilitación Vocacional
DESCRIPTION:Programa de Adiestramiento y Empleo Rehabilitación Vocacional
URL:https://conexionlaboralsurestepr.org/event/vista-socio-titulo-i-administracion-de-rehabilitacion-vocacional/2027-06-07/
CATEGORIES:Socios
END:VEVENT
BEGIN:VEVENT
DTSTART;TZID=America/Puerto_Rico:20270607T080000
DTEND;TZID=America/Puerto_Rico:20270607T163000
DTSTAMP:20260420T012935
CREATED:20251031T153427Z
LAST-MODIFIED:20251031T173748Z
UID:10000418-1812355200-1812385800@conexionlaboralsurestepr.org
SUMMARY:Visita Socio | Título I - B
DESCRIPTION:Programa Jóvenes\, Adultos y Desplazados
URL:https://conexionlaboralsurestepr.org/event/visita-socios-titulo-i-b/2027-06-07/
CATEGORIES:Socios
END:VEVENT
BEGIN:VEVENT
DTSTART;TZID=America/Puerto_Rico:20270607T080000
DTEND;TZID=America/Puerto_Rico:20270607T163000
DTSTAMP:20260420T012935
CREATED:20251031T173045Z
LAST-MODIFIED:20251204T204704Z
UID:10002244-1812355200-1812385800@conexionlaboralsurestepr.org
SUMMARY:Visita Socio | Departamento del Trabajo y Recursos Humanos (DTRH)
DESCRIPTION:Programa Veteranos (Capítulo 41 Título 38 del Código de EU)\nServicio de Empleo\, Programa Agrícola y Programa RESEA\nPrograma Seguro por Desempleo
URL:https://conexionlaboralsurestepr.org/event/vista-socio-departamento-del-trabajo-y-recursos-humanos-dtrh/2027-06-07/
CATEGORIES:Socios
END:VEVENT
BEGIN:VEVENT
DTSTART;TZID=America/Puerto_Rico:20270607T080000
DTEND;TZID=America/Puerto_Rico:20270607T163000
DTSTAMP:20260420T012935
CREATED:20251103T185220Z
LAST-MODIFIED:20251204T204656Z
UID:10004619-1812355200-1812385800@conexionlaboralsurestepr.org
SUMMARY:Visita Socio | One Stop Careers Center of PR
DESCRIPTION:Programa de Reintegración de Ex-Ofensores bajo Second Change Act
URL:https://conexionlaboralsurestepr.org/event/vista-socio-one-stop-careers-center-of-pr/2027-06-07/
CATEGORIES:Socios
END:VEVENT
BEGIN:VEVENT
DTSTART;TZID=America/Puerto_Rico:20270608T080000
DTEND;TZID=America/Puerto_Rico:20270608T163000
DTSTAMP:20260420T012935
CREATED:20251031T153427Z
LAST-MODIFIED:20251031T173748Z
UID:10000419-1812441600-1812472200@conexionlaboralsurestepr.org
SUMMARY:Visita Socio | Título I - B
DESCRIPTION:Programa Jóvenes\, Adultos y Desplazados
URL:https://conexionlaboralsurestepr.org/event/visita-socios-titulo-i-b/2027-06-08/
CATEGORIES:Socios
END:VEVENT
BEGIN:VEVENT
DTSTART;TZID=America/Puerto_Rico:20270608T080000
DTEND;TZID=America/Puerto_Rico:20270608T163000
DTSTAMP:20260420T012935
CREATED:20251031T173045Z
LAST-MODIFIED:20251204T204704Z
UID:10002245-1812441600-1812472200@conexionlaboralsurestepr.org
SUMMARY:Visita Socio | Departamento del Trabajo y Recursos Humanos (DTRH)
DESCRIPTION:Programa Veteranos (Capítulo 41 Título 38 del Código de EU)\nServicio de Empleo\, Programa Agrícola y Programa RESEA\nPrograma Seguro por Desempleo
URL:https://conexionlaboralsurestepr.org/event/vista-socio-departamento-del-trabajo-y-recursos-humanos-dtrh/2027-06-08/
CATEGORIES:Socios
END:VEVENT
BEGIN:VEVENT
DTSTART;TZID=America/Puerto_Rico:20270608T080000
DTEND;TZID=America/Puerto_Rico:20270608T163000
DTSTAMP:20260420T012935
CREATED:20251103T185220Z
LAST-MODIFIED:20251204T204656Z
UID:10004620-1812441600-1812472200@conexionlaboralsurestepr.org
SUMMARY:Visita Socio | One Stop Careers Center of PR
DESCRIPTION:Programa de Reintegración de Ex-Ofensores bajo Second Change Act
URL:https://conexionlaboralsurestepr.org/event/vista-socio-one-stop-careers-center-of-pr/2027-06-08/
CATEGORIES:Socios
END:VEVENT
BEGIN:VEVENT
DTSTART;TZID=America/Puerto_Rico:20270609T080000
DTEND;TZID=America/Puerto_Rico:20270609T120000
DTSTAMP:20260420T012935
CREATED:20251103T185047Z
LAST-MODIFIED:20251204T204622Z
UID:10003889-1812528000-1812542400@conexionlaboralsurestepr.org
SUMMARY:Visita Socio | Título IV - "Social Security Act" Departamento de la Familia
DESCRIPTION:Programa TANF (Temporary Assistance for Needy Families)
URL:https://conexionlaboralsurestepr.org/event/vista-socio-titulo-iv-social-security-act-departamento-de-la-familia/2027-06-09/
CATEGORIES:Socios
END:VEVENT
BEGIN:VEVENT
DTSTART;TZID=America/Puerto_Rico:20270609T080000
DTEND;TZID=America/Puerto_Rico:20270609T163000
DTSTAMP:20260420T012935
CREATED:20251031T153427Z
LAST-MODIFIED:20251031T173748Z
UID:10000420-1812528000-1812558600@conexionlaboralsurestepr.org
SUMMARY:Visita Socio | Título I - B
DESCRIPTION:Programa Jóvenes\, Adultos y Desplazados
URL:https://conexionlaboralsurestepr.org/event/visita-socios-titulo-i-b/2027-06-09/
CATEGORIES:Socios
END:VEVENT
BEGIN:VEVENT
DTSTART;TZID=America/Puerto_Rico:20270609T080000
DTEND;TZID=America/Puerto_Rico:20270609T163000
DTSTAMP:20260420T012935
CREATED:20251031T173045Z
LAST-MODIFIED:20251204T204704Z
UID:10002246-1812528000-1812558600@conexionlaboralsurestepr.org
SUMMARY:Visita Socio | Departamento del Trabajo y Recursos Humanos (DTRH)
DESCRIPTION:Programa Veteranos (Capítulo 41 Título 38 del Código de EU)\nServicio de Empleo\, Programa Agrícola y Programa RESEA\nPrograma Seguro por Desempleo
URL:https://conexionlaboralsurestepr.org/event/vista-socio-departamento-del-trabajo-y-recursos-humanos-dtrh/2027-06-09/
CATEGORIES:Socios
END:VEVENT
BEGIN:VEVENT
DTSTART;TZID=America/Puerto_Rico:20270609T080000
DTEND;TZID=America/Puerto_Rico:20270609T163000
DTSTAMP:20260420T012935
CREATED:20251103T185220Z
LAST-MODIFIED:20251204T204656Z
UID:10004621-1812528000-1812558600@conexionlaboralsurestepr.org
SUMMARY:Visita Socio | One Stop Careers Center of PR
DESCRIPTION:Programa de Reintegración de Ex-Ofensores bajo Second Change Act
URL:https://conexionlaboralsurestepr.org/event/vista-socio-one-stop-careers-center-of-pr/2027-06-09/
CATEGORIES:Socios
END:VEVENT
BEGIN:VEVENT
DTSTART;TZID=America/Puerto_Rico:20270610T080000
DTEND;TZID=America/Puerto_Rico:20270610T163000
DTSTAMP:20260420T012935
CREATED:20251031T153427Z
LAST-MODIFIED:20251031T173748Z
UID:10000421-1812614400-1812645000@conexionlaboralsurestepr.org
SUMMARY:Visita Socio | Título I - B
DESCRIPTION:Programa Jóvenes\, Adultos y Desplazados
URL:https://conexionlaboralsurestepr.org/event/visita-socios-titulo-i-b/2027-06-10/
CATEGORIES:Socios
END:VEVENT
BEGIN:VEVENT
DTSTART;TZID=America/Puerto_Rico:20270610T080000
DTEND;TZID=America/Puerto_Rico:20270610T163000
DTSTAMP:20260420T012935
CREATED:20251031T173045Z
LAST-MODIFIED:20251204T204704Z
UID:10002247-1812614400-1812645000@conexionlaboralsurestepr.org
SUMMARY:Visita Socio | Departamento del Trabajo y Recursos Humanos (DTRH)
DESCRIPTION:Programa Veteranos (Capítulo 41 Título 38 del Código de EU)\nServicio de Empleo\, Programa Agrícola y Programa RESEA\nPrograma Seguro por Desempleo
URL:https://conexionlaboralsurestepr.org/event/vista-socio-departamento-del-trabajo-y-recursos-humanos-dtrh/2027-06-10/
CATEGORIES:Socios
END:VEVENT
BEGIN:VEVENT
DTSTART;TZID=America/Puerto_Rico:20270610T080000
DTEND;TZID=America/Puerto_Rico:20270610T163000
DTSTAMP:20260420T012935
CREATED:20251103T184914Z
LAST-MODIFIED:20251204T204647Z
UID:10003619-1812614400-1812645000@conexionlaboralsurestepr.org
SUMMARY:Visita Socio | Título II - Departamento de Educación
DESCRIPTION:Programa de Educación y Literacia de Adultos
URL:https://conexionlaboralsurestepr.org/event/vista-socio-titulo-ii-departamento-de-educacion/2027-06-10/
CATEGORIES:Socios
END:VEVENT
BEGIN:VEVENT
DTSTART;TZID=America/Puerto_Rico:20270610T080000
DTEND;TZID=America/Puerto_Rico:20270610T163000
DTSTAMP:20260420T012936
CREATED:20251103T185220Z
LAST-MODIFIED:20251204T204656Z
UID:10004622-1812614400-1812645000@conexionlaboralsurestepr.org
SUMMARY:Visita Socio | One Stop Careers Center of PR
DESCRIPTION:Programa de Reintegración de Ex-Ofensores bajo Second Change Act
URL:https://conexionlaboralsurestepr.org/event/vista-socio-one-stop-careers-center-of-pr/2027-06-10/
CATEGORIES:Socios
END:VEVENT
BEGIN:VEVENT
DTSTART;TZID=America/Puerto_Rico:20270611T080000
DTEND;TZID=America/Puerto_Rico:20270611T163000
DTSTAMP:20260420T012936
CREATED:20251031T153427Z
LAST-MODIFIED:20251031T173748Z
UID:10001471-1812700800-1812731400@conexionlaboralsurestepr.org
SUMMARY:Visita Socio | Título I - B
DESCRIPTION:Programa Jóvenes\, Adultos y Desplazados
URL:https://conexionlaboralsurestepr.org/event/visita-socios-titulo-i-b/2027-06-11/
CATEGORIES:Socios
END:VEVENT
BEGIN:VEVENT
DTSTART;TZID=America/Puerto_Rico:20270611T080000
DTEND;TZID=America/Puerto_Rico:20270611T163000
DTSTAMP:20260420T012936
CREATED:20251031T173045Z
LAST-MODIFIED:20251204T204704Z
UID:10002248-1812700800-1812731400@conexionlaboralsurestepr.org
SUMMARY:Visita Socio | Departamento del Trabajo y Recursos Humanos (DTRH)
DESCRIPTION:Programa Veteranos (Capítulo 41 Título 38 del Código de EU)\nServicio de Empleo\, Programa Agrícola y Programa RESEA\nPrograma Seguro por Desempleo
URL:https://conexionlaboralsurestepr.org/event/vista-socio-departamento-del-trabajo-y-recursos-humanos-dtrh/2027-06-11/
CATEGORIES:Socios
END:VEVENT
BEGIN:VEVENT
DTSTART;TZID=America/Puerto_Rico:20270611T080000
DTEND;TZID=America/Puerto_Rico:20270611T163000
DTSTAMP:20260420T012936
CREATED:20251103T185220Z
LAST-MODIFIED:20251204T204656Z
UID:10004623-1812700800-1812731400@conexionlaboralsurestepr.org
SUMMARY:Visita Socio | One Stop Careers Center of PR
DESCRIPTION:Programa de Reintegración de Ex-Ofensores bajo Second Change Act
URL:https://conexionlaboralsurestepr.org/event/vista-socio-one-stop-careers-center-of-pr/2027-06-11/
CATEGORIES:Socios
END:VEVENT
BEGIN:VEVENT
DTSTART;TZID=America/Puerto_Rico:20270613T080000
DTEND;TZID=America/Puerto_Rico:20270613T163000
DTSTAMP:20260420T012936
CREATED:20251103T185220Z
LAST-MODIFIED:20251204T204656Z
UID:10004624-1812873600-1812904200@conexionlaboralsurestepr.org
SUMMARY:Visita Socio | One Stop Careers Center of PR
DESCRIPTION:Programa de Reintegración de Ex-Ofensores bajo Second Change Act
URL:https://conexionlaboralsurestepr.org/event/vista-socio-one-stop-careers-center-of-pr/2027-06-13/
CATEGORIES:Socios
END:VEVENT
END:VCALENDAR