BEGIN:VCALENDAR
VERSION:2.0
PRODID:-//Conexión Laboral Sureste - ECPv6.15.20//NONSGML v1.0//EN
CALSCALE:GREGORIAN
METHOD:PUBLISH
X-WR-CALNAME:Conexión Laboral Sureste
X-ORIGINAL-URL:https://conexionlaboralsurestepr.org
X-WR-CALDESC:Events for Conexión Laboral Sureste
REFRESH-INTERVAL;VALUE=DURATION:PT1H
X-Robots-Tag:noindex
X-PUBLISHED-TTL:PT1H
BEGIN:VTIMEZONE
TZID:America/Puerto_Rico
BEGIN:STANDARD
TZOFFSETFROM:-0400
TZOFFSETTO:-0400
TZNAME:AST
DTSTART:20260101T000000
END:STANDARD
END:VTIMEZONE
BEGIN:VEVENT
DTSTART;TZID=America/Puerto_Rico:20270621T080000
DTEND;TZID=America/Puerto_Rico:20270621T163000
DTSTAMP:20260420T031327
CREATED:20251031T153427Z
LAST-MODIFIED:20251031T173748Z
UID:10000428-1813564800-1813595400@conexionlaboralsurestepr.org
SUMMARY:Visita Socio | Título I - B
DESCRIPTION:Programa Jóvenes\, Adultos y Desplazados
URL:https://conexionlaboralsurestepr.org/event/visita-socios-titulo-i-b/2027-06-21/
CATEGORIES:Socios
END:VEVENT
BEGIN:VEVENT
DTSTART;TZID=America/Puerto_Rico:20270621T080000
DTEND;TZID=America/Puerto_Rico:20270621T163000
DTSTAMP:20260420T031327
CREATED:20251031T173045Z
LAST-MODIFIED:20251204T204704Z
UID:10002254-1813564800-1813595400@conexionlaboralsurestepr.org
SUMMARY:Visita Socio | Departamento del Trabajo y Recursos Humanos (DTRH)
DESCRIPTION:Programa Veteranos (Capítulo 41 Título 38 del Código de EU)\nServicio de Empleo\, Programa Agrícola y Programa RESEA\nPrograma Seguro por Desempleo
URL:https://conexionlaboralsurestepr.org/event/vista-socio-departamento-del-trabajo-y-recursos-humanos-dtrh/2027-06-21/
CATEGORIES:Socios
END:VEVENT
BEGIN:VEVENT
DTSTART;TZID=America/Puerto_Rico:20270621T080000
DTEND;TZID=America/Puerto_Rico:20270621T163000
DTSTAMP:20260420T031327
CREATED:20251103T185220Z
LAST-MODIFIED:20251204T204656Z
UID:10004631-1813564800-1813595400@conexionlaboralsurestepr.org
SUMMARY:Visita Socio | One Stop Careers Center of PR
DESCRIPTION:Programa de Reintegración de Ex-Ofensores bajo Second Change Act
URL:https://conexionlaboralsurestepr.org/event/vista-socio-one-stop-careers-center-of-pr/2027-06-21/
CATEGORIES:Socios
END:VEVENT
BEGIN:VEVENT
DTSTART;TZID=America/Puerto_Rico:20270622T080000
DTEND;TZID=America/Puerto_Rico:20270622T163000
DTSTAMP:20260420T031327
CREATED:20251031T153427Z
LAST-MODIFIED:20251031T173748Z
UID:10000429-1813651200-1813681800@conexionlaboralsurestepr.org
SUMMARY:Visita Socio | Título I - B
DESCRIPTION:Programa Jóvenes\, Adultos y Desplazados
URL:https://conexionlaboralsurestepr.org/event/visita-socios-titulo-i-b/2027-06-22/
CATEGORIES:Socios
END:VEVENT
BEGIN:VEVENT
DTSTART;TZID=America/Puerto_Rico:20270622T080000
DTEND;TZID=America/Puerto_Rico:20270622T163000
DTSTAMP:20260420T031327
CREATED:20251031T173045Z
LAST-MODIFIED:20251204T204704Z
UID:10002255-1813651200-1813681800@conexionlaboralsurestepr.org
SUMMARY:Visita Socio | Departamento del Trabajo y Recursos Humanos (DTRH)
DESCRIPTION:Programa Veteranos (Capítulo 41 Título 38 del Código de EU)\nServicio de Empleo\, Programa Agrícola y Programa RESEA\nPrograma Seguro por Desempleo
URL:https://conexionlaboralsurestepr.org/event/vista-socio-departamento-del-trabajo-y-recursos-humanos-dtrh/2027-06-22/
CATEGORIES:Socios
END:VEVENT
BEGIN:VEVENT
DTSTART;TZID=America/Puerto_Rico:20270622T080000
DTEND;TZID=America/Puerto_Rico:20270622T163000
DTSTAMP:20260420T031327
CREATED:20251103T185220Z
LAST-MODIFIED:20251204T204656Z
UID:10004632-1813651200-1813681800@conexionlaboralsurestepr.org
SUMMARY:Visita Socio | One Stop Careers Center of PR
DESCRIPTION:Programa de Reintegración de Ex-Ofensores bajo Second Change Act
URL:https://conexionlaboralsurestepr.org/event/vista-socio-one-stop-careers-center-of-pr/2027-06-22/
CATEGORIES:Socios
END:VEVENT
BEGIN:VEVENT
DTSTART;TZID=America/Puerto_Rico:20270623T080000
DTEND;TZID=America/Puerto_Rico:20270623T120000
DTSTAMP:20260420T031327
CREATED:20251103T185047Z
LAST-MODIFIED:20251204T204622Z
UID:10003891-1813737600-1813752000@conexionlaboralsurestepr.org
SUMMARY:Visita Socio | Título IV - "Social Security Act" Departamento de la Familia
DESCRIPTION:Programa TANF (Temporary Assistance for Needy Families)
URL:https://conexionlaboralsurestepr.org/event/vista-socio-titulo-iv-social-security-act-departamento-de-la-familia/2027-06-23/
CATEGORIES:Socios
END:VEVENT
BEGIN:VEVENT
DTSTART;TZID=America/Puerto_Rico:20270623T080000
DTEND;TZID=America/Puerto_Rico:20270623T163000
DTSTAMP:20260420T031327
CREATED:20251031T153427Z
LAST-MODIFIED:20251031T173748Z
UID:10000430-1813737600-1813768200@conexionlaboralsurestepr.org
SUMMARY:Visita Socio | Título I - B
DESCRIPTION:Programa Jóvenes\, Adultos y Desplazados
URL:https://conexionlaboralsurestepr.org/event/visita-socios-titulo-i-b/2027-06-23/
CATEGORIES:Socios
END:VEVENT
BEGIN:VEVENT
DTSTART;TZID=America/Puerto_Rico:20270623T080000
DTEND;TZID=America/Puerto_Rico:20270623T163000
DTSTAMP:20260420T031327
CREATED:20251031T173045Z
LAST-MODIFIED:20251204T204704Z
UID:10002256-1813737600-1813768200@conexionlaboralsurestepr.org
SUMMARY:Visita Socio | Departamento del Trabajo y Recursos Humanos (DTRH)
DESCRIPTION:Programa Veteranos (Capítulo 41 Título 38 del Código de EU)\nServicio de Empleo\, Programa Agrícola y Programa RESEA\nPrograma Seguro por Desempleo
URL:https://conexionlaboralsurestepr.org/event/vista-socio-departamento-del-trabajo-y-recursos-humanos-dtrh/2027-06-23/
CATEGORIES:Socios
END:VEVENT
BEGIN:VEVENT
DTSTART;TZID=America/Puerto_Rico:20270623T080000
DTEND;TZID=America/Puerto_Rico:20270623T163000
DTSTAMP:20260420T031327
CREATED:20251103T185220Z
LAST-MODIFIED:20251204T204656Z
UID:10004633-1813737600-1813768200@conexionlaboralsurestepr.org
SUMMARY:Visita Socio | One Stop Careers Center of PR
DESCRIPTION:Programa de Reintegración de Ex-Ofensores bajo Second Change Act
URL:https://conexionlaboralsurestepr.org/event/vista-socio-one-stop-careers-center-of-pr/2027-06-23/
CATEGORIES:Socios
END:VEVENT
BEGIN:VEVENT
DTSTART;TZID=America/Puerto_Rico:20270624T080000
DTEND;TZID=America/Puerto_Rico:20270624T163000
DTSTAMP:20260420T031327
CREATED:20251031T153427Z
LAST-MODIFIED:20251031T173748Z
UID:10000431-1813824000-1813854600@conexionlaboralsurestepr.org
SUMMARY:Visita Socio | Título I - B
DESCRIPTION:Programa Jóvenes\, Adultos y Desplazados
URL:https://conexionlaboralsurestepr.org/event/visita-socios-titulo-i-b/2027-06-24/
CATEGORIES:Socios
END:VEVENT
BEGIN:VEVENT
DTSTART;TZID=America/Puerto_Rico:20270624T080000
DTEND;TZID=America/Puerto_Rico:20270624T163000
DTSTAMP:20260420T031327
CREATED:20251031T173045Z
LAST-MODIFIED:20251204T204704Z
UID:10002257-1813824000-1813854600@conexionlaboralsurestepr.org
SUMMARY:Visita Socio | Departamento del Trabajo y Recursos Humanos (DTRH)
DESCRIPTION:Programa Veteranos (Capítulo 41 Título 38 del Código de EU)\nServicio de Empleo\, Programa Agrícola y Programa RESEA\nPrograma Seguro por Desempleo
URL:https://conexionlaboralsurestepr.org/event/vista-socio-departamento-del-trabajo-y-recursos-humanos-dtrh/2027-06-24/
CATEGORIES:Socios
END:VEVENT
BEGIN:VEVENT
DTSTART;TZID=America/Puerto_Rico:20270624T080000
DTEND;TZID=America/Puerto_Rico:20270624T163000
DTSTAMP:20260420T031327
CREATED:20251103T184914Z
LAST-MODIFIED:20251204T204647Z
UID:10003621-1813824000-1813854600@conexionlaboralsurestepr.org
SUMMARY:Visita Socio | Título II - Departamento de Educación
DESCRIPTION:Programa de Educación y Literacia de Adultos
URL:https://conexionlaboralsurestepr.org/event/vista-socio-titulo-ii-departamento-de-educacion/2027-06-24/
CATEGORIES:Socios
END:VEVENT
BEGIN:VEVENT
DTSTART;TZID=America/Puerto_Rico:20270624T080000
DTEND;TZID=America/Puerto_Rico:20270624T163000
DTSTAMP:20260420T031327
CREATED:20251103T185220Z
LAST-MODIFIED:20251204T204656Z
UID:10004634-1813824000-1813854600@conexionlaboralsurestepr.org
SUMMARY:Visita Socio | One Stop Careers Center of PR
DESCRIPTION:Programa de Reintegración de Ex-Ofensores bajo Second Change Act
URL:https://conexionlaboralsurestepr.org/event/vista-socio-one-stop-careers-center-of-pr/2027-06-24/
CATEGORIES:Socios
END:VEVENT
BEGIN:VEVENT
DTSTART;TZID=America/Puerto_Rico:20270625T080000
DTEND;TZID=America/Puerto_Rico:20270625T163000
DTSTAMP:20260420T031327
CREATED:20251031T153427Z
LAST-MODIFIED:20251031T173748Z
UID:10001473-1813910400-1813941000@conexionlaboralsurestepr.org
SUMMARY:Visita Socio | Título I - B
DESCRIPTION:Programa Jóvenes\, Adultos y Desplazados
URL:https://conexionlaboralsurestepr.org/event/visita-socios-titulo-i-b/2027-06-25/
CATEGORIES:Socios
END:VEVENT
BEGIN:VEVENT
DTSTART;TZID=America/Puerto_Rico:20270625T080000
DTEND;TZID=America/Puerto_Rico:20270625T163000
DTSTAMP:20260420T031327
CREATED:20251031T173045Z
LAST-MODIFIED:20251204T204704Z
UID:10002258-1813910400-1813941000@conexionlaboralsurestepr.org
SUMMARY:Visita Socio | Departamento del Trabajo y Recursos Humanos (DTRH)
DESCRIPTION:Programa Veteranos (Capítulo 41 Título 38 del Código de EU)\nServicio de Empleo\, Programa Agrícola y Programa RESEA\nPrograma Seguro por Desempleo
URL:https://conexionlaboralsurestepr.org/event/vista-socio-departamento-del-trabajo-y-recursos-humanos-dtrh/2027-06-25/
CATEGORIES:Socios
END:VEVENT
BEGIN:VEVENT
DTSTART;TZID=America/Puerto_Rico:20270625T080000
DTEND;TZID=America/Puerto_Rico:20270625T163000
DTSTAMP:20260420T031327
CREATED:20251103T185220Z
LAST-MODIFIED:20251204T204656Z
UID:10004635-1813910400-1813941000@conexionlaboralsurestepr.org
SUMMARY:Visita Socio | One Stop Careers Center of PR
DESCRIPTION:Programa de Reintegración de Ex-Ofensores bajo Second Change Act
URL:https://conexionlaboralsurestepr.org/event/vista-socio-one-stop-careers-center-of-pr/2027-06-25/
CATEGORIES:Socios
END:VEVENT
BEGIN:VEVENT
DTSTART;TZID=America/Puerto_Rico:20270627T080000
DTEND;TZID=America/Puerto_Rico:20270627T163000
DTSTAMP:20260420T031327
CREATED:20251103T185220Z
LAST-MODIFIED:20251204T204656Z
UID:10004636-1814083200-1814113800@conexionlaboralsurestepr.org
SUMMARY:Visita Socio | One Stop Careers Center of PR
DESCRIPTION:Programa de Reintegración de Ex-Ofensores bajo Second Change Act
URL:https://conexionlaboralsurestepr.org/event/vista-socio-one-stop-careers-center-of-pr/2027-06-27/
CATEGORIES:Socios
END:VEVENT
END:VCALENDAR