BEGIN:VCALENDAR
VERSION:2.0
PRODID:-//Conexión Laboral Sureste - ECPv6.15.20//NONSGML v1.0//EN
CALSCALE:GREGORIAN
METHOD:PUBLISH
X-WR-CALNAME:Conexión Laboral Sureste
X-ORIGINAL-URL:https://conexionlaboralsurestepr.org
X-WR-CALDESC:Events for Conexión Laboral Sureste
REFRESH-INTERVAL;VALUE=DURATION:PT1H
X-Robots-Tag:noindex
X-PUBLISHED-TTL:PT1H
BEGIN:VTIMEZONE
TZID:America/Puerto_Rico
BEGIN:STANDARD
TZOFFSETFROM:-0400
TZOFFSETTO:-0400
TZNAME:AST
DTSTART:20260101T000000
END:STANDARD
END:VTIMEZONE
BEGIN:VEVENT
DTSTART;TZID=America/Puerto_Rico:20270705T080000
DTEND;TZID=America/Puerto_Rico:20270705T120000
DTSTAMP:20260420T031347
CREATED:20251103T184249Z
LAST-MODIFIED:20251204T204710Z
UID:10003363-1814774400-1814788800@conexionlaboralsurestepr.org
SUMMARY:Visita Socio | Título I | Administración de Rehabilitación Vocacional
DESCRIPTION:Programa de Adiestramiento y Empleo Rehabilitación Vocacional
URL:https://conexionlaboralsurestepr.org/event/vista-socio-titulo-i-administracion-de-rehabilitacion-vocacional/2027-07-05/
CATEGORIES:Socios
END:VEVENT
BEGIN:VEVENT
DTSTART;TZID=America/Puerto_Rico:20270705T080000
DTEND;TZID=America/Puerto_Rico:20270705T163000
DTSTAMP:20260420T031347
CREATED:20251031T153427Z
LAST-MODIFIED:20251031T173748Z
UID:10000438-1814774400-1814805000@conexionlaboralsurestepr.org
SUMMARY:Visita Socio | Título I - B
DESCRIPTION:Programa Jóvenes\, Adultos y Desplazados
URL:https://conexionlaboralsurestepr.org/event/visita-socios-titulo-i-b/2027-07-05/
CATEGORIES:Socios
END:VEVENT
BEGIN:VEVENT
DTSTART;TZID=America/Puerto_Rico:20270705T080000
DTEND;TZID=America/Puerto_Rico:20270705T163000
DTSTAMP:20260420T031347
CREATED:20251031T173045Z
LAST-MODIFIED:20251204T204704Z
UID:10002264-1814774400-1814805000@conexionlaboralsurestepr.org
SUMMARY:Visita Socio | Departamento del Trabajo y Recursos Humanos (DTRH)
DESCRIPTION:Programa Veteranos (Capítulo 41 Título 38 del Código de EU)\nServicio de Empleo\, Programa Agrícola y Programa RESEA\nPrograma Seguro por Desempleo
URL:https://conexionlaboralsurestepr.org/event/vista-socio-departamento-del-trabajo-y-recursos-humanos-dtrh/2027-07-05/
CATEGORIES:Socios
END:VEVENT
BEGIN:VEVENT
DTSTART;TZID=America/Puerto_Rico:20270705T080000
DTEND;TZID=America/Puerto_Rico:20270705T163000
DTSTAMP:20260420T031347
CREATED:20251103T185220Z
LAST-MODIFIED:20251204T204656Z
UID:10004643-1814774400-1814805000@conexionlaboralsurestepr.org
SUMMARY:Visita Socio | One Stop Careers Center of PR
DESCRIPTION:Programa de Reintegración de Ex-Ofensores bajo Second Change Act
URL:https://conexionlaboralsurestepr.org/event/vista-socio-one-stop-careers-center-of-pr/2027-07-05/
CATEGORIES:Socios
END:VEVENT
BEGIN:VEVENT
DTSTART;TZID=America/Puerto_Rico:20270706T080000
DTEND;TZID=America/Puerto_Rico:20270706T120000
DTSTAMP:20260420T031347
CREATED:20251103T184454Z
LAST-MODIFIED:20251204T204641Z
UID:10003425-1814860800-1814875200@conexionlaboralsurestepr.org
SUMMARY:Visita Socio | PathStone Corporation (Rural)
DESCRIPTION:Programa para Trabajadores Agrícolas Migrantes y Estacionales.\nPrograma Youth Build
URL:https://conexionlaboralsurestepr.org/event/vista-socio-pathstone-corporation-rural/2027-07-06/
CATEGORIES:Socios
END:VEVENT
BEGIN:VEVENT
DTSTART;TZID=America/Puerto_Rico:20270706T080000
DTEND;TZID=America/Puerto_Rico:20270706T120000
DTSTAMP:20260420T031347
CREATED:20251103T184621Z
LAST-MODIFIED:20251204T204632Z
UID:10003487-1814860800-1814875200@conexionlaboralsurestepr.org
SUMMARY:Visita Socio | Título V - Old American Act
DESCRIPTION:Senior Community Services Employment Programs
URL:https://conexionlaboralsurestepr.org/event/vista-socio-titulo-v-old-american-act/2027-07-06/
CATEGORIES:Socios
END:VEVENT
BEGIN:VEVENT
DTSTART;TZID=America/Puerto_Rico:20270706T080000
DTEND;TZID=America/Puerto_Rico:20270706T163000
DTSTAMP:20260420T031347
CREATED:20251031T153427Z
LAST-MODIFIED:20251031T173748Z
UID:10000439-1814860800-1814891400@conexionlaboralsurestepr.org
SUMMARY:Visita Socio | Título I - B
DESCRIPTION:Programa Jóvenes\, Adultos y Desplazados
URL:https://conexionlaboralsurestepr.org/event/visita-socios-titulo-i-b/2027-07-06/
CATEGORIES:Socios
END:VEVENT
BEGIN:VEVENT
DTSTART;TZID=America/Puerto_Rico:20270706T080000
DTEND;TZID=America/Puerto_Rico:20270706T163000
DTSTAMP:20260420T031347
CREATED:20251031T173045Z
LAST-MODIFIED:20251204T204704Z
UID:10002265-1814860800-1814891400@conexionlaboralsurestepr.org
SUMMARY:Visita Socio | Departamento del Trabajo y Recursos Humanos (DTRH)
DESCRIPTION:Programa Veteranos (Capítulo 41 Título 38 del Código de EU)\nServicio de Empleo\, Programa Agrícola y Programa RESEA\nPrograma Seguro por Desempleo
URL:https://conexionlaboralsurestepr.org/event/vista-socio-departamento-del-trabajo-y-recursos-humanos-dtrh/2027-07-06/
CATEGORIES:Socios
END:VEVENT
BEGIN:VEVENT
DTSTART;TZID=America/Puerto_Rico:20270706T080000
DTEND;TZID=America/Puerto_Rico:20270706T163000
DTSTAMP:20260420T031347
CREATED:20251103T185220Z
LAST-MODIFIED:20251204T204656Z
UID:10004644-1814860800-1814891400@conexionlaboralsurestepr.org
SUMMARY:Visita Socio | One Stop Careers Center of PR
DESCRIPTION:Programa de Reintegración de Ex-Ofensores bajo Second Change Act
URL:https://conexionlaboralsurestepr.org/event/vista-socio-one-stop-careers-center-of-pr/2027-07-06/
CATEGORIES:Socios
END:VEVENT
BEGIN:VEVENT
DTSTART;TZID=America/Puerto_Rico:20270707T080000
DTEND;TZID=America/Puerto_Rico:20270707T120000
DTSTAMP:20260420T031347
CREATED:20251103T185047Z
LAST-MODIFIED:20251204T204622Z
UID:10003893-1814947200-1814961600@conexionlaboralsurestepr.org
SUMMARY:Visita Socio | Título IV - "Social Security Act" Departamento de la Familia
DESCRIPTION:Programa TANF (Temporary Assistance for Needy Families)
URL:https://conexionlaboralsurestepr.org/event/vista-socio-titulo-iv-social-security-act-departamento-de-la-familia/2027-07-07/
CATEGORIES:Socios
END:VEVENT
BEGIN:VEVENT
DTSTART;TZID=America/Puerto_Rico:20270707T080000
DTEND;TZID=America/Puerto_Rico:20270707T163000
DTSTAMP:20260420T031347
CREATED:20251031T153427Z
LAST-MODIFIED:20251031T173748Z
UID:10000440-1814947200-1814977800@conexionlaboralsurestepr.org
SUMMARY:Visita Socio | Título I - B
DESCRIPTION:Programa Jóvenes\, Adultos y Desplazados
URL:https://conexionlaboralsurestepr.org/event/visita-socios-titulo-i-b/2027-07-07/
CATEGORIES:Socios
END:VEVENT
BEGIN:VEVENT
DTSTART;TZID=America/Puerto_Rico:20270707T080000
DTEND;TZID=America/Puerto_Rico:20270707T163000
DTSTAMP:20260420T031347
CREATED:20251031T173045Z
LAST-MODIFIED:20251204T204704Z
UID:10002266-1814947200-1814977800@conexionlaboralsurestepr.org
SUMMARY:Visita Socio | Departamento del Trabajo y Recursos Humanos (DTRH)
DESCRIPTION:Programa Veteranos (Capítulo 41 Título 38 del Código de EU)\nServicio de Empleo\, Programa Agrícola y Programa RESEA\nPrograma Seguro por Desempleo
URL:https://conexionlaboralsurestepr.org/event/vista-socio-departamento-del-trabajo-y-recursos-humanos-dtrh/2027-07-07/
CATEGORIES:Socios
END:VEVENT
BEGIN:VEVENT
DTSTART;TZID=America/Puerto_Rico:20270707T080000
DTEND;TZID=America/Puerto_Rico:20270707T163000
DTSTAMP:20260420T031347
CREATED:20251103T185220Z
LAST-MODIFIED:20251204T204656Z
UID:10004645-1814947200-1814977800@conexionlaboralsurestepr.org
SUMMARY:Visita Socio | One Stop Careers Center of PR
DESCRIPTION:Programa de Reintegración de Ex-Ofensores bajo Second Change Act
URL:https://conexionlaboralsurestepr.org/event/vista-socio-one-stop-careers-center-of-pr/2027-07-07/
CATEGORIES:Socios
END:VEVENT
BEGIN:VEVENT
DTSTART;TZID=America/Puerto_Rico:20270708T080000
DTEND;TZID=America/Puerto_Rico:20270708T163000
DTSTAMP:20260420T031347
CREATED:20251031T153427Z
LAST-MODIFIED:20251031T173748Z
UID:10000441-1815033600-1815064200@conexionlaboralsurestepr.org
SUMMARY:Visita Socio | Título I - B
DESCRIPTION:Programa Jóvenes\, Adultos y Desplazados
URL:https://conexionlaboralsurestepr.org/event/visita-socios-titulo-i-b/2027-07-08/
CATEGORIES:Socios
END:VEVENT
BEGIN:VEVENT
DTSTART;TZID=America/Puerto_Rico:20270708T080000
DTEND;TZID=America/Puerto_Rico:20270708T163000
DTSTAMP:20260420T031347
CREATED:20251031T173045Z
LAST-MODIFIED:20251204T204704Z
UID:10002267-1815033600-1815064200@conexionlaboralsurestepr.org
SUMMARY:Visita Socio | Departamento del Trabajo y Recursos Humanos (DTRH)
DESCRIPTION:Programa Veteranos (Capítulo 41 Título 38 del Código de EU)\nServicio de Empleo\, Programa Agrícola y Programa RESEA\nPrograma Seguro por Desempleo
URL:https://conexionlaboralsurestepr.org/event/vista-socio-departamento-del-trabajo-y-recursos-humanos-dtrh/2027-07-08/
CATEGORIES:Socios
END:VEVENT
BEGIN:VEVENT
DTSTART;TZID=America/Puerto_Rico:20270708T080000
DTEND;TZID=America/Puerto_Rico:20270708T163000
DTSTAMP:20260420T031347
CREATED:20251103T184914Z
LAST-MODIFIED:20251204T204647Z
UID:10003623-1815033600-1815064200@conexionlaboralsurestepr.org
SUMMARY:Visita Socio | Título II - Departamento de Educación
DESCRIPTION:Programa de Educación y Literacia de Adultos
URL:https://conexionlaboralsurestepr.org/event/vista-socio-titulo-ii-departamento-de-educacion/2027-07-08/
CATEGORIES:Socios
END:VEVENT
BEGIN:VEVENT
DTSTART;TZID=America/Puerto_Rico:20270708T080000
DTEND;TZID=America/Puerto_Rico:20270708T163000
DTSTAMP:20260420T031347
CREATED:20251103T185220Z
LAST-MODIFIED:20251204T204656Z
UID:10004646-1815033600-1815064200@conexionlaboralsurestepr.org
SUMMARY:Visita Socio | One Stop Careers Center of PR
DESCRIPTION:Programa de Reintegración de Ex-Ofensores bajo Second Change Act
URL:https://conexionlaboralsurestepr.org/event/vista-socio-one-stop-careers-center-of-pr/2027-07-08/
CATEGORIES:Socios
END:VEVENT
BEGIN:VEVENT
DTSTART;TZID=America/Puerto_Rico:20270709T080000
DTEND;TZID=America/Puerto_Rico:20270709T163000
DTSTAMP:20260420T031347
CREATED:20251031T153427Z
LAST-MODIFIED:20251031T173748Z
UID:10001475-1815120000-1815150600@conexionlaboralsurestepr.org
SUMMARY:Visita Socio | Título I - B
DESCRIPTION:Programa Jóvenes\, Adultos y Desplazados
URL:https://conexionlaboralsurestepr.org/event/visita-socios-titulo-i-b/2027-07-09/
CATEGORIES:Socios
END:VEVENT
BEGIN:VEVENT
DTSTART;TZID=America/Puerto_Rico:20270709T080000
DTEND;TZID=America/Puerto_Rico:20270709T163000
DTSTAMP:20260420T031347
CREATED:20251031T173045Z
LAST-MODIFIED:20251204T204704Z
UID:10002268-1815120000-1815150600@conexionlaboralsurestepr.org
SUMMARY:Visita Socio | Departamento del Trabajo y Recursos Humanos (DTRH)
DESCRIPTION:Programa Veteranos (Capítulo 41 Título 38 del Código de EU)\nServicio de Empleo\, Programa Agrícola y Programa RESEA\nPrograma Seguro por Desempleo
URL:https://conexionlaboralsurestepr.org/event/vista-socio-departamento-del-trabajo-y-recursos-humanos-dtrh/2027-07-09/
CATEGORIES:Socios
END:VEVENT
BEGIN:VEVENT
DTSTART;TZID=America/Puerto_Rico:20270709T080000
DTEND;TZID=America/Puerto_Rico:20270709T163000
DTSTAMP:20260420T031347
CREATED:20251103T185220Z
LAST-MODIFIED:20251204T204656Z
UID:10004647-1815120000-1815150600@conexionlaboralsurestepr.org
SUMMARY:Visita Socio | One Stop Careers Center of PR
DESCRIPTION:Programa de Reintegración de Ex-Ofensores bajo Second Change Act
URL:https://conexionlaboralsurestepr.org/event/vista-socio-one-stop-careers-center-of-pr/2027-07-09/
CATEGORIES:Socios
END:VEVENT
BEGIN:VEVENT
DTSTART;TZID=America/Puerto_Rico:20270711T080000
DTEND;TZID=America/Puerto_Rico:20270711T163000
DTSTAMP:20260420T031347
CREATED:20251103T185220Z
LAST-MODIFIED:20251204T204656Z
UID:10004648-1815292800-1815323400@conexionlaboralsurestepr.org
SUMMARY:Visita Socio | One Stop Careers Center of PR
DESCRIPTION:Programa de Reintegración de Ex-Ofensores bajo Second Change Act
URL:https://conexionlaboralsurestepr.org/event/vista-socio-one-stop-careers-center-of-pr/2027-07-11/
CATEGORIES:Socios
END:VEVENT
END:VCALENDAR