BEGIN:VCALENDAR
VERSION:2.0
PRODID:-//Conexión Laboral Sureste - ECPv6.15.20//NONSGML v1.0//EN
CALSCALE:GREGORIAN
METHOD:PUBLISH
X-ORIGINAL-URL:https://conexionlaboralsurestepr.org
X-WR-CALDESC:Events for Conexión Laboral Sureste
REFRESH-INTERVAL;VALUE=DURATION:PT1H
X-Robots-Tag:noindex
X-PUBLISHED-TTL:PT1H
BEGIN:VTIMEZONE
TZID:America/Puerto_Rico
BEGIN:STANDARD
TZOFFSETFROM:-0400
TZOFFSETTO:-0400
TZNAME:AST
DTSTART:20260101T000000
END:STANDARD
END:VTIMEZONE
BEGIN:VEVENT
DTSTART;TZID=America/Puerto_Rico:20271011T080000
DTEND;TZID=America/Puerto_Rico:20271011T163000
DTSTAMP:20260420T112650
CREATED:20251031T173045Z
LAST-MODIFIED:20251204T204704Z
UID:10002334-1823241600-1823272200@conexionlaboralsurestepr.org
SUMMARY:Visita Socio | Departamento del Trabajo y Recursos Humanos (DTRH)
DESCRIPTION:Programa Veteranos (Capítulo 41 Título 38 del Código de EU)\nServicio de Empleo\, Programa Agrícola y Programa RESEA\nPrograma Seguro por Desempleo
URL:https://conexionlaboralsurestepr.org/event/vista-socio-departamento-del-trabajo-y-recursos-humanos-dtrh/2027-10-11/
CATEGORIES:Socios
END:VEVENT
BEGIN:VEVENT
DTSTART;TZID=America/Puerto_Rico:20271011T080000
DTEND;TZID=America/Puerto_Rico:20271011T163000
DTSTAMP:20260420T112650
CREATED:20251103T185220Z
LAST-MODIFIED:20251204T204656Z
UID:10004727-1823241600-1823272200@conexionlaboralsurestepr.org
SUMMARY:Visita Socio | One Stop Careers Center of PR
DESCRIPTION:Programa de Reintegración de Ex-Ofensores bajo Second Change Act
URL:https://conexionlaboralsurestepr.org/event/vista-socio-one-stop-careers-center-of-pr/2027-10-11/
CATEGORIES:Socios
END:VEVENT
BEGIN:VEVENT
DTSTART;TZID=America/Puerto_Rico:20271012T080000
DTEND;TZID=America/Puerto_Rico:20271012T163000
DTSTAMP:20260420T112650
CREATED:20251031T173045Z
LAST-MODIFIED:20251204T204704Z
UID:10002335-1823328000-1823358600@conexionlaboralsurestepr.org
SUMMARY:Visita Socio | Departamento del Trabajo y Recursos Humanos (DTRH)
DESCRIPTION:Programa Veteranos (Capítulo 41 Título 38 del Código de EU)\nServicio de Empleo\, Programa Agrícola y Programa RESEA\nPrograma Seguro por Desempleo
URL:https://conexionlaboralsurestepr.org/event/vista-socio-departamento-del-trabajo-y-recursos-humanos-dtrh/2027-10-12/
CATEGORIES:Socios
END:VEVENT
BEGIN:VEVENT
DTSTART;TZID=America/Puerto_Rico:20271012T080000
DTEND;TZID=America/Puerto_Rico:20271012T163000
DTSTAMP:20260420T112650
CREATED:20251103T185220Z
LAST-MODIFIED:20251204T204656Z
UID:10004728-1823328000-1823358600@conexionlaboralsurestepr.org
SUMMARY:Visita Socio | One Stop Careers Center of PR
DESCRIPTION:Programa de Reintegración de Ex-Ofensores bajo Second Change Act
URL:https://conexionlaboralsurestepr.org/event/vista-socio-one-stop-careers-center-of-pr/2027-10-12/
CATEGORIES:Socios
END:VEVENT
BEGIN:VEVENT
DTSTART;TZID=America/Puerto_Rico:20271013T080000
DTEND;TZID=America/Puerto_Rico:20271013T120000
DTSTAMP:20260420T112650
CREATED:20251103T185047Z
LAST-MODIFIED:20251204T204622Z
UID:10003907-1823414400-1823428800@conexionlaboralsurestepr.org
SUMMARY:Visita Socio | Título IV - "Social Security Act" Departamento de la Familia
DESCRIPTION:Programa TANF (Temporary Assistance for Needy Families)
URL:https://conexionlaboralsurestepr.org/event/vista-socio-titulo-iv-social-security-act-departamento-de-la-familia/2027-10-13/
CATEGORIES:Socios
END:VEVENT
BEGIN:VEVENT
DTSTART;TZID=America/Puerto_Rico:20271013T080000
DTEND;TZID=America/Puerto_Rico:20271013T163000
DTSTAMP:20260420T112650
CREATED:20251031T173045Z
LAST-MODIFIED:20251204T204704Z
UID:10002336-1823414400-1823445000@conexionlaboralsurestepr.org
SUMMARY:Visita Socio | Departamento del Trabajo y Recursos Humanos (DTRH)
DESCRIPTION:Programa Veteranos (Capítulo 41 Título 38 del Código de EU)\nServicio de Empleo\, Programa Agrícola y Programa RESEA\nPrograma Seguro por Desempleo
URL:https://conexionlaboralsurestepr.org/event/vista-socio-departamento-del-trabajo-y-recursos-humanos-dtrh/2027-10-13/
CATEGORIES:Socios
END:VEVENT
BEGIN:VEVENT
DTSTART;TZID=America/Puerto_Rico:20271013T080000
DTEND;TZID=America/Puerto_Rico:20271013T163000
DTSTAMP:20260420T112650
CREATED:20251103T185220Z
LAST-MODIFIED:20251204T204656Z
UID:10004729-1823414400-1823445000@conexionlaboralsurestepr.org
SUMMARY:Visita Socio | One Stop Careers Center of PR
DESCRIPTION:Programa de Reintegración de Ex-Ofensores bajo Second Change Act
URL:https://conexionlaboralsurestepr.org/event/vista-socio-one-stop-careers-center-of-pr/2027-10-13/
CATEGORIES:Socios
END:VEVENT
BEGIN:VEVENT
DTSTART;TZID=America/Puerto_Rico:20271014T080000
DTEND;TZID=America/Puerto_Rico:20271014T163000
DTSTAMP:20260420T112650
CREATED:20251031T173045Z
LAST-MODIFIED:20251204T204704Z
UID:10002337-1823500800-1823531400@conexionlaboralsurestepr.org
SUMMARY:Visita Socio | Departamento del Trabajo y Recursos Humanos (DTRH)
DESCRIPTION:Programa Veteranos (Capítulo 41 Título 38 del Código de EU)\nServicio de Empleo\, Programa Agrícola y Programa RESEA\nPrograma Seguro por Desempleo
URL:https://conexionlaboralsurestepr.org/event/vista-socio-departamento-del-trabajo-y-recursos-humanos-dtrh/2027-10-14/
CATEGORIES:Socios
END:VEVENT
BEGIN:VEVENT
DTSTART;TZID=America/Puerto_Rico:20271014T080000
DTEND;TZID=America/Puerto_Rico:20271014T163000
DTSTAMP:20260420T112650
CREATED:20251103T184914Z
LAST-MODIFIED:20251204T204647Z
UID:10003637-1823500800-1823531400@conexionlaboralsurestepr.org
SUMMARY:Visita Socio | Título II - Departamento de Educación
DESCRIPTION:Programa de Educación y Literacia de Adultos
URL:https://conexionlaboralsurestepr.org/event/vista-socio-titulo-ii-departamento-de-educacion/2027-10-14/
CATEGORIES:Socios
END:VEVENT
BEGIN:VEVENT
DTSTART;TZID=America/Puerto_Rico:20271014T080000
DTEND;TZID=America/Puerto_Rico:20271014T163000
DTSTAMP:20260420T112650
CREATED:20251103T185220Z
LAST-MODIFIED:20251204T204656Z
UID:10004730-1823500800-1823531400@conexionlaboralsurestepr.org
SUMMARY:Visita Socio | One Stop Careers Center of PR
DESCRIPTION:Programa de Reintegración de Ex-Ofensores bajo Second Change Act
URL:https://conexionlaboralsurestepr.org/event/vista-socio-one-stop-careers-center-of-pr/2027-10-14/
CATEGORIES:Socios
END:VEVENT
BEGIN:VEVENT
DTSTART;TZID=America/Puerto_Rico:20271015T080000
DTEND;TZID=America/Puerto_Rico:20271015T163000
DTSTAMP:20260420T112650
CREATED:20251031T153427Z
LAST-MODIFIED:20251031T173748Z
UID:10001489-1823587200-1823617800@conexionlaboralsurestepr.org
SUMMARY:Visita Socio | Título I - B
DESCRIPTION:Programa Jóvenes\, Adultos y Desplazados
URL:https://conexionlaboralsurestepr.org/event/visita-socios-titulo-i-b/2027-10-15/
CATEGORIES:Socios
END:VEVENT
BEGIN:VEVENT
DTSTART;TZID=America/Puerto_Rico:20271015T080000
DTEND;TZID=America/Puerto_Rico:20271015T163000
DTSTAMP:20260420T112650
CREATED:20251031T173045Z
LAST-MODIFIED:20251204T204704Z
UID:10002338-1823587200-1823617800@conexionlaboralsurestepr.org
SUMMARY:Visita Socio | Departamento del Trabajo y Recursos Humanos (DTRH)
DESCRIPTION:Programa Veteranos (Capítulo 41 Título 38 del Código de EU)\nServicio de Empleo\, Programa Agrícola y Programa RESEA\nPrograma Seguro por Desempleo
URL:https://conexionlaboralsurestepr.org/event/vista-socio-departamento-del-trabajo-y-recursos-humanos-dtrh/2027-10-15/
CATEGORIES:Socios
END:VEVENT
BEGIN:VEVENT
DTSTART;TZID=America/Puerto_Rico:20271015T080000
DTEND;TZID=America/Puerto_Rico:20271015T163000
DTSTAMP:20260420T112650
CREATED:20251103T185220Z
LAST-MODIFIED:20251204T204656Z
UID:10004731-1823587200-1823617800@conexionlaboralsurestepr.org
SUMMARY:Visita Socio | One Stop Careers Center of PR
DESCRIPTION:Programa de Reintegración de Ex-Ofensores bajo Second Change Act
URL:https://conexionlaboralsurestepr.org/event/vista-socio-one-stop-careers-center-of-pr/2027-10-15/
CATEGORIES:Socios
END:VEVENT
BEGIN:VEVENT
DTSTART;TZID=America/Puerto_Rico:20271017T080000
DTEND;TZID=America/Puerto_Rico:20271017T163000
DTSTAMP:20260420T112650
CREATED:20251103T185220Z
LAST-MODIFIED:20251204T204656Z
UID:10004732-1823760000-1823790600@conexionlaboralsurestepr.org
SUMMARY:Visita Socio | One Stop Careers Center of PR
DESCRIPTION:Programa de Reintegración de Ex-Ofensores bajo Second Change Act
URL:https://conexionlaboralsurestepr.org/event/vista-socio-one-stop-careers-center-of-pr/2027-10-17/
CATEGORIES:Socios
END:VEVENT
END:VCALENDAR