BEGIN:VCALENDAR
VERSION:2.0
PRODID:-//Conexión Laboral Sureste - ECPv6.15.20//NONSGML v1.0//EN
CALSCALE:GREGORIAN
METHOD:PUBLISH
X-ORIGINAL-URL:https://conexionlaboralsurestepr.org
X-WR-CALDESC:Events for Conexión Laboral Sureste
REFRESH-INTERVAL;VALUE=DURATION:PT1H
X-Robots-Tag:noindex
X-PUBLISHED-TTL:PT1H
BEGIN:VTIMEZONE
TZID:America/Puerto_Rico
BEGIN:STANDARD
TZOFFSETFROM:-0400
TZOFFSETTO:-0400
TZNAME:AST
DTSTART:20260101T000000
END:STANDARD
END:VTIMEZONE
BEGIN:VEVENT
DTSTART;TZID=America/Puerto_Rico:20271227T080000
DTEND;TZID=America/Puerto_Rico:20271227T163000
DTSTAMP:20260420T174719
CREATED:20251031T173045Z
LAST-MODIFIED:20251204T204704Z
UID:10002389-1829894400-1829925000@conexionlaboralsurestepr.org
SUMMARY:Visita Socio | Departamento del Trabajo y Recursos Humanos (DTRH)
DESCRIPTION:Programa Veteranos (Capítulo 41 Título 38 del Código de EU)\nServicio de Empleo\, Programa Agrícola y Programa RESEA\nPrograma Seguro por Desempleo
URL:https://conexionlaboralsurestepr.org/event/vista-socio-departamento-del-trabajo-y-recursos-humanos-dtrh/2027-12-27/
CATEGORIES:Socios
END:VEVENT
BEGIN:VEVENT
DTSTART;TZID=America/Puerto_Rico:20271227T080000
DTEND;TZID=America/Puerto_Rico:20271227T163000
DTSTAMP:20260420T174719
CREATED:20251103T185220Z
LAST-MODIFIED:20251204T204656Z
UID:10004793-1829894400-1829925000@conexionlaboralsurestepr.org
SUMMARY:Visita Socio | One Stop Careers Center of PR
DESCRIPTION:Programa de Reintegración de Ex-Ofensores bajo Second Change Act
URL:https://conexionlaboralsurestepr.org/event/vista-socio-one-stop-careers-center-of-pr/2027-12-27/
CATEGORIES:Socios
END:VEVENT
BEGIN:VEVENT
DTSTART;TZID=America/Puerto_Rico:20271228T080000
DTEND;TZID=America/Puerto_Rico:20271228T163000
DTSTAMP:20260420T174719
CREATED:20251031T173045Z
LAST-MODIFIED:20251204T204704Z
UID:10002390-1829980800-1830011400@conexionlaboralsurestepr.org
SUMMARY:Visita Socio | Departamento del Trabajo y Recursos Humanos (DTRH)
DESCRIPTION:Programa Veteranos (Capítulo 41 Título 38 del Código de EU)\nServicio de Empleo\, Programa Agrícola y Programa RESEA\nPrograma Seguro por Desempleo
URL:https://conexionlaboralsurestepr.org/event/vista-socio-departamento-del-trabajo-y-recursos-humanos-dtrh/2027-12-28/
CATEGORIES:Socios
END:VEVENT
BEGIN:VEVENT
DTSTART;TZID=America/Puerto_Rico:20271228T080000
DTEND;TZID=America/Puerto_Rico:20271228T163000
DTSTAMP:20260420T174719
CREATED:20251103T185220Z
LAST-MODIFIED:20251204T204656Z
UID:10004794-1829980800-1830011400@conexionlaboralsurestepr.org
SUMMARY:Visita Socio | One Stop Careers Center of PR
DESCRIPTION:Programa de Reintegración de Ex-Ofensores bajo Second Change Act
URL:https://conexionlaboralsurestepr.org/event/vista-socio-one-stop-careers-center-of-pr/2027-12-28/
CATEGORIES:Socios
END:VEVENT
BEGIN:VEVENT
DTSTART;TZID=America/Puerto_Rico:20271229T080000
DTEND;TZID=America/Puerto_Rico:20271229T120000
DTSTAMP:20260420T174719
CREATED:20251103T185047Z
LAST-MODIFIED:20251204T204622Z
UID:10003918-1830067200-1830081600@conexionlaboralsurestepr.org
SUMMARY:Visita Socio | Título IV - "Social Security Act" Departamento de la Familia
DESCRIPTION:Programa TANF (Temporary Assistance for Needy Families)
URL:https://conexionlaboralsurestepr.org/event/vista-socio-titulo-iv-social-security-act-departamento-de-la-familia/2027-12-29/
CATEGORIES:Socios
END:VEVENT
BEGIN:VEVENT
DTSTART;TZID=America/Puerto_Rico:20271229T080000
DTEND;TZID=America/Puerto_Rico:20271229T163000
DTSTAMP:20260420T174719
CREATED:20251031T173045Z
LAST-MODIFIED:20251204T204704Z
UID:10002391-1830067200-1830097800@conexionlaboralsurestepr.org
SUMMARY:Visita Socio | Departamento del Trabajo y Recursos Humanos (DTRH)
DESCRIPTION:Programa Veteranos (Capítulo 41 Título 38 del Código de EU)\nServicio de Empleo\, Programa Agrícola y Programa RESEA\nPrograma Seguro por Desempleo
URL:https://conexionlaboralsurestepr.org/event/vista-socio-departamento-del-trabajo-y-recursos-humanos-dtrh/2027-12-29/
CATEGORIES:Socios
END:VEVENT
BEGIN:VEVENT
DTSTART;TZID=America/Puerto_Rico:20271229T080000
DTEND;TZID=America/Puerto_Rico:20271229T163000
DTSTAMP:20260420T174719
CREATED:20251103T185220Z
LAST-MODIFIED:20251204T204656Z
UID:10004795-1830067200-1830097800@conexionlaboralsurestepr.org
SUMMARY:Visita Socio | One Stop Careers Center of PR
DESCRIPTION:Programa de Reintegración de Ex-Ofensores bajo Second Change Act
URL:https://conexionlaboralsurestepr.org/event/vista-socio-one-stop-careers-center-of-pr/2027-12-29/
CATEGORIES:Socios
END:VEVENT
BEGIN:VEVENT
DTSTART;TZID=America/Puerto_Rico:20271230T080000
DTEND;TZID=America/Puerto_Rico:20271230T163000
DTSTAMP:20260420T174719
CREATED:20251031T173045Z
LAST-MODIFIED:20251204T204704Z
UID:10002392-1830153600-1830184200@conexionlaboralsurestepr.org
SUMMARY:Visita Socio | Departamento del Trabajo y Recursos Humanos (DTRH)
DESCRIPTION:Programa Veteranos (Capítulo 41 Título 38 del Código de EU)\nServicio de Empleo\, Programa Agrícola y Programa RESEA\nPrograma Seguro por Desempleo
URL:https://conexionlaboralsurestepr.org/event/vista-socio-departamento-del-trabajo-y-recursos-humanos-dtrh/2027-12-30/
CATEGORIES:Socios
END:VEVENT
BEGIN:VEVENT
DTSTART;TZID=America/Puerto_Rico:20271230T080000
DTEND;TZID=America/Puerto_Rico:20271230T163000
DTSTAMP:20260420T174719
CREATED:20251103T184914Z
LAST-MODIFIED:20251204T204647Z
UID:10003648-1830153600-1830184200@conexionlaboralsurestepr.org
SUMMARY:Visita Socio | Título II - Departamento de Educación
DESCRIPTION:Programa de Educación y Literacia de Adultos
URL:https://conexionlaboralsurestepr.org/event/vista-socio-titulo-ii-departamento-de-educacion/2027-12-30/
CATEGORIES:Socios
END:VEVENT
BEGIN:VEVENT
DTSTART;TZID=America/Puerto_Rico:20271230T080000
DTEND;TZID=America/Puerto_Rico:20271230T163000
DTSTAMP:20260420T174719
CREATED:20251103T185220Z
LAST-MODIFIED:20251204T204656Z
UID:10004796-1830153600-1830184200@conexionlaboralsurestepr.org
SUMMARY:Visita Socio | One Stop Careers Center of PR
DESCRIPTION:Programa de Reintegración de Ex-Ofensores bajo Second Change Act
URL:https://conexionlaboralsurestepr.org/event/vista-socio-one-stop-careers-center-of-pr/2027-12-30/
CATEGORIES:Socios
END:VEVENT
BEGIN:VEVENT
DTSTART;TZID=America/Puerto_Rico:20271231T080000
DTEND;TZID=America/Puerto_Rico:20271231T163000
DTSTAMP:20260420T174719
CREATED:20251031T153427Z
LAST-MODIFIED:20251031T173748Z
UID:10001500-1830240000-1830270600@conexionlaboralsurestepr.org
SUMMARY:Visita Socio | Título I - B
DESCRIPTION:Programa Jóvenes\, Adultos y Desplazados
URL:https://conexionlaboralsurestepr.org/event/visita-socios-titulo-i-b/2027-12-31/
CATEGORIES:Socios
END:VEVENT
BEGIN:VEVENT
DTSTART;TZID=America/Puerto_Rico:20271231T080000
DTEND;TZID=America/Puerto_Rico:20271231T163000
DTSTAMP:20260420T174719
CREATED:20251031T173045Z
LAST-MODIFIED:20251204T204704Z
UID:10002393-1830240000-1830270600@conexionlaboralsurestepr.org
SUMMARY:Visita Socio | Departamento del Trabajo y Recursos Humanos (DTRH)
DESCRIPTION:Programa Veteranos (Capítulo 41 Título 38 del Código de EU)\nServicio de Empleo\, Programa Agrícola y Programa RESEA\nPrograma Seguro por Desempleo
URL:https://conexionlaboralsurestepr.org/event/vista-socio-departamento-del-trabajo-y-recursos-humanos-dtrh/2027-12-31/
CATEGORIES:Socios
END:VEVENT
BEGIN:VEVENT
DTSTART;TZID=America/Puerto_Rico:20271231T080000
DTEND;TZID=America/Puerto_Rico:20271231T163000
DTSTAMP:20260420T174719
CREATED:20251103T185220Z
LAST-MODIFIED:20251204T204656Z
UID:10004797-1830240000-1830270600@conexionlaboralsurestepr.org
SUMMARY:Visita Socio | One Stop Careers Center of PR
DESCRIPTION:Programa de Reintegración de Ex-Ofensores bajo Second Change Act
URL:https://conexionlaboralsurestepr.org/event/vista-socio-one-stop-careers-center-of-pr/2027-12-31/
CATEGORIES:Socios
END:VEVENT
BEGIN:VEVENT
DTSTART;TZID=America/Puerto_Rico:20280102T080000
DTEND;TZID=America/Puerto_Rico:20280102T163000
DTSTAMP:20260420T174719
CREATED:20251103T185220Z
LAST-MODIFIED:20251204T204656Z
UID:10004798-1830412800-1830443400@conexionlaboralsurestepr.org
SUMMARY:Visita Socio | One Stop Careers Center of PR
DESCRIPTION:Programa de Reintegración de Ex-Ofensores bajo Second Change Act
URL:https://conexionlaboralsurestepr.org/event/vista-socio-one-stop-careers-center-of-pr/2028-01-02/
CATEGORIES:Socios
END:VEVENT
END:VCALENDAR