BEGIN:VCALENDAR
VERSION:2.0
PRODID:-//Conexión Laboral Sureste - ECPv6.15.20//NONSGML v1.0//EN
CALSCALE:GREGORIAN
METHOD:PUBLISH
X-WR-CALNAME:Conexión Laboral Sureste
X-ORIGINAL-URL:https://conexionlaboralsurestepr.org
X-WR-CALDESC:Events for Conexión Laboral Sureste
REFRESH-INTERVAL;VALUE=DURATION:PT1H
X-Robots-Tag:noindex
X-PUBLISHED-TTL:PT1H
BEGIN:VTIMEZONE
TZID:America/Puerto_Rico
BEGIN:STANDARD
TZOFFSETFROM:-0400
TZOFFSETTO:-0400
TZNAME:AST
DTSTART:20270101T000000
END:STANDARD
END:VTIMEZONE
BEGIN:VEVENT
DTSTART;TZID=America/Puerto_Rico:20280110T080000
DTEND;TZID=America/Puerto_Rico:20280110T163000
DTSTAMP:20260420T172944
CREATED:20251031T173045Z
LAST-MODIFIED:20251204T204704Z
UID:10002399-1831104000-1831134600@conexionlaboralsurestepr.org
SUMMARY:Visita Socio | Departamento del Trabajo y Recursos Humanos (DTRH)
DESCRIPTION:Programa Veteranos (Capítulo 41 Título 38 del Código de EU)\nServicio de Empleo\, Programa Agrícola y Programa RESEA\nPrograma Seguro por Desempleo
URL:https://conexionlaboralsurestepr.org/event/vista-socio-departamento-del-trabajo-y-recursos-humanos-dtrh/2028-01-10/
CATEGORIES:Socios
END:VEVENT
BEGIN:VEVENT
DTSTART;TZID=America/Puerto_Rico:20280110T080000
DTEND;TZID=America/Puerto_Rico:20280110T163000
DTSTAMP:20260420T172944
CREATED:20251103T185220Z
LAST-MODIFIED:20251204T204656Z
UID:10004805-1831104000-1831134600@conexionlaboralsurestepr.org
SUMMARY:Visita Socio | One Stop Careers Center of PR
DESCRIPTION:Programa de Reintegración de Ex-Ofensores bajo Second Change Act
URL:https://conexionlaboralsurestepr.org/event/vista-socio-one-stop-careers-center-of-pr/2028-01-10/
CATEGORIES:Socios
END:VEVENT
BEGIN:VEVENT
DTSTART;TZID=America/Puerto_Rico:20280111T080000
DTEND;TZID=America/Puerto_Rico:20280111T163000
DTSTAMP:20260420T172944
CREATED:20251031T173045Z
LAST-MODIFIED:20251204T204704Z
UID:10002400-1831190400-1831221000@conexionlaboralsurestepr.org
SUMMARY:Visita Socio | Departamento del Trabajo y Recursos Humanos (DTRH)
DESCRIPTION:Programa Veteranos (Capítulo 41 Título 38 del Código de EU)\nServicio de Empleo\, Programa Agrícola y Programa RESEA\nPrograma Seguro por Desempleo
URL:https://conexionlaboralsurestepr.org/event/vista-socio-departamento-del-trabajo-y-recursos-humanos-dtrh/2028-01-11/
CATEGORIES:Socios
END:VEVENT
BEGIN:VEVENT
DTSTART;TZID=America/Puerto_Rico:20280111T080000
DTEND;TZID=America/Puerto_Rico:20280111T163000
DTSTAMP:20260420T172944
CREATED:20251103T185220Z
LAST-MODIFIED:20251204T204656Z
UID:10004806-1831190400-1831221000@conexionlaboralsurestepr.org
SUMMARY:Visita Socio | One Stop Careers Center of PR
DESCRIPTION:Programa de Reintegración de Ex-Ofensores bajo Second Change Act
URL:https://conexionlaboralsurestepr.org/event/vista-socio-one-stop-careers-center-of-pr/2028-01-11/
CATEGORIES:Socios
END:VEVENT
BEGIN:VEVENT
DTSTART;TZID=America/Puerto_Rico:20280112T080000
DTEND;TZID=America/Puerto_Rico:20280112T120000
DTSTAMP:20260420T172944
CREATED:20251103T185047Z
LAST-MODIFIED:20251204T204622Z
UID:10003920-1831276800-1831291200@conexionlaboralsurestepr.org
SUMMARY:Visita Socio | Título IV - "Social Security Act" Departamento de la Familia
DESCRIPTION:Programa TANF (Temporary Assistance for Needy Families)
URL:https://conexionlaboralsurestepr.org/event/vista-socio-titulo-iv-social-security-act-departamento-de-la-familia/2028-01-12/
CATEGORIES:Socios
END:VEVENT
BEGIN:VEVENT
DTSTART;TZID=America/Puerto_Rico:20280112T080000
DTEND;TZID=America/Puerto_Rico:20280112T163000
DTSTAMP:20260420T172944
CREATED:20251031T173045Z
LAST-MODIFIED:20251204T204704Z
UID:10002401-1831276800-1831307400@conexionlaboralsurestepr.org
SUMMARY:Visita Socio | Departamento del Trabajo y Recursos Humanos (DTRH)
DESCRIPTION:Programa Veteranos (Capítulo 41 Título 38 del Código de EU)\nServicio de Empleo\, Programa Agrícola y Programa RESEA\nPrograma Seguro por Desempleo
URL:https://conexionlaboralsurestepr.org/event/vista-socio-departamento-del-trabajo-y-recursos-humanos-dtrh/2028-01-12/
CATEGORIES:Socios
END:VEVENT
BEGIN:VEVENT
DTSTART;TZID=America/Puerto_Rico:20280112T080000
DTEND;TZID=America/Puerto_Rico:20280112T163000
DTSTAMP:20260420T172944
CREATED:20251103T185220Z
LAST-MODIFIED:20251204T204656Z
UID:10004807-1831276800-1831307400@conexionlaboralsurestepr.org
SUMMARY:Visita Socio | One Stop Careers Center of PR
DESCRIPTION:Programa de Reintegración de Ex-Ofensores bajo Second Change Act
URL:https://conexionlaboralsurestepr.org/event/vista-socio-one-stop-careers-center-of-pr/2028-01-12/
CATEGORIES:Socios
END:VEVENT
BEGIN:VEVENT
DTSTART;TZID=America/Puerto_Rico:20280113T080000
DTEND;TZID=America/Puerto_Rico:20280113T163000
DTSTAMP:20260420T172944
CREATED:20251031T173045Z
LAST-MODIFIED:20251204T204704Z
UID:10002402-1831363200-1831393800@conexionlaboralsurestepr.org
SUMMARY:Visita Socio | Departamento del Trabajo y Recursos Humanos (DTRH)
DESCRIPTION:Programa Veteranos (Capítulo 41 Título 38 del Código de EU)\nServicio de Empleo\, Programa Agrícola y Programa RESEA\nPrograma Seguro por Desempleo
URL:https://conexionlaboralsurestepr.org/event/vista-socio-departamento-del-trabajo-y-recursos-humanos-dtrh/2028-01-13/
CATEGORIES:Socios
END:VEVENT
BEGIN:VEVENT
DTSTART;TZID=America/Puerto_Rico:20280113T080000
DTEND;TZID=America/Puerto_Rico:20280113T163000
DTSTAMP:20260420T172945
CREATED:20251103T184914Z
LAST-MODIFIED:20251204T204647Z
UID:10003650-1831363200-1831393800@conexionlaboralsurestepr.org
SUMMARY:Visita Socio | Título II - Departamento de Educación
DESCRIPTION:Programa de Educación y Literacia de Adultos
URL:https://conexionlaboralsurestepr.org/event/vista-socio-titulo-ii-departamento-de-educacion/2028-01-13/
CATEGORIES:Socios
END:VEVENT
BEGIN:VEVENT
DTSTART;TZID=America/Puerto_Rico:20280113T080000
DTEND;TZID=America/Puerto_Rico:20280113T163000
DTSTAMP:20260420T172945
CREATED:20251103T185220Z
LAST-MODIFIED:20251204T204656Z
UID:10004808-1831363200-1831393800@conexionlaboralsurestepr.org
SUMMARY:Visita Socio | One Stop Careers Center of PR
DESCRIPTION:Programa de Reintegración de Ex-Ofensores bajo Second Change Act
URL:https://conexionlaboralsurestepr.org/event/vista-socio-one-stop-careers-center-of-pr/2028-01-13/
CATEGORIES:Socios
END:VEVENT
BEGIN:VEVENT
DTSTART;TZID=America/Puerto_Rico:20280114T080000
DTEND;TZID=America/Puerto_Rico:20280114T163000
DTSTAMP:20260420T172945
CREATED:20251031T153427Z
LAST-MODIFIED:20251031T173748Z
UID:10001502-1831449600-1831480200@conexionlaboralsurestepr.org
SUMMARY:Visita Socio | Título I - B
DESCRIPTION:Programa Jóvenes\, Adultos y Desplazados
URL:https://conexionlaboralsurestepr.org/event/visita-socios-titulo-i-b/2028-01-14/
CATEGORIES:Socios
END:VEVENT
BEGIN:VEVENT
DTSTART;TZID=America/Puerto_Rico:20280114T080000
DTEND;TZID=America/Puerto_Rico:20280114T163000
DTSTAMP:20260420T172945
CREATED:20251031T173045Z
LAST-MODIFIED:20251204T204704Z
UID:10002403-1831449600-1831480200@conexionlaboralsurestepr.org
SUMMARY:Visita Socio | Departamento del Trabajo y Recursos Humanos (DTRH)
DESCRIPTION:Programa Veteranos (Capítulo 41 Título 38 del Código de EU)\nServicio de Empleo\, Programa Agrícola y Programa RESEA\nPrograma Seguro por Desempleo
URL:https://conexionlaboralsurestepr.org/event/vista-socio-departamento-del-trabajo-y-recursos-humanos-dtrh/2028-01-14/
CATEGORIES:Socios
END:VEVENT
BEGIN:VEVENT
DTSTART;TZID=America/Puerto_Rico:20280114T080000
DTEND;TZID=America/Puerto_Rico:20280114T163000
DTSTAMP:20260420T172945
CREATED:20251103T185220Z
LAST-MODIFIED:20251204T204656Z
UID:10004809-1831449600-1831480200@conexionlaboralsurestepr.org
SUMMARY:Visita Socio | One Stop Careers Center of PR
DESCRIPTION:Programa de Reintegración de Ex-Ofensores bajo Second Change Act
URL:https://conexionlaboralsurestepr.org/event/vista-socio-one-stop-careers-center-of-pr/2028-01-14/
CATEGORIES:Socios
END:VEVENT
BEGIN:VEVENT
DTSTART;TZID=America/Puerto_Rico:20280116T080000
DTEND;TZID=America/Puerto_Rico:20280116T163000
DTSTAMP:20260420T172945
CREATED:20251103T185220Z
LAST-MODIFIED:20251204T204656Z
UID:10004810-1831622400-1831653000@conexionlaboralsurestepr.org
SUMMARY:Visita Socio | One Stop Careers Center of PR
DESCRIPTION:Programa de Reintegración de Ex-Ofensores bajo Second Change Act
URL:https://conexionlaboralsurestepr.org/event/vista-socio-one-stop-careers-center-of-pr/2028-01-16/
CATEGORIES:Socios
END:VEVENT
END:VCALENDAR