BEGIN:VCALENDAR
VERSION:2.0
PRODID:-//Conexión Laboral Sureste - ECPv6.15.20//NONSGML v1.0//EN
CALSCALE:GREGORIAN
METHOD:PUBLISH
X-WR-CALNAME:Conexión Laboral Sureste
X-ORIGINAL-URL:https://conexionlaboralsurestepr.org
X-WR-CALDESC:Events for Conexión Laboral Sureste
REFRESH-INTERVAL;VALUE=DURATION:PT1H
X-Robots-Tag:noindex
X-PUBLISHED-TTL:PT1H
BEGIN:VTIMEZONE
TZID:America/Puerto_Rico
BEGIN:STANDARD
TZOFFSETFROM:-0400
TZOFFSETTO:-0400
TZNAME:AST
DTSTART:20270101T000000
END:STANDARD
END:VTIMEZONE
BEGIN:VEVENT
DTSTART;TZID=America/Puerto_Rico:20280117T080000
DTEND;TZID=America/Puerto_Rico:20280117T163000
DTSTAMP:20260420T204313
CREATED:20251031T173045Z
LAST-MODIFIED:20251204T204704Z
UID:10002404-1831708800-1831739400@conexionlaboralsurestepr.org
SUMMARY:Visita Socio | Departamento del Trabajo y Recursos Humanos (DTRH)
DESCRIPTION:Programa Veteranos (Capítulo 41 Título 38 del Código de EU)\nServicio de Empleo\, Programa Agrícola y Programa RESEA\nPrograma Seguro por Desempleo
URL:https://conexionlaboralsurestepr.org/event/vista-socio-departamento-del-trabajo-y-recursos-humanos-dtrh/2028-01-17/
CATEGORIES:Socios
END:VEVENT
BEGIN:VEVENT
DTSTART;TZID=America/Puerto_Rico:20280117T080000
DTEND;TZID=America/Puerto_Rico:20280117T163000
DTSTAMP:20260420T204313
CREATED:20251103T185220Z
LAST-MODIFIED:20251204T204656Z
UID:10004811-1831708800-1831739400@conexionlaboralsurestepr.org
SUMMARY:Visita Socio | One Stop Careers Center of PR
DESCRIPTION:Programa de Reintegración de Ex-Ofensores bajo Second Change Act
URL:https://conexionlaboralsurestepr.org/event/vista-socio-one-stop-careers-center-of-pr/2028-01-17/
CATEGORIES:Socios
END:VEVENT
BEGIN:VEVENT
DTSTART;TZID=America/Puerto_Rico:20280118T080000
DTEND;TZID=America/Puerto_Rico:20280118T163000
DTSTAMP:20260420T204313
CREATED:20251031T173045Z
LAST-MODIFIED:20251204T204704Z
UID:10002405-1831795200-1831825800@conexionlaboralsurestepr.org
SUMMARY:Visita Socio | Departamento del Trabajo y Recursos Humanos (DTRH)
DESCRIPTION:Programa Veteranos (Capítulo 41 Título 38 del Código de EU)\nServicio de Empleo\, Programa Agrícola y Programa RESEA\nPrograma Seguro por Desempleo
URL:https://conexionlaboralsurestepr.org/event/vista-socio-departamento-del-trabajo-y-recursos-humanos-dtrh/2028-01-18/
CATEGORIES:Socios
END:VEVENT
BEGIN:VEVENT
DTSTART;TZID=America/Puerto_Rico:20280118T080000
DTEND;TZID=America/Puerto_Rico:20280118T163000
DTSTAMP:20260420T204313
CREATED:20251103T185220Z
LAST-MODIFIED:20251204T204656Z
UID:10004812-1831795200-1831825800@conexionlaboralsurestepr.org
SUMMARY:Visita Socio | One Stop Careers Center of PR
DESCRIPTION:Programa de Reintegración de Ex-Ofensores bajo Second Change Act
URL:https://conexionlaboralsurestepr.org/event/vista-socio-one-stop-careers-center-of-pr/2028-01-18/
CATEGORIES:Socios
END:VEVENT
BEGIN:VEVENT
DTSTART;TZID=America/Puerto_Rico:20280119T080000
DTEND;TZID=America/Puerto_Rico:20280119T120000
DTSTAMP:20260420T204313
CREATED:20251103T185047Z
LAST-MODIFIED:20251204T204622Z
UID:10003921-1831881600-1831896000@conexionlaboralsurestepr.org
SUMMARY:Visita Socio | Título IV - "Social Security Act" Departamento de la Familia
DESCRIPTION:Programa TANF (Temporary Assistance for Needy Families)
URL:https://conexionlaboralsurestepr.org/event/vista-socio-titulo-iv-social-security-act-departamento-de-la-familia/2028-01-19/
CATEGORIES:Socios
END:VEVENT
BEGIN:VEVENT
DTSTART;TZID=America/Puerto_Rico:20280119T080000
DTEND;TZID=America/Puerto_Rico:20280119T163000
DTSTAMP:20260420T204313
CREATED:20251031T173045Z
LAST-MODIFIED:20251204T204704Z
UID:10002406-1831881600-1831912200@conexionlaboralsurestepr.org
SUMMARY:Visita Socio | Departamento del Trabajo y Recursos Humanos (DTRH)
DESCRIPTION:Programa Veteranos (Capítulo 41 Título 38 del Código de EU)\nServicio de Empleo\, Programa Agrícola y Programa RESEA\nPrograma Seguro por Desempleo
URL:https://conexionlaboralsurestepr.org/event/vista-socio-departamento-del-trabajo-y-recursos-humanos-dtrh/2028-01-19/
CATEGORIES:Socios
END:VEVENT
BEGIN:VEVENT
DTSTART;TZID=America/Puerto_Rico:20280119T080000
DTEND;TZID=America/Puerto_Rico:20280119T163000
DTSTAMP:20260420T204313
CREATED:20251103T185220Z
LAST-MODIFIED:20251204T204656Z
UID:10004813-1831881600-1831912200@conexionlaboralsurestepr.org
SUMMARY:Visita Socio | One Stop Careers Center of PR
DESCRIPTION:Programa de Reintegración de Ex-Ofensores bajo Second Change Act
URL:https://conexionlaboralsurestepr.org/event/vista-socio-one-stop-careers-center-of-pr/2028-01-19/
CATEGORIES:Socios
END:VEVENT
BEGIN:VEVENT
DTSTART;TZID=America/Puerto_Rico:20280120T080000
DTEND;TZID=America/Puerto_Rico:20280120T163000
DTSTAMP:20260420T204313
CREATED:20251031T173045Z
LAST-MODIFIED:20251204T204704Z
UID:10002407-1831968000-1831998600@conexionlaboralsurestepr.org
SUMMARY:Visita Socio | Departamento del Trabajo y Recursos Humanos (DTRH)
DESCRIPTION:Programa Veteranos (Capítulo 41 Título 38 del Código de EU)\nServicio de Empleo\, Programa Agrícola y Programa RESEA\nPrograma Seguro por Desempleo
URL:https://conexionlaboralsurestepr.org/event/vista-socio-departamento-del-trabajo-y-recursos-humanos-dtrh/2028-01-20/
CATEGORIES:Socios
END:VEVENT
BEGIN:VEVENT
DTSTART;TZID=America/Puerto_Rico:20280120T080000
DTEND;TZID=America/Puerto_Rico:20280120T163000
DTSTAMP:20260420T204313
CREATED:20251103T184914Z
LAST-MODIFIED:20251204T204647Z
UID:10003651-1831968000-1831998600@conexionlaboralsurestepr.org
SUMMARY:Visita Socio | Título II - Departamento de Educación
DESCRIPTION:Programa de Educación y Literacia de Adultos
URL:https://conexionlaboralsurestepr.org/event/vista-socio-titulo-ii-departamento-de-educacion/2028-01-20/
CATEGORIES:Socios
END:VEVENT
BEGIN:VEVENT
DTSTART;TZID=America/Puerto_Rico:20280120T080000
DTEND;TZID=America/Puerto_Rico:20280120T163000
DTSTAMP:20260420T204313
CREATED:20251103T185220Z
LAST-MODIFIED:20251204T204656Z
UID:10004814-1831968000-1831998600@conexionlaboralsurestepr.org
SUMMARY:Visita Socio | One Stop Careers Center of PR
DESCRIPTION:Programa de Reintegración de Ex-Ofensores bajo Second Change Act
URL:https://conexionlaboralsurestepr.org/event/vista-socio-one-stop-careers-center-of-pr/2028-01-20/
CATEGORIES:Socios
END:VEVENT
BEGIN:VEVENT
DTSTART;TZID=America/Puerto_Rico:20280121T080000
DTEND;TZID=America/Puerto_Rico:20280121T163000
DTSTAMP:20260420T204313
CREATED:20251031T153427Z
LAST-MODIFIED:20251031T173748Z
UID:10001503-1832054400-1832085000@conexionlaboralsurestepr.org
SUMMARY:Visita Socio | Título I - B
DESCRIPTION:Programa Jóvenes\, Adultos y Desplazados
URL:https://conexionlaboralsurestepr.org/event/visita-socios-titulo-i-b/2028-01-21/
CATEGORIES:Socios
END:VEVENT
BEGIN:VEVENT
DTSTART;TZID=America/Puerto_Rico:20280121T080000
DTEND;TZID=America/Puerto_Rico:20280121T163000
DTSTAMP:20260420T204313
CREATED:20251031T173045Z
LAST-MODIFIED:20251204T204704Z
UID:10002408-1832054400-1832085000@conexionlaboralsurestepr.org
SUMMARY:Visita Socio | Departamento del Trabajo y Recursos Humanos (DTRH)
DESCRIPTION:Programa Veteranos (Capítulo 41 Título 38 del Código de EU)\nServicio de Empleo\, Programa Agrícola y Programa RESEA\nPrograma Seguro por Desempleo
URL:https://conexionlaboralsurestepr.org/event/vista-socio-departamento-del-trabajo-y-recursos-humanos-dtrh/2028-01-21/
CATEGORIES:Socios
END:VEVENT
BEGIN:VEVENT
DTSTART;TZID=America/Puerto_Rico:20280121T080000
DTEND;TZID=America/Puerto_Rico:20280121T163000
DTSTAMP:20260420T204313
CREATED:20251103T185220Z
LAST-MODIFIED:20251204T204656Z
UID:10004815-1832054400-1832085000@conexionlaboralsurestepr.org
SUMMARY:Visita Socio | One Stop Careers Center of PR
DESCRIPTION:Programa de Reintegración de Ex-Ofensores bajo Second Change Act
URL:https://conexionlaboralsurestepr.org/event/vista-socio-one-stop-careers-center-of-pr/2028-01-21/
CATEGORIES:Socios
END:VEVENT
BEGIN:VEVENT
DTSTART;TZID=America/Puerto_Rico:20280123T080000
DTEND;TZID=America/Puerto_Rico:20280123T163000
DTSTAMP:20260420T204313
CREATED:20251103T185220Z
LAST-MODIFIED:20251204T204656Z
UID:10004816-1832227200-1832257800@conexionlaboralsurestepr.org
SUMMARY:Visita Socio | One Stop Careers Center of PR
DESCRIPTION:Programa de Reintegración de Ex-Ofensores bajo Second Change Act
URL:https://conexionlaboralsurestepr.org/event/vista-socio-one-stop-careers-center-of-pr/2028-01-23/
CATEGORIES:Socios
END:VEVENT
END:VCALENDAR