BEGIN:VCALENDAR
VERSION:2.0
PRODID:-//Conexión Laboral Sureste - ECPv6.15.20//NONSGML v1.0//EN
CALSCALE:GREGORIAN
METHOD:PUBLISH
X-ORIGINAL-URL:https://conexionlaboralsurestepr.org
X-WR-CALDESC:Events for Conexión Laboral Sureste
REFRESH-INTERVAL;VALUE=DURATION:PT1H
X-Robots-Tag:noindex
X-PUBLISHED-TTL:PT1H
BEGIN:VTIMEZONE
TZID:America/Puerto_Rico
BEGIN:STANDARD
TZOFFSETFROM:-0400
TZOFFSETTO:-0400
TZNAME:AST
DTSTART:20270101T000000
END:STANDARD
END:VTIMEZONE
BEGIN:VEVENT
DTSTART;TZID=America/Puerto_Rico:20280313T080000
DTEND;TZID=America/Puerto_Rico:20280313T163000
DTSTAMP:20260420T222136
CREATED:20251031T153427Z
LAST-MODIFIED:20251031T173748Z
UID:10000618-1836547200-1836577800@conexionlaboralsurestepr.org
SUMMARY:Visita Socio | Título I - B
DESCRIPTION:Programa Jóvenes\, Adultos y Desplazados
URL:https://conexionlaboralsurestepr.org/event/visita-socios-titulo-i-b/2028-03-13/
CATEGORIES:Socios
END:VEVENT
BEGIN:VEVENT
DTSTART;TZID=America/Puerto_Rico:20280313T080000
DTEND;TZID=America/Puerto_Rico:20280313T163000
DTSTAMP:20260420T222136
CREATED:20251031T173045Z
LAST-MODIFIED:20251204T204704Z
UID:10002444-1836547200-1836577800@conexionlaboralsurestepr.org
SUMMARY:Visita Socio | Departamento del Trabajo y Recursos Humanos (DTRH)
DESCRIPTION:Programa Veteranos (Capítulo 41 Título 38 del Código de EU)\nServicio de Empleo\, Programa Agrícola y Programa RESEA\nPrograma Seguro por Desempleo
URL:https://conexionlaboralsurestepr.org/event/vista-socio-departamento-del-trabajo-y-recursos-humanos-dtrh/2028-03-13/
CATEGORIES:Socios
END:VEVENT
BEGIN:VEVENT
DTSTART;TZID=America/Puerto_Rico:20280313T080000
DTEND;TZID=America/Puerto_Rico:20280313T163000
DTSTAMP:20260420T222136
CREATED:20251103T185220Z
LAST-MODIFIED:20251204T204656Z
UID:10004859-1836547200-1836577800@conexionlaboralsurestepr.org
SUMMARY:Visita Socio | One Stop Careers Center of PR
DESCRIPTION:Programa de Reintegración de Ex-Ofensores bajo Second Change Act
URL:https://conexionlaboralsurestepr.org/event/vista-socio-one-stop-careers-center-of-pr/2028-03-13/
CATEGORIES:Socios
END:VEVENT
BEGIN:VEVENT
DTSTART;TZID=America/Puerto_Rico:20280314T080000
DTEND;TZID=America/Puerto_Rico:20280314T163000
DTSTAMP:20260420T222136
CREATED:20251031T153427Z
LAST-MODIFIED:20251031T173748Z
UID:10000619-1836633600-1836664200@conexionlaboralsurestepr.org
SUMMARY:Visita Socio | Título I - B
DESCRIPTION:Programa Jóvenes\, Adultos y Desplazados
URL:https://conexionlaboralsurestepr.org/event/visita-socios-titulo-i-b/2028-03-14/
CATEGORIES:Socios
END:VEVENT
BEGIN:VEVENT
DTSTART;TZID=America/Puerto_Rico:20280314T080000
DTEND;TZID=America/Puerto_Rico:20280314T163000
DTSTAMP:20260420T222136
CREATED:20251031T173045Z
LAST-MODIFIED:20251204T204704Z
UID:10002445-1836633600-1836664200@conexionlaboralsurestepr.org
SUMMARY:Visita Socio | Departamento del Trabajo y Recursos Humanos (DTRH)
DESCRIPTION:Programa Veteranos (Capítulo 41 Título 38 del Código de EU)\nServicio de Empleo\, Programa Agrícola y Programa RESEA\nPrograma Seguro por Desempleo
URL:https://conexionlaboralsurestepr.org/event/vista-socio-departamento-del-trabajo-y-recursos-humanos-dtrh/2028-03-14/
CATEGORIES:Socios
END:VEVENT
BEGIN:VEVENT
DTSTART;TZID=America/Puerto_Rico:20280314T080000
DTEND;TZID=America/Puerto_Rico:20280314T163000
DTSTAMP:20260420T222136
CREATED:20251103T185220Z
LAST-MODIFIED:20251204T204656Z
UID:10004860-1836633600-1836664200@conexionlaboralsurestepr.org
SUMMARY:Visita Socio | One Stop Careers Center of PR
DESCRIPTION:Programa de Reintegración de Ex-Ofensores bajo Second Change Act
URL:https://conexionlaboralsurestepr.org/event/vista-socio-one-stop-careers-center-of-pr/2028-03-14/
CATEGORIES:Socios
END:VEVENT
BEGIN:VEVENT
DTSTART;TZID=America/Puerto_Rico:20280315T080000
DTEND;TZID=America/Puerto_Rico:20280315T120000
DTSTAMP:20260420T222136
CREATED:20251103T185047Z
LAST-MODIFIED:20251204T204622Z
UID:10003929-1836720000-1836734400@conexionlaboralsurestepr.org
SUMMARY:Visita Socio | Título IV - "Social Security Act" Departamento de la Familia
DESCRIPTION:Programa TANF (Temporary Assistance for Needy Families)
URL:https://conexionlaboralsurestepr.org/event/vista-socio-titulo-iv-social-security-act-departamento-de-la-familia/2028-03-15/
CATEGORIES:Socios
END:VEVENT
BEGIN:VEVENT
DTSTART;TZID=America/Puerto_Rico:20280315T080000
DTEND;TZID=America/Puerto_Rico:20280315T163000
DTSTAMP:20260420T222136
CREATED:20251031T153427Z
LAST-MODIFIED:20251031T173748Z
UID:10000620-1836720000-1836750600@conexionlaboralsurestepr.org
SUMMARY:Visita Socio | Título I - B
DESCRIPTION:Programa Jóvenes\, Adultos y Desplazados
URL:https://conexionlaboralsurestepr.org/event/visita-socios-titulo-i-b/2028-03-15/
CATEGORIES:Socios
END:VEVENT
BEGIN:VEVENT
DTSTART;TZID=America/Puerto_Rico:20280315T080000
DTEND;TZID=America/Puerto_Rico:20280315T163000
DTSTAMP:20260420T222136
CREATED:20251031T173045Z
LAST-MODIFIED:20251204T204704Z
UID:10002446-1836720000-1836750600@conexionlaboralsurestepr.org
SUMMARY:Visita Socio | Departamento del Trabajo y Recursos Humanos (DTRH)
DESCRIPTION:Programa Veteranos (Capítulo 41 Título 38 del Código de EU)\nServicio de Empleo\, Programa Agrícola y Programa RESEA\nPrograma Seguro por Desempleo
URL:https://conexionlaboralsurestepr.org/event/vista-socio-departamento-del-trabajo-y-recursos-humanos-dtrh/2028-03-15/
CATEGORIES:Socios
END:VEVENT
BEGIN:VEVENT
DTSTART;TZID=America/Puerto_Rico:20280315T080000
DTEND;TZID=America/Puerto_Rico:20280315T163000
DTSTAMP:20260420T222136
CREATED:20251103T185220Z
LAST-MODIFIED:20251204T204656Z
UID:10004861-1836720000-1836750600@conexionlaboralsurestepr.org
SUMMARY:Visita Socio | One Stop Careers Center of PR
DESCRIPTION:Programa de Reintegración de Ex-Ofensores bajo Second Change Act
URL:https://conexionlaboralsurestepr.org/event/vista-socio-one-stop-careers-center-of-pr/2028-03-15/
CATEGORIES:Socios
END:VEVENT
BEGIN:VEVENT
DTSTART;TZID=America/Puerto_Rico:20280316T080000
DTEND;TZID=America/Puerto_Rico:20280316T163000
DTSTAMP:20260420T222136
CREATED:20251031T153427Z
LAST-MODIFIED:20251031T173748Z
UID:10000621-1836806400-1836837000@conexionlaboralsurestepr.org
SUMMARY:Visita Socio | Título I - B
DESCRIPTION:Programa Jóvenes\, Adultos y Desplazados
URL:https://conexionlaboralsurestepr.org/event/visita-socios-titulo-i-b/2028-03-16/
CATEGORIES:Socios
END:VEVENT
BEGIN:VEVENT
DTSTART;TZID=America/Puerto_Rico:20280316T080000
DTEND;TZID=America/Puerto_Rico:20280316T163000
DTSTAMP:20260420T222136
CREATED:20251031T173045Z
LAST-MODIFIED:20251204T204704Z
UID:10002447-1836806400-1836837000@conexionlaboralsurestepr.org
SUMMARY:Visita Socio | Departamento del Trabajo y Recursos Humanos (DTRH)
DESCRIPTION:Programa Veteranos (Capítulo 41 Título 38 del Código de EU)\nServicio de Empleo\, Programa Agrícola y Programa RESEA\nPrograma Seguro por Desempleo
URL:https://conexionlaboralsurestepr.org/event/vista-socio-departamento-del-trabajo-y-recursos-humanos-dtrh/2028-03-16/
CATEGORIES:Socios
END:VEVENT
BEGIN:VEVENT
DTSTART;TZID=America/Puerto_Rico:20280316T080000
DTEND;TZID=America/Puerto_Rico:20280316T163000
DTSTAMP:20260420T222136
CREATED:20251103T184914Z
LAST-MODIFIED:20251204T204647Z
UID:10003659-1836806400-1836837000@conexionlaboralsurestepr.org
SUMMARY:Visita Socio | Título II - Departamento de Educación
DESCRIPTION:Programa de Educación y Literacia de Adultos
URL:https://conexionlaboralsurestepr.org/event/vista-socio-titulo-ii-departamento-de-educacion/2028-03-16/
CATEGORIES:Socios
END:VEVENT
BEGIN:VEVENT
DTSTART;TZID=America/Puerto_Rico:20280316T080000
DTEND;TZID=America/Puerto_Rico:20280316T163000
DTSTAMP:20260420T222136
CREATED:20251103T185220Z
LAST-MODIFIED:20251204T204656Z
UID:10004862-1836806400-1836837000@conexionlaboralsurestepr.org
SUMMARY:Visita Socio | One Stop Careers Center of PR
DESCRIPTION:Programa de Reintegración de Ex-Ofensores bajo Second Change Act
URL:https://conexionlaboralsurestepr.org/event/vista-socio-one-stop-careers-center-of-pr/2028-03-16/
CATEGORIES:Socios
END:VEVENT
BEGIN:VEVENT
DTSTART;TZID=America/Puerto_Rico:20280317T080000
DTEND;TZID=America/Puerto_Rico:20280317T163000
DTSTAMP:20260420T222136
CREATED:20251031T153427Z
LAST-MODIFIED:20251031T173748Z
UID:10001511-1836892800-1836923400@conexionlaboralsurestepr.org
SUMMARY:Visita Socio | Título I - B
DESCRIPTION:Programa Jóvenes\, Adultos y Desplazados
URL:https://conexionlaboralsurestepr.org/event/visita-socios-titulo-i-b/2028-03-17/
CATEGORIES:Socios
END:VEVENT
BEGIN:VEVENT
DTSTART;TZID=America/Puerto_Rico:20280317T080000
DTEND;TZID=America/Puerto_Rico:20280317T163000
DTSTAMP:20260420T222137
CREATED:20251031T173045Z
LAST-MODIFIED:20251204T204704Z
UID:10002448-1836892800-1836923400@conexionlaboralsurestepr.org
SUMMARY:Visita Socio | Departamento del Trabajo y Recursos Humanos (DTRH)
DESCRIPTION:Programa Veteranos (Capítulo 41 Título 38 del Código de EU)\nServicio de Empleo\, Programa Agrícola y Programa RESEA\nPrograma Seguro por Desempleo
URL:https://conexionlaboralsurestepr.org/event/vista-socio-departamento-del-trabajo-y-recursos-humanos-dtrh/2028-03-17/
CATEGORIES:Socios
END:VEVENT
BEGIN:VEVENT
DTSTART;TZID=America/Puerto_Rico:20280317T080000
DTEND;TZID=America/Puerto_Rico:20280317T163000
DTSTAMP:20260420T222137
CREATED:20251103T185220Z
LAST-MODIFIED:20251204T204656Z
UID:10004863-1836892800-1836923400@conexionlaboralsurestepr.org
SUMMARY:Visita Socio | One Stop Careers Center of PR
DESCRIPTION:Programa de Reintegración de Ex-Ofensores bajo Second Change Act
URL:https://conexionlaboralsurestepr.org/event/vista-socio-one-stop-careers-center-of-pr/2028-03-17/
CATEGORIES:Socios
END:VEVENT
BEGIN:VEVENT
DTSTART;TZID=America/Puerto_Rico:20280319T080000
DTEND;TZID=America/Puerto_Rico:20280319T163000
DTSTAMP:20260420T222137
CREATED:20251103T185220Z
LAST-MODIFIED:20251204T204656Z
UID:10004864-1837065600-1837096200@conexionlaboralsurestepr.org
SUMMARY:Visita Socio | One Stop Careers Center of PR
DESCRIPTION:Programa de Reintegración de Ex-Ofensores bajo Second Change Act
URL:https://conexionlaboralsurestepr.org/event/vista-socio-one-stop-careers-center-of-pr/2028-03-19/
CATEGORIES:Socios
END:VEVENT
END:VCALENDAR