BEGIN:VCALENDAR
VERSION:2.0
PRODID:-//Conexión Laboral Sureste - ECPv6.15.20//NONSGML v1.0//EN
CALSCALE:GREGORIAN
METHOD:PUBLISH
X-WR-CALNAME:Conexión Laboral Sureste
X-ORIGINAL-URL:https://conexionlaboralsurestepr.org
X-WR-CALDESC:Events for Conexión Laboral Sureste
REFRESH-INTERVAL;VALUE=DURATION:PT1H
X-Robots-Tag:noindex
X-PUBLISHED-TTL:PT1H
BEGIN:VTIMEZONE
TZID:America/Puerto_Rico
BEGIN:STANDARD
TZOFFSETFROM:-0400
TZOFFSETTO:-0400
TZNAME:AST
DTSTART:20270101T000000
END:STANDARD
END:VTIMEZONE
BEGIN:VEVENT
DTSTART;TZID=America/Puerto_Rico:20280403T080000
DTEND;TZID=America/Puerto_Rico:20280403T120000
DTSTAMP:20260420T192102
CREATED:20251103T184249Z
LAST-MODIFIED:20251204T204710Z
UID:10003372-1838361600-1838376000@conexionlaboralsurestepr.org
SUMMARY:Visita Socio | Título I | Administración de Rehabilitación Vocacional
DESCRIPTION:Programa de Adiestramiento y Empleo Rehabilitación Vocacional
URL:https://conexionlaboralsurestepr.org/event/vista-socio-titulo-i-administracion-de-rehabilitacion-vocacional/2028-04-03/
CATEGORIES:Socios
END:VEVENT
BEGIN:VEVENT
DTSTART;TZID=America/Puerto_Rico:20280403T080000
DTEND;TZID=America/Puerto_Rico:20280403T163000
DTSTAMP:20260420T192102
CREATED:20251031T153427Z
LAST-MODIFIED:20251031T173748Z
UID:10000633-1838361600-1838392200@conexionlaboralsurestepr.org
SUMMARY:Visita Socio | Título I - B
DESCRIPTION:Programa Jóvenes\, Adultos y Desplazados
URL:https://conexionlaboralsurestepr.org/event/visita-socios-titulo-i-b/2028-04-03/
CATEGORIES:Socios
END:VEVENT
BEGIN:VEVENT
DTSTART;TZID=America/Puerto_Rico:20280403T080000
DTEND;TZID=America/Puerto_Rico:20280403T163000
DTSTAMP:20260420T192102
CREATED:20251031T173045Z
LAST-MODIFIED:20251204T204704Z
UID:10002459-1838361600-1838392200@conexionlaboralsurestepr.org
SUMMARY:Visita Socio | Departamento del Trabajo y Recursos Humanos (DTRH)
DESCRIPTION:Programa Veteranos (Capítulo 41 Título 38 del Código de EU)\nServicio de Empleo\, Programa Agrícola y Programa RESEA\nPrograma Seguro por Desempleo
URL:https://conexionlaboralsurestepr.org/event/vista-socio-departamento-del-trabajo-y-recursos-humanos-dtrh/2028-04-03/
CATEGORIES:Socios
END:VEVENT
BEGIN:VEVENT
DTSTART;TZID=America/Puerto_Rico:20280403T080000
DTEND;TZID=America/Puerto_Rico:20280403T163000
DTSTAMP:20260420T192102
CREATED:20251103T185220Z
LAST-MODIFIED:20251204T204656Z
UID:10004877-1838361600-1838392200@conexionlaboralsurestepr.org
SUMMARY:Visita Socio | One Stop Careers Center of PR
DESCRIPTION:Programa de Reintegración de Ex-Ofensores bajo Second Change Act
URL:https://conexionlaboralsurestepr.org/event/vista-socio-one-stop-careers-center-of-pr/2028-04-03/
CATEGORIES:Socios
END:VEVENT
BEGIN:VEVENT
DTSTART;TZID=America/Puerto_Rico:20280404T080000
DTEND;TZID=America/Puerto_Rico:20280404T120000
DTSTAMP:20260420T192102
CREATED:20251103T184454Z
LAST-MODIFIED:20251204T204641Z
UID:10003434-1838448000-1838462400@conexionlaboralsurestepr.org
SUMMARY:Visita Socio | PathStone Corporation (Rural)
DESCRIPTION:Programa para Trabajadores Agrícolas Migrantes y Estacionales.\nPrograma Youth Build
URL:https://conexionlaboralsurestepr.org/event/vista-socio-pathstone-corporation-rural/2028-04-04/
CATEGORIES:Socios
END:VEVENT
BEGIN:VEVENT
DTSTART;TZID=America/Puerto_Rico:20280404T080000
DTEND;TZID=America/Puerto_Rico:20280404T120000
DTSTAMP:20260420T192102
CREATED:20251103T184621Z
LAST-MODIFIED:20251204T204632Z
UID:10003496-1838448000-1838462400@conexionlaboralsurestepr.org
SUMMARY:Visita Socio | Título V - Old American Act
DESCRIPTION:Senior Community Services Employment Programs
URL:https://conexionlaboralsurestepr.org/event/vista-socio-titulo-v-old-american-act/2028-04-04/
CATEGORIES:Socios
END:VEVENT
BEGIN:VEVENT
DTSTART;TZID=America/Puerto_Rico:20280404T080000
DTEND;TZID=America/Puerto_Rico:20280404T163000
DTSTAMP:20260420T192102
CREATED:20251031T153427Z
LAST-MODIFIED:20251031T173748Z
UID:10000634-1838448000-1838478600@conexionlaboralsurestepr.org
SUMMARY:Visita Socio | Título I - B
DESCRIPTION:Programa Jóvenes\, Adultos y Desplazados
URL:https://conexionlaboralsurestepr.org/event/visita-socios-titulo-i-b/2028-04-04/
CATEGORIES:Socios
END:VEVENT
BEGIN:VEVENT
DTSTART;TZID=America/Puerto_Rico:20280404T080000
DTEND;TZID=America/Puerto_Rico:20280404T163000
DTSTAMP:20260420T192102
CREATED:20251031T173045Z
LAST-MODIFIED:20251204T204704Z
UID:10002460-1838448000-1838478600@conexionlaboralsurestepr.org
SUMMARY:Visita Socio | Departamento del Trabajo y Recursos Humanos (DTRH)
DESCRIPTION:Programa Veteranos (Capítulo 41 Título 38 del Código de EU)\nServicio de Empleo\, Programa Agrícola y Programa RESEA\nPrograma Seguro por Desempleo
URL:https://conexionlaboralsurestepr.org/event/vista-socio-departamento-del-trabajo-y-recursos-humanos-dtrh/2028-04-04/
CATEGORIES:Socios
END:VEVENT
BEGIN:VEVENT
DTSTART;TZID=America/Puerto_Rico:20280404T080000
DTEND;TZID=America/Puerto_Rico:20280404T163000
DTSTAMP:20260420T192102
CREATED:20251103T185220Z
LAST-MODIFIED:20251204T204656Z
UID:10004878-1838448000-1838478600@conexionlaboralsurestepr.org
SUMMARY:Visita Socio | One Stop Careers Center of PR
DESCRIPTION:Programa de Reintegración de Ex-Ofensores bajo Second Change Act
URL:https://conexionlaboralsurestepr.org/event/vista-socio-one-stop-careers-center-of-pr/2028-04-04/
CATEGORIES:Socios
END:VEVENT
BEGIN:VEVENT
DTSTART;TZID=America/Puerto_Rico:20280405T080000
DTEND;TZID=America/Puerto_Rico:20280405T120000
DTSTAMP:20260420T192102
CREATED:20251103T185047Z
LAST-MODIFIED:20251204T204622Z
UID:10003932-1838534400-1838548800@conexionlaboralsurestepr.org
SUMMARY:Visita Socio | Título IV - "Social Security Act" Departamento de la Familia
DESCRIPTION:Programa TANF (Temporary Assistance for Needy Families)
URL:https://conexionlaboralsurestepr.org/event/vista-socio-titulo-iv-social-security-act-departamento-de-la-familia/2028-04-05/
CATEGORIES:Socios
END:VEVENT
BEGIN:VEVENT
DTSTART;TZID=America/Puerto_Rico:20280405T080000
DTEND;TZID=America/Puerto_Rico:20280405T163000
DTSTAMP:20260420T192102
CREATED:20251031T153427Z
LAST-MODIFIED:20251031T173748Z
UID:10000635-1838534400-1838565000@conexionlaboralsurestepr.org
SUMMARY:Visita Socio | Título I - B
DESCRIPTION:Programa Jóvenes\, Adultos y Desplazados
URL:https://conexionlaboralsurestepr.org/event/visita-socios-titulo-i-b/2028-04-05/
CATEGORIES:Socios
END:VEVENT
BEGIN:VEVENT
DTSTART;TZID=America/Puerto_Rico:20280405T080000
DTEND;TZID=America/Puerto_Rico:20280405T163000
DTSTAMP:20260420T192102
CREATED:20251031T173045Z
LAST-MODIFIED:20251204T204704Z
UID:10002461-1838534400-1838565000@conexionlaboralsurestepr.org
SUMMARY:Visita Socio | Departamento del Trabajo y Recursos Humanos (DTRH)
DESCRIPTION:Programa Veteranos (Capítulo 41 Título 38 del Código de EU)\nServicio de Empleo\, Programa Agrícola y Programa RESEA\nPrograma Seguro por Desempleo
URL:https://conexionlaboralsurestepr.org/event/vista-socio-departamento-del-trabajo-y-recursos-humanos-dtrh/2028-04-05/
CATEGORIES:Socios
END:VEVENT
BEGIN:VEVENT
DTSTART;TZID=America/Puerto_Rico:20280405T080000
DTEND;TZID=America/Puerto_Rico:20280405T163000
DTSTAMP:20260420T192102
CREATED:20251103T185220Z
LAST-MODIFIED:20251204T204656Z
UID:10004879-1838534400-1838565000@conexionlaboralsurestepr.org
SUMMARY:Visita Socio | One Stop Careers Center of PR
DESCRIPTION:Programa de Reintegración de Ex-Ofensores bajo Second Change Act
URL:https://conexionlaboralsurestepr.org/event/vista-socio-one-stop-careers-center-of-pr/2028-04-05/
CATEGORIES:Socios
END:VEVENT
BEGIN:VEVENT
DTSTART;TZID=America/Puerto_Rico:20280406T080000
DTEND;TZID=America/Puerto_Rico:20280406T163000
DTSTAMP:20260420T192102
CREATED:20251031T153427Z
LAST-MODIFIED:20251031T173748Z
UID:10000636-1838620800-1838651400@conexionlaboralsurestepr.org
SUMMARY:Visita Socio | Título I - B
DESCRIPTION:Programa Jóvenes\, Adultos y Desplazados
URL:https://conexionlaboralsurestepr.org/event/visita-socios-titulo-i-b/2028-04-06/
CATEGORIES:Socios
END:VEVENT
BEGIN:VEVENT
DTSTART;TZID=America/Puerto_Rico:20280406T080000
DTEND;TZID=America/Puerto_Rico:20280406T163000
DTSTAMP:20260420T192102
CREATED:20251031T173045Z
LAST-MODIFIED:20251204T204704Z
UID:10002462-1838620800-1838651400@conexionlaboralsurestepr.org
SUMMARY:Visita Socio | Departamento del Trabajo y Recursos Humanos (DTRH)
DESCRIPTION:Programa Veteranos (Capítulo 41 Título 38 del Código de EU)\nServicio de Empleo\, Programa Agrícola y Programa RESEA\nPrograma Seguro por Desempleo
URL:https://conexionlaboralsurestepr.org/event/vista-socio-departamento-del-trabajo-y-recursos-humanos-dtrh/2028-04-06/
CATEGORIES:Socios
END:VEVENT
BEGIN:VEVENT
DTSTART;TZID=America/Puerto_Rico:20280406T080000
DTEND;TZID=America/Puerto_Rico:20280406T163000
DTSTAMP:20260420T192102
CREATED:20251103T184914Z
LAST-MODIFIED:20251204T204647Z
UID:10003662-1838620800-1838651400@conexionlaboralsurestepr.org
SUMMARY:Visita Socio | Título II - Departamento de Educación
DESCRIPTION:Programa de Educación y Literacia de Adultos
URL:https://conexionlaboralsurestepr.org/event/vista-socio-titulo-ii-departamento-de-educacion/2028-04-06/
CATEGORIES:Socios
END:VEVENT
BEGIN:VEVENT
DTSTART;TZID=America/Puerto_Rico:20280406T080000
DTEND;TZID=America/Puerto_Rico:20280406T163000
DTSTAMP:20260420T192102
CREATED:20251103T185220Z
LAST-MODIFIED:20251204T204656Z
UID:10004880-1838620800-1838651400@conexionlaboralsurestepr.org
SUMMARY:Visita Socio | One Stop Careers Center of PR
DESCRIPTION:Programa de Reintegración de Ex-Ofensores bajo Second Change Act
URL:https://conexionlaboralsurestepr.org/event/vista-socio-one-stop-careers-center-of-pr/2028-04-06/
CATEGORIES:Socios
END:VEVENT
BEGIN:VEVENT
DTSTART;TZID=America/Puerto_Rico:20280407T080000
DTEND;TZID=America/Puerto_Rico:20280407T163000
DTSTAMP:20260420T192102
CREATED:20251031T153427Z
LAST-MODIFIED:20251031T173748Z
UID:10001514-1838707200-1838737800@conexionlaboralsurestepr.org
SUMMARY:Visita Socio | Título I - B
DESCRIPTION:Programa Jóvenes\, Adultos y Desplazados
URL:https://conexionlaboralsurestepr.org/event/visita-socios-titulo-i-b/2028-04-07/
CATEGORIES:Socios
END:VEVENT
BEGIN:VEVENT
DTSTART;TZID=America/Puerto_Rico:20280407T080000
DTEND;TZID=America/Puerto_Rico:20280407T163000
DTSTAMP:20260420T192102
CREATED:20251031T173045Z
LAST-MODIFIED:20251204T204704Z
UID:10002463-1838707200-1838737800@conexionlaboralsurestepr.org
SUMMARY:Visita Socio | Departamento del Trabajo y Recursos Humanos (DTRH)
DESCRIPTION:Programa Veteranos (Capítulo 41 Título 38 del Código de EU)\nServicio de Empleo\, Programa Agrícola y Programa RESEA\nPrograma Seguro por Desempleo
URL:https://conexionlaboralsurestepr.org/event/vista-socio-departamento-del-trabajo-y-recursos-humanos-dtrh/2028-04-07/
CATEGORIES:Socios
END:VEVENT
BEGIN:VEVENT
DTSTART;TZID=America/Puerto_Rico:20280407T080000
DTEND;TZID=America/Puerto_Rico:20280407T163000
DTSTAMP:20260420T192102
CREATED:20251103T185220Z
LAST-MODIFIED:20251204T204656Z
UID:10004881-1838707200-1838737800@conexionlaboralsurestepr.org
SUMMARY:Visita Socio | One Stop Careers Center of PR
DESCRIPTION:Programa de Reintegración de Ex-Ofensores bajo Second Change Act
URL:https://conexionlaboralsurestepr.org/event/vista-socio-one-stop-careers-center-of-pr/2028-04-07/
CATEGORIES:Socios
END:VEVENT
BEGIN:VEVENT
DTSTART;TZID=America/Puerto_Rico:20280409T080000
DTEND;TZID=America/Puerto_Rico:20280409T163000
DTSTAMP:20260420T192102
CREATED:20251103T185220Z
LAST-MODIFIED:20251204T204656Z
UID:10004882-1838880000-1838910600@conexionlaboralsurestepr.org
SUMMARY:Visita Socio | One Stop Careers Center of PR
DESCRIPTION:Programa de Reintegración de Ex-Ofensores bajo Second Change Act
URL:https://conexionlaboralsurestepr.org/event/vista-socio-one-stop-careers-center-of-pr/2028-04-09/
CATEGORIES:Socios
END:VEVENT
END:VCALENDAR