BEGIN:VCALENDAR
VERSION:2.0
PRODID:-//Conexión Laboral Sureste - ECPv6.15.20//NONSGML v1.0//EN
CALSCALE:GREGORIAN
METHOD:PUBLISH
X-ORIGINAL-URL:https://conexionlaboralsurestepr.org
X-WR-CALDESC:Events for Conexión Laboral Sureste
REFRESH-INTERVAL;VALUE=DURATION:PT1H
X-Robots-Tag:noindex
X-PUBLISHED-TTL:PT1H
BEGIN:VTIMEZONE
TZID:America/Puerto_Rico
BEGIN:STANDARD
TZOFFSETFROM:-0400
TZOFFSETTO:-0400
TZNAME:AST
DTSTART:20270101T000000
END:STANDARD
END:VTIMEZONE
BEGIN:VEVENT
DTSTART;TZID=America/Puerto_Rico:20280410T080000
DTEND;TZID=America/Puerto_Rico:20280410T163000
DTSTAMP:20260420T210343
CREATED:20251031T153427Z
LAST-MODIFIED:20251031T173748Z
UID:10000638-1838966400-1838997000@conexionlaboralsurestepr.org
SUMMARY:Visita Socio | Título I - B
DESCRIPTION:Programa Jóvenes\, Adultos y Desplazados
URL:https://conexionlaboralsurestepr.org/event/visita-socios-titulo-i-b/2028-04-10/
CATEGORIES:Socios
END:VEVENT
BEGIN:VEVENT
DTSTART;TZID=America/Puerto_Rico:20280410T080000
DTEND;TZID=America/Puerto_Rico:20280410T163000
DTSTAMP:20260420T210343
CREATED:20251031T173045Z
LAST-MODIFIED:20251204T204704Z
UID:10002464-1838966400-1838997000@conexionlaboralsurestepr.org
SUMMARY:Visita Socio | Departamento del Trabajo y Recursos Humanos (DTRH)
DESCRIPTION:Programa Veteranos (Capítulo 41 Título 38 del Código de EU)\nServicio de Empleo\, Programa Agrícola y Programa RESEA\nPrograma Seguro por Desempleo
URL:https://conexionlaboralsurestepr.org/event/vista-socio-departamento-del-trabajo-y-recursos-humanos-dtrh/2028-04-10/
CATEGORIES:Socios
END:VEVENT
BEGIN:VEVENT
DTSTART;TZID=America/Puerto_Rico:20280410T080000
DTEND;TZID=America/Puerto_Rico:20280410T163000
DTSTAMP:20260420T210343
CREATED:20251103T185220Z
LAST-MODIFIED:20251204T204656Z
UID:10004883-1838966400-1838997000@conexionlaboralsurestepr.org
SUMMARY:Visita Socio | One Stop Careers Center of PR
DESCRIPTION:Programa de Reintegración de Ex-Ofensores bajo Second Change Act
URL:https://conexionlaboralsurestepr.org/event/vista-socio-one-stop-careers-center-of-pr/2028-04-10/
CATEGORIES:Socios
END:VEVENT
BEGIN:VEVENT
DTSTART;TZID=America/Puerto_Rico:20280411T080000
DTEND;TZID=America/Puerto_Rico:20280411T163000
DTSTAMP:20260420T210343
CREATED:20251031T153427Z
LAST-MODIFIED:20251031T173748Z
UID:10000639-1839052800-1839083400@conexionlaboralsurestepr.org
SUMMARY:Visita Socio | Título I - B
DESCRIPTION:Programa Jóvenes\, Adultos y Desplazados
URL:https://conexionlaboralsurestepr.org/event/visita-socios-titulo-i-b/2028-04-11/
CATEGORIES:Socios
END:VEVENT
BEGIN:VEVENT
DTSTART;TZID=America/Puerto_Rico:20280411T080000
DTEND;TZID=America/Puerto_Rico:20280411T163000
DTSTAMP:20260420T210343
CREATED:20251031T173045Z
LAST-MODIFIED:20251204T204704Z
UID:10002465-1839052800-1839083400@conexionlaboralsurestepr.org
SUMMARY:Visita Socio | Departamento del Trabajo y Recursos Humanos (DTRH)
DESCRIPTION:Programa Veteranos (Capítulo 41 Título 38 del Código de EU)\nServicio de Empleo\, Programa Agrícola y Programa RESEA\nPrograma Seguro por Desempleo
URL:https://conexionlaboralsurestepr.org/event/vista-socio-departamento-del-trabajo-y-recursos-humanos-dtrh/2028-04-11/
CATEGORIES:Socios
END:VEVENT
BEGIN:VEVENT
DTSTART;TZID=America/Puerto_Rico:20280411T080000
DTEND;TZID=America/Puerto_Rico:20280411T163000
DTSTAMP:20260420T210343
CREATED:20251103T185220Z
LAST-MODIFIED:20251204T204656Z
UID:10004884-1839052800-1839083400@conexionlaboralsurestepr.org
SUMMARY:Visita Socio | One Stop Careers Center of PR
DESCRIPTION:Programa de Reintegración de Ex-Ofensores bajo Second Change Act
URL:https://conexionlaboralsurestepr.org/event/vista-socio-one-stop-careers-center-of-pr/2028-04-11/
CATEGORIES:Socios
END:VEVENT
BEGIN:VEVENT
DTSTART;TZID=America/Puerto_Rico:20280412T080000
DTEND;TZID=America/Puerto_Rico:20280412T120000
DTSTAMP:20260420T210344
CREATED:20251103T185047Z
LAST-MODIFIED:20251204T204622Z
UID:10003933-1839139200-1839153600@conexionlaboralsurestepr.org
SUMMARY:Visita Socio | Título IV - "Social Security Act" Departamento de la Familia
DESCRIPTION:Programa TANF (Temporary Assistance for Needy Families)
URL:https://conexionlaboralsurestepr.org/event/vista-socio-titulo-iv-social-security-act-departamento-de-la-familia/2028-04-12/
CATEGORIES:Socios
END:VEVENT
BEGIN:VEVENT
DTSTART;TZID=America/Puerto_Rico:20280412T080000
DTEND;TZID=America/Puerto_Rico:20280412T163000
DTSTAMP:20260420T210344
CREATED:20251031T153427Z
LAST-MODIFIED:20251031T173748Z
UID:10000640-1839139200-1839169800@conexionlaboralsurestepr.org
SUMMARY:Visita Socio | Título I - B
DESCRIPTION:Programa Jóvenes\, Adultos y Desplazados
URL:https://conexionlaboralsurestepr.org/event/visita-socios-titulo-i-b/2028-04-12/
CATEGORIES:Socios
END:VEVENT
BEGIN:VEVENT
DTSTART;TZID=America/Puerto_Rico:20280412T080000
DTEND;TZID=America/Puerto_Rico:20280412T163000
DTSTAMP:20260420T210344
CREATED:20251031T173045Z
LAST-MODIFIED:20251204T204704Z
UID:10002466-1839139200-1839169800@conexionlaboralsurestepr.org
SUMMARY:Visita Socio | Departamento del Trabajo y Recursos Humanos (DTRH)
DESCRIPTION:Programa Veteranos (Capítulo 41 Título 38 del Código de EU)\nServicio de Empleo\, Programa Agrícola y Programa RESEA\nPrograma Seguro por Desempleo
URL:https://conexionlaboralsurestepr.org/event/vista-socio-departamento-del-trabajo-y-recursos-humanos-dtrh/2028-04-12/
CATEGORIES:Socios
END:VEVENT
BEGIN:VEVENT
DTSTART;TZID=America/Puerto_Rico:20280412T080000
DTEND;TZID=America/Puerto_Rico:20280412T163000
DTSTAMP:20260420T210344
CREATED:20251103T185220Z
LAST-MODIFIED:20251204T204656Z
UID:10004885-1839139200-1839169800@conexionlaboralsurestepr.org
SUMMARY:Visita Socio | One Stop Careers Center of PR
DESCRIPTION:Programa de Reintegración de Ex-Ofensores bajo Second Change Act
URL:https://conexionlaboralsurestepr.org/event/vista-socio-one-stop-careers-center-of-pr/2028-04-12/
CATEGORIES:Socios
END:VEVENT
BEGIN:VEVENT
DTSTART;TZID=America/Puerto_Rico:20280413T080000
DTEND;TZID=America/Puerto_Rico:20280413T163000
DTSTAMP:20260420T210344
CREATED:20251031T153427Z
LAST-MODIFIED:20251031T173748Z
UID:10000641-1839225600-1839256200@conexionlaboralsurestepr.org
SUMMARY:Visita Socio | Título I - B
DESCRIPTION:Programa Jóvenes\, Adultos y Desplazados
URL:https://conexionlaboralsurestepr.org/event/visita-socios-titulo-i-b/2028-04-13/
CATEGORIES:Socios
END:VEVENT
BEGIN:VEVENT
DTSTART;TZID=America/Puerto_Rico:20280413T080000
DTEND;TZID=America/Puerto_Rico:20280413T163000
DTSTAMP:20260420T210344
CREATED:20251031T173045Z
LAST-MODIFIED:20251204T204704Z
UID:10002467-1839225600-1839256200@conexionlaboralsurestepr.org
SUMMARY:Visita Socio | Departamento del Trabajo y Recursos Humanos (DTRH)
DESCRIPTION:Programa Veteranos (Capítulo 41 Título 38 del Código de EU)\nServicio de Empleo\, Programa Agrícola y Programa RESEA\nPrograma Seguro por Desempleo
URL:https://conexionlaboralsurestepr.org/event/vista-socio-departamento-del-trabajo-y-recursos-humanos-dtrh/2028-04-13/
CATEGORIES:Socios
END:VEVENT
BEGIN:VEVENT
DTSTART;TZID=America/Puerto_Rico:20280413T080000
DTEND;TZID=America/Puerto_Rico:20280413T163000
DTSTAMP:20260420T210344
CREATED:20251103T184914Z
LAST-MODIFIED:20251204T204647Z
UID:10003663-1839225600-1839256200@conexionlaboralsurestepr.org
SUMMARY:Visita Socio | Título II - Departamento de Educación
DESCRIPTION:Programa de Educación y Literacia de Adultos
URL:https://conexionlaboralsurestepr.org/event/vista-socio-titulo-ii-departamento-de-educacion/2028-04-13/
CATEGORIES:Socios
END:VEVENT
BEGIN:VEVENT
DTSTART;TZID=America/Puerto_Rico:20280413T080000
DTEND;TZID=America/Puerto_Rico:20280413T163000
DTSTAMP:20260420T210344
CREATED:20251103T185220Z
LAST-MODIFIED:20251204T204656Z
UID:10004886-1839225600-1839256200@conexionlaboralsurestepr.org
SUMMARY:Visita Socio | One Stop Careers Center of PR
DESCRIPTION:Programa de Reintegración de Ex-Ofensores bajo Second Change Act
URL:https://conexionlaboralsurestepr.org/event/vista-socio-one-stop-careers-center-of-pr/2028-04-13/
CATEGORIES:Socios
END:VEVENT
BEGIN:VEVENT
DTSTART;TZID=America/Puerto_Rico:20280414T080000
DTEND;TZID=America/Puerto_Rico:20280414T163000
DTSTAMP:20260420T210344
CREATED:20251031T153427Z
LAST-MODIFIED:20251031T173748Z
UID:10001515-1839312000-1839342600@conexionlaboralsurestepr.org
SUMMARY:Visita Socio | Título I - B
DESCRIPTION:Programa Jóvenes\, Adultos y Desplazados
URL:https://conexionlaboralsurestepr.org/event/visita-socios-titulo-i-b/2028-04-14/
CATEGORIES:Socios
END:VEVENT
BEGIN:VEVENT
DTSTART;TZID=America/Puerto_Rico:20280414T080000
DTEND;TZID=America/Puerto_Rico:20280414T163000
DTSTAMP:20260420T210344
CREATED:20251031T173045Z
LAST-MODIFIED:20251204T204704Z
UID:10002468-1839312000-1839342600@conexionlaboralsurestepr.org
SUMMARY:Visita Socio | Departamento del Trabajo y Recursos Humanos (DTRH)
DESCRIPTION:Programa Veteranos (Capítulo 41 Título 38 del Código de EU)\nServicio de Empleo\, Programa Agrícola y Programa RESEA\nPrograma Seguro por Desempleo
URL:https://conexionlaboralsurestepr.org/event/vista-socio-departamento-del-trabajo-y-recursos-humanos-dtrh/2028-04-14/
CATEGORIES:Socios
END:VEVENT
BEGIN:VEVENT
DTSTART;TZID=America/Puerto_Rico:20280414T080000
DTEND;TZID=America/Puerto_Rico:20280414T163000
DTSTAMP:20260420T210344
CREATED:20251103T185220Z
LAST-MODIFIED:20251204T204656Z
UID:10004887-1839312000-1839342600@conexionlaboralsurestepr.org
SUMMARY:Visita Socio | One Stop Careers Center of PR
DESCRIPTION:Programa de Reintegración de Ex-Ofensores bajo Second Change Act
URL:https://conexionlaboralsurestepr.org/event/vista-socio-one-stop-careers-center-of-pr/2028-04-14/
CATEGORIES:Socios
END:VEVENT
BEGIN:VEVENT
DTSTART;TZID=America/Puerto_Rico:20280416T080000
DTEND;TZID=America/Puerto_Rico:20280416T163000
DTSTAMP:20260420T210344
CREATED:20251103T185220Z
LAST-MODIFIED:20251204T204656Z
UID:10004888-1839484800-1839515400@conexionlaboralsurestepr.org
SUMMARY:Visita Socio | One Stop Careers Center of PR
DESCRIPTION:Programa de Reintegración de Ex-Ofensores bajo Second Change Act
URL:https://conexionlaboralsurestepr.org/event/vista-socio-one-stop-careers-center-of-pr/2028-04-16/
CATEGORIES:Socios
END:VEVENT
END:VCALENDAR