BEGIN:VCALENDAR
VERSION:2.0
PRODID:-//Conexión Laboral Sureste - ECPv6.15.20//NONSGML v1.0//EN
CALSCALE:GREGORIAN
METHOD:PUBLISH
X-ORIGINAL-URL:https://conexionlaboralsurestepr.org
X-WR-CALDESC:Events for Conexión Laboral Sureste
REFRESH-INTERVAL;VALUE=DURATION:PT1H
X-Robots-Tag:noindex
X-PUBLISHED-TTL:PT1H
BEGIN:VTIMEZONE
TZID:America/Puerto_Rico
BEGIN:STANDARD
TZOFFSETFROM:-0400
TZOFFSETTO:-0400
TZNAME:AST
DTSTART:20270101T000000
END:STANDARD
END:VTIMEZONE
BEGIN:VEVENT
DTSTART;TZID=America/Puerto_Rico:20280529T080000
DTEND;TZID=America/Puerto_Rico:20280529T163000
DTSTAMP:20260421T000845
CREATED:20251031T153427Z
LAST-MODIFIED:20251031T173748Z
UID:10000673-1843200000-1843230600@conexionlaboralsurestepr.org
SUMMARY:Visita Socio | Título I - B
DESCRIPTION:Programa Jóvenes\, Adultos y Desplazados
URL:https://conexionlaboralsurestepr.org/event/visita-socios-titulo-i-b/2028-05-29/
CATEGORIES:Socios
END:VEVENT
BEGIN:VEVENT
DTSTART;TZID=America/Puerto_Rico:20280529T080000
DTEND;TZID=America/Puerto_Rico:20280529T163000
DTSTAMP:20260421T000845
CREATED:20251031T173045Z
LAST-MODIFIED:20251204T204704Z
UID:10002499-1843200000-1843230600@conexionlaboralsurestepr.org
SUMMARY:Visita Socio | Departamento del Trabajo y Recursos Humanos (DTRH)
DESCRIPTION:Programa Veteranos (Capítulo 41 Título 38 del Código de EU)\nServicio de Empleo\, Programa Agrícola y Programa RESEA\nPrograma Seguro por Desempleo
URL:https://conexionlaboralsurestepr.org/event/vista-socio-departamento-del-trabajo-y-recursos-humanos-dtrh/2028-05-29/
CATEGORIES:Socios
END:VEVENT
BEGIN:VEVENT
DTSTART;TZID=America/Puerto_Rico:20280529T080000
DTEND;TZID=America/Puerto_Rico:20280529T163000
DTSTAMP:20260421T000845
CREATED:20251103T185220Z
LAST-MODIFIED:20251204T204656Z
UID:10004925-1843200000-1843230600@conexionlaboralsurestepr.org
SUMMARY:Visita Socio | One Stop Careers Center of PR
DESCRIPTION:Programa de Reintegración de Ex-Ofensores bajo Second Change Act
URL:https://conexionlaboralsurestepr.org/event/vista-socio-one-stop-careers-center-of-pr/2028-05-29/
CATEGORIES:Socios
END:VEVENT
BEGIN:VEVENT
DTSTART;TZID=America/Puerto_Rico:20280530T080000
DTEND;TZID=America/Puerto_Rico:20280530T163000
DTSTAMP:20260421T000845
CREATED:20251031T153427Z
LAST-MODIFIED:20251031T173748Z
UID:10000674-1843286400-1843317000@conexionlaboralsurestepr.org
SUMMARY:Visita Socio | Título I - B
DESCRIPTION:Programa Jóvenes\, Adultos y Desplazados
URL:https://conexionlaboralsurestepr.org/event/visita-socios-titulo-i-b/2028-05-30/
CATEGORIES:Socios
END:VEVENT
BEGIN:VEVENT
DTSTART;TZID=America/Puerto_Rico:20280530T080000
DTEND;TZID=America/Puerto_Rico:20280530T163000
DTSTAMP:20260421T000845
CREATED:20251031T173045Z
LAST-MODIFIED:20251204T204704Z
UID:10002500-1843286400-1843317000@conexionlaboralsurestepr.org
SUMMARY:Visita Socio | Departamento del Trabajo y Recursos Humanos (DTRH)
DESCRIPTION:Programa Veteranos (Capítulo 41 Título 38 del Código de EU)\nServicio de Empleo\, Programa Agrícola y Programa RESEA\nPrograma Seguro por Desempleo
URL:https://conexionlaboralsurestepr.org/event/vista-socio-departamento-del-trabajo-y-recursos-humanos-dtrh/2028-05-30/
CATEGORIES:Socios
END:VEVENT
BEGIN:VEVENT
DTSTART;TZID=America/Puerto_Rico:20280530T080000
DTEND;TZID=America/Puerto_Rico:20280530T163000
DTSTAMP:20260421T000845
CREATED:20251103T185220Z
LAST-MODIFIED:20251204T204656Z
UID:10004926-1843286400-1843317000@conexionlaboralsurestepr.org
SUMMARY:Visita Socio | One Stop Careers Center of PR
DESCRIPTION:Programa de Reintegración de Ex-Ofensores bajo Second Change Act
URL:https://conexionlaboralsurestepr.org/event/vista-socio-one-stop-careers-center-of-pr/2028-05-30/
CATEGORIES:Socios
END:VEVENT
BEGIN:VEVENT
DTSTART;TZID=America/Puerto_Rico:20280531T080000
DTEND;TZID=America/Puerto_Rico:20280531T120000
DTSTAMP:20260421T000845
CREATED:20251103T185047Z
LAST-MODIFIED:20251204T204622Z
UID:10003940-1843372800-1843387200@conexionlaboralsurestepr.org
SUMMARY:Visita Socio | Título IV - "Social Security Act" Departamento de la Familia
DESCRIPTION:Programa TANF (Temporary Assistance for Needy Families)
URL:https://conexionlaboralsurestepr.org/event/vista-socio-titulo-iv-social-security-act-departamento-de-la-familia/2028-05-31/
CATEGORIES:Socios
END:VEVENT
BEGIN:VEVENT
DTSTART;TZID=America/Puerto_Rico:20280531T080000
DTEND;TZID=America/Puerto_Rico:20280531T163000
DTSTAMP:20260421T000845
CREATED:20251031T153427Z
LAST-MODIFIED:20251031T173748Z
UID:10000675-1843372800-1843403400@conexionlaboralsurestepr.org
SUMMARY:Visita Socio | Título I - B
DESCRIPTION:Programa Jóvenes\, Adultos y Desplazados
URL:https://conexionlaboralsurestepr.org/event/visita-socios-titulo-i-b/2028-05-31/
CATEGORIES:Socios
END:VEVENT
BEGIN:VEVENT
DTSTART;TZID=America/Puerto_Rico:20280531T080000
DTEND;TZID=America/Puerto_Rico:20280531T163000
DTSTAMP:20260421T000845
CREATED:20251031T173045Z
LAST-MODIFIED:20251204T204704Z
UID:10002501-1843372800-1843403400@conexionlaboralsurestepr.org
SUMMARY:Visita Socio | Departamento del Trabajo y Recursos Humanos (DTRH)
DESCRIPTION:Programa Veteranos (Capítulo 41 Título 38 del Código de EU)\nServicio de Empleo\, Programa Agrícola y Programa RESEA\nPrograma Seguro por Desempleo
URL:https://conexionlaboralsurestepr.org/event/vista-socio-departamento-del-trabajo-y-recursos-humanos-dtrh/2028-05-31/
CATEGORIES:Socios
END:VEVENT
BEGIN:VEVENT
DTSTART;TZID=America/Puerto_Rico:20280531T080000
DTEND;TZID=America/Puerto_Rico:20280531T163000
DTSTAMP:20260421T000845
CREATED:20251103T185220Z
LAST-MODIFIED:20251204T204656Z
UID:10004927-1843372800-1843403400@conexionlaboralsurestepr.org
SUMMARY:Visita Socio | One Stop Careers Center of PR
DESCRIPTION:Programa de Reintegración de Ex-Ofensores bajo Second Change Act
URL:https://conexionlaboralsurestepr.org/event/vista-socio-one-stop-careers-center-of-pr/2028-05-31/
CATEGORIES:Socios
END:VEVENT
BEGIN:VEVENT
DTSTART;TZID=America/Puerto_Rico:20280601T080000
DTEND;TZID=America/Puerto_Rico:20280601T163000
DTSTAMP:20260421T000845
CREATED:20251031T153427Z
LAST-MODIFIED:20251031T173748Z
UID:10000676-1843459200-1843489800@conexionlaboralsurestepr.org
SUMMARY:Visita Socio | Título I - B
DESCRIPTION:Programa Jóvenes\, Adultos y Desplazados
URL:https://conexionlaboralsurestepr.org/event/visita-socios-titulo-i-b/2028-06-01/
CATEGORIES:Socios
END:VEVENT
BEGIN:VEVENT
DTSTART;TZID=America/Puerto_Rico:20280601T080000
DTEND;TZID=America/Puerto_Rico:20280601T163000
DTSTAMP:20260421T000845
CREATED:20251031T173045Z
LAST-MODIFIED:20251204T204704Z
UID:10002502-1843459200-1843489800@conexionlaboralsurestepr.org
SUMMARY:Visita Socio | Departamento del Trabajo y Recursos Humanos (DTRH)
DESCRIPTION:Programa Veteranos (Capítulo 41 Título 38 del Código de EU)\nServicio de Empleo\, Programa Agrícola y Programa RESEA\nPrograma Seguro por Desempleo
URL:https://conexionlaboralsurestepr.org/event/vista-socio-departamento-del-trabajo-y-recursos-humanos-dtrh/2028-06-01/
CATEGORIES:Socios
END:VEVENT
BEGIN:VEVENT
DTSTART;TZID=America/Puerto_Rico:20280601T080000
DTEND;TZID=America/Puerto_Rico:20280601T163000
DTSTAMP:20260421T000845
CREATED:20251103T184914Z
LAST-MODIFIED:20251204T204647Z
UID:10003670-1843459200-1843489800@conexionlaboralsurestepr.org
SUMMARY:Visita Socio | Título II - Departamento de Educación
DESCRIPTION:Programa de Educación y Literacia de Adultos
URL:https://conexionlaboralsurestepr.org/event/vista-socio-titulo-ii-departamento-de-educacion/2028-06-01/
CATEGORIES:Socios
END:VEVENT
BEGIN:VEVENT
DTSTART;TZID=America/Puerto_Rico:20280601T080000
DTEND;TZID=America/Puerto_Rico:20280601T163000
DTSTAMP:20260421T000845
CREATED:20251103T185220Z
LAST-MODIFIED:20251204T204656Z
UID:10004928-1843459200-1843489800@conexionlaboralsurestepr.org
SUMMARY:Visita Socio | One Stop Careers Center of PR
DESCRIPTION:Programa de Reintegración de Ex-Ofensores bajo Second Change Act
URL:https://conexionlaboralsurestepr.org/event/vista-socio-one-stop-careers-center-of-pr/2028-06-01/
CATEGORIES:Socios
END:VEVENT
BEGIN:VEVENT
DTSTART;TZID=America/Puerto_Rico:20280602T080000
DTEND;TZID=America/Puerto_Rico:20280602T163000
DTSTAMP:20260421T000845
CREATED:20251031T153427Z
LAST-MODIFIED:20251031T173748Z
UID:10001522-1843545600-1843576200@conexionlaboralsurestepr.org
SUMMARY:Visita Socio | Título I - B
DESCRIPTION:Programa Jóvenes\, Adultos y Desplazados
URL:https://conexionlaboralsurestepr.org/event/visita-socios-titulo-i-b/2028-06-02/
CATEGORIES:Socios
END:VEVENT
BEGIN:VEVENT
DTSTART;TZID=America/Puerto_Rico:20280602T080000
DTEND;TZID=America/Puerto_Rico:20280602T163000
DTSTAMP:20260421T000845
CREATED:20251031T173045Z
LAST-MODIFIED:20251204T204704Z
UID:10002503-1843545600-1843576200@conexionlaboralsurestepr.org
SUMMARY:Visita Socio | Departamento del Trabajo y Recursos Humanos (DTRH)
DESCRIPTION:Programa Veteranos (Capítulo 41 Título 38 del Código de EU)\nServicio de Empleo\, Programa Agrícola y Programa RESEA\nPrograma Seguro por Desempleo
URL:https://conexionlaboralsurestepr.org/event/vista-socio-departamento-del-trabajo-y-recursos-humanos-dtrh/2028-06-02/
CATEGORIES:Socios
END:VEVENT
BEGIN:VEVENT
DTSTART;TZID=America/Puerto_Rico:20280602T080000
DTEND;TZID=America/Puerto_Rico:20280602T163000
DTSTAMP:20260421T000845
CREATED:20251103T185220Z
LAST-MODIFIED:20251204T204656Z
UID:10004929-1843545600-1843576200@conexionlaboralsurestepr.org
SUMMARY:Visita Socio | One Stop Careers Center of PR
DESCRIPTION:Programa de Reintegración de Ex-Ofensores bajo Second Change Act
URL:https://conexionlaboralsurestepr.org/event/vista-socio-one-stop-careers-center-of-pr/2028-06-02/
CATEGORIES:Socios
END:VEVENT
BEGIN:VEVENT
DTSTART;TZID=America/Puerto_Rico:20280604T080000
DTEND;TZID=America/Puerto_Rico:20280604T163000
DTSTAMP:20260421T000845
CREATED:20251103T185220Z
LAST-MODIFIED:20251204T204656Z
UID:10004930-1843718400-1843749000@conexionlaboralsurestepr.org
SUMMARY:Visita Socio | One Stop Careers Center of PR
DESCRIPTION:Programa de Reintegración de Ex-Ofensores bajo Second Change Act
URL:https://conexionlaboralsurestepr.org/event/vista-socio-one-stop-careers-center-of-pr/2028-06-04/
CATEGORIES:Socios
END:VEVENT
END:VCALENDAR