BEGIN:VCALENDAR
VERSION:2.0
PRODID:-//Conexión Laboral Sureste - ECPv6.15.20//NONSGML v1.0//EN
CALSCALE:GREGORIAN
METHOD:PUBLISH
X-WR-CALNAME:Conexión Laboral Sureste
X-ORIGINAL-URL:https://conexionlaboralsurestepr.org
X-WR-CALDESC:Events for Conexión Laboral Sureste
REFRESH-INTERVAL;VALUE=DURATION:PT1H
X-Robots-Tag:noindex
X-PUBLISHED-TTL:PT1H
BEGIN:VTIMEZONE
TZID:America/Puerto_Rico
BEGIN:STANDARD
TZOFFSETFROM:-0400
TZOFFSETTO:-0400
TZNAME:AST
DTSTART:20270101T000000
END:STANDARD
END:VTIMEZONE
BEGIN:VEVENT
DTSTART;TZID=America/Puerto_Rico:20280626T080000
DTEND;TZID=America/Puerto_Rico:20280626T163000
DTSTAMP:20260421T015543
CREATED:20251031T153427Z
LAST-MODIFIED:20251031T173748Z
UID:10000693-1845619200-1845649800@conexionlaboralsurestepr.org
SUMMARY:Visita Socio | Título I - B
DESCRIPTION:Programa Jóvenes\, Adultos y Desplazados
URL:https://conexionlaboralsurestepr.org/event/visita-socios-titulo-i-b/2028-06-26/
CATEGORIES:Socios
END:VEVENT
BEGIN:VEVENT
DTSTART;TZID=America/Puerto_Rico:20280626T080000
DTEND;TZID=America/Puerto_Rico:20280626T163000
DTSTAMP:20260421T015543
CREATED:20251031T173045Z
LAST-MODIFIED:20251204T204704Z
UID:10002519-1845619200-1845649800@conexionlaboralsurestepr.org
SUMMARY:Visita Socio | Departamento del Trabajo y Recursos Humanos (DTRH)
DESCRIPTION:Programa Veteranos (Capítulo 41 Título 38 del Código de EU)\nServicio de Empleo\, Programa Agrícola y Programa RESEA\nPrograma Seguro por Desempleo
URL:https://conexionlaboralsurestepr.org/event/vista-socio-departamento-del-trabajo-y-recursos-humanos-dtrh/2028-06-26/
CATEGORIES:Socios
END:VEVENT
BEGIN:VEVENT
DTSTART;TZID=America/Puerto_Rico:20280626T080000
DTEND;TZID=America/Puerto_Rico:20280626T163000
DTSTAMP:20260421T015543
CREATED:20251103T185220Z
LAST-MODIFIED:20251204T204656Z
UID:10004949-1845619200-1845649800@conexionlaboralsurestepr.org
SUMMARY:Visita Socio | One Stop Careers Center of PR
DESCRIPTION:Programa de Reintegración de Ex-Ofensores bajo Second Change Act
URL:https://conexionlaboralsurestepr.org/event/vista-socio-one-stop-careers-center-of-pr/2028-06-26/
CATEGORIES:Socios
END:VEVENT
BEGIN:VEVENT
DTSTART;TZID=America/Puerto_Rico:20280627T080000
DTEND;TZID=America/Puerto_Rico:20280627T163000
DTSTAMP:20260421T015543
CREATED:20251031T153427Z
LAST-MODIFIED:20251031T173748Z
UID:10000694-1845705600-1845736200@conexionlaboralsurestepr.org
SUMMARY:Visita Socio | Título I - B
DESCRIPTION:Programa Jóvenes\, Adultos y Desplazados
URL:https://conexionlaboralsurestepr.org/event/visita-socios-titulo-i-b/2028-06-27/
CATEGORIES:Socios
END:VEVENT
BEGIN:VEVENT
DTSTART;TZID=America/Puerto_Rico:20280627T080000
DTEND;TZID=America/Puerto_Rico:20280627T163000
DTSTAMP:20260421T015543
CREATED:20251031T173045Z
LAST-MODIFIED:20251204T204704Z
UID:10002520-1845705600-1845736200@conexionlaboralsurestepr.org
SUMMARY:Visita Socio | Departamento del Trabajo y Recursos Humanos (DTRH)
DESCRIPTION:Programa Veteranos (Capítulo 41 Título 38 del Código de EU)\nServicio de Empleo\, Programa Agrícola y Programa RESEA\nPrograma Seguro por Desempleo
URL:https://conexionlaboralsurestepr.org/event/vista-socio-departamento-del-trabajo-y-recursos-humanos-dtrh/2028-06-27/
CATEGORIES:Socios
END:VEVENT
BEGIN:VEVENT
DTSTART;TZID=America/Puerto_Rico:20280627T080000
DTEND;TZID=America/Puerto_Rico:20280627T163000
DTSTAMP:20260421T015543
CREATED:20251103T185220Z
LAST-MODIFIED:20251204T204656Z
UID:10004950-1845705600-1845736200@conexionlaboralsurestepr.org
SUMMARY:Visita Socio | One Stop Careers Center of PR
DESCRIPTION:Programa de Reintegración de Ex-Ofensores bajo Second Change Act
URL:https://conexionlaboralsurestepr.org/event/vista-socio-one-stop-careers-center-of-pr/2028-06-27/
CATEGORIES:Socios
END:VEVENT
BEGIN:VEVENT
DTSTART;TZID=America/Puerto_Rico:20280628T080000
DTEND;TZID=America/Puerto_Rico:20280628T120000
DTSTAMP:20260421T015543
CREATED:20251103T185047Z
LAST-MODIFIED:20251204T204622Z
UID:10003944-1845792000-1845806400@conexionlaboralsurestepr.org
SUMMARY:Visita Socio | Título IV - "Social Security Act" Departamento de la Familia
DESCRIPTION:Programa TANF (Temporary Assistance for Needy Families)
URL:https://conexionlaboralsurestepr.org/event/vista-socio-titulo-iv-social-security-act-departamento-de-la-familia/2028-06-28/
CATEGORIES:Socios
END:VEVENT
BEGIN:VEVENT
DTSTART;TZID=America/Puerto_Rico:20280628T080000
DTEND;TZID=America/Puerto_Rico:20280628T163000
DTSTAMP:20260421T015543
CREATED:20251031T153427Z
LAST-MODIFIED:20251031T173748Z
UID:10000695-1845792000-1845822600@conexionlaboralsurestepr.org
SUMMARY:Visita Socio | Título I - B
DESCRIPTION:Programa Jóvenes\, Adultos y Desplazados
URL:https://conexionlaboralsurestepr.org/event/visita-socios-titulo-i-b/2028-06-28/
CATEGORIES:Socios
END:VEVENT
BEGIN:VEVENT
DTSTART;TZID=America/Puerto_Rico:20280628T080000
DTEND;TZID=America/Puerto_Rico:20280628T163000
DTSTAMP:20260421T015543
CREATED:20251031T173045Z
LAST-MODIFIED:20251204T204704Z
UID:10002521-1845792000-1845822600@conexionlaboralsurestepr.org
SUMMARY:Visita Socio | Departamento del Trabajo y Recursos Humanos (DTRH)
DESCRIPTION:Programa Veteranos (Capítulo 41 Título 38 del Código de EU)\nServicio de Empleo\, Programa Agrícola y Programa RESEA\nPrograma Seguro por Desempleo
URL:https://conexionlaboralsurestepr.org/event/vista-socio-departamento-del-trabajo-y-recursos-humanos-dtrh/2028-06-28/
CATEGORIES:Socios
END:VEVENT
BEGIN:VEVENT
DTSTART;TZID=America/Puerto_Rico:20280628T080000
DTEND;TZID=America/Puerto_Rico:20280628T163000
DTSTAMP:20260421T015543
CREATED:20251103T185220Z
LAST-MODIFIED:20251204T204656Z
UID:10004951-1845792000-1845822600@conexionlaboralsurestepr.org
SUMMARY:Visita Socio | One Stop Careers Center of PR
DESCRIPTION:Programa de Reintegración de Ex-Ofensores bajo Second Change Act
URL:https://conexionlaboralsurestepr.org/event/vista-socio-one-stop-careers-center-of-pr/2028-06-28/
CATEGORIES:Socios
END:VEVENT
BEGIN:VEVENT
DTSTART;TZID=America/Puerto_Rico:20280629T080000
DTEND;TZID=America/Puerto_Rico:20280629T163000
DTSTAMP:20260421T015543
CREATED:20251031T153427Z
LAST-MODIFIED:20251031T173748Z
UID:10000696-1845878400-1845909000@conexionlaboralsurestepr.org
SUMMARY:Visita Socio | Título I - B
DESCRIPTION:Programa Jóvenes\, Adultos y Desplazados
URL:https://conexionlaboralsurestepr.org/event/visita-socios-titulo-i-b/2028-06-29/
CATEGORIES:Socios
END:VEVENT
BEGIN:VEVENT
DTSTART;TZID=America/Puerto_Rico:20280629T080000
DTEND;TZID=America/Puerto_Rico:20280629T163000
DTSTAMP:20260421T015543
CREATED:20251031T173045Z
LAST-MODIFIED:20251204T204704Z
UID:10002522-1845878400-1845909000@conexionlaboralsurestepr.org
SUMMARY:Visita Socio | Departamento del Trabajo y Recursos Humanos (DTRH)
DESCRIPTION:Programa Veteranos (Capítulo 41 Título 38 del Código de EU)\nServicio de Empleo\, Programa Agrícola y Programa RESEA\nPrograma Seguro por Desempleo
URL:https://conexionlaboralsurestepr.org/event/vista-socio-departamento-del-trabajo-y-recursos-humanos-dtrh/2028-06-29/
CATEGORIES:Socios
END:VEVENT
BEGIN:VEVENT
DTSTART;TZID=America/Puerto_Rico:20280629T080000
DTEND;TZID=America/Puerto_Rico:20280629T163000
DTSTAMP:20260421T015543
CREATED:20251103T184914Z
LAST-MODIFIED:20251204T204647Z
UID:10003674-1845878400-1845909000@conexionlaboralsurestepr.org
SUMMARY:Visita Socio | Título II - Departamento de Educación
DESCRIPTION:Programa de Educación y Literacia de Adultos
URL:https://conexionlaboralsurestepr.org/event/vista-socio-titulo-ii-departamento-de-educacion/2028-06-29/
CATEGORIES:Socios
END:VEVENT
BEGIN:VEVENT
DTSTART;TZID=America/Puerto_Rico:20280629T080000
DTEND;TZID=America/Puerto_Rico:20280629T163000
DTSTAMP:20260421T015543
CREATED:20251103T185220Z
LAST-MODIFIED:20251204T204656Z
UID:10004952-1845878400-1845909000@conexionlaboralsurestepr.org
SUMMARY:Visita Socio | One Stop Careers Center of PR
DESCRIPTION:Programa de Reintegración de Ex-Ofensores bajo Second Change Act
URL:https://conexionlaboralsurestepr.org/event/vista-socio-one-stop-careers-center-of-pr/2028-06-29/
CATEGORIES:Socios
END:VEVENT
BEGIN:VEVENT
DTSTART;TZID=America/Puerto_Rico:20280630T080000
DTEND;TZID=America/Puerto_Rico:20280630T163000
DTSTAMP:20260421T015543
CREATED:20251031T153427Z
LAST-MODIFIED:20251031T173748Z
UID:10001526-1845964800-1845995400@conexionlaboralsurestepr.org
SUMMARY:Visita Socio | Título I - B
DESCRIPTION:Programa Jóvenes\, Adultos y Desplazados
URL:https://conexionlaboralsurestepr.org/event/visita-socios-titulo-i-b/2028-06-30/
CATEGORIES:Socios
END:VEVENT
BEGIN:VEVENT
DTSTART;TZID=America/Puerto_Rico:20280630T080000
DTEND;TZID=America/Puerto_Rico:20280630T163000
DTSTAMP:20260421T015543
CREATED:20251031T173045Z
LAST-MODIFIED:20251204T204704Z
UID:10002523-1845964800-1845995400@conexionlaboralsurestepr.org
SUMMARY:Visita Socio | Departamento del Trabajo y Recursos Humanos (DTRH)
DESCRIPTION:Programa Veteranos (Capítulo 41 Título 38 del Código de EU)\nServicio de Empleo\, Programa Agrícola y Programa RESEA\nPrograma Seguro por Desempleo
URL:https://conexionlaboralsurestepr.org/event/vista-socio-departamento-del-trabajo-y-recursos-humanos-dtrh/2028-06-30/
CATEGORIES:Socios
END:VEVENT
BEGIN:VEVENT
DTSTART;TZID=America/Puerto_Rico:20280630T080000
DTEND;TZID=America/Puerto_Rico:20280630T163000
DTSTAMP:20260421T015543
CREATED:20251103T185220Z
LAST-MODIFIED:20251204T204656Z
UID:10004953-1845964800-1845995400@conexionlaboralsurestepr.org
SUMMARY:Visita Socio | One Stop Careers Center of PR
DESCRIPTION:Programa de Reintegración de Ex-Ofensores bajo Second Change Act
URL:https://conexionlaboralsurestepr.org/event/vista-socio-one-stop-careers-center-of-pr/2028-06-30/
CATEGORIES:Socios
END:VEVENT
BEGIN:VEVENT
DTSTART;TZID=America/Puerto_Rico:20280702T080000
DTEND;TZID=America/Puerto_Rico:20280702T163000
DTSTAMP:20260421T015543
CREATED:20251103T185220Z
LAST-MODIFIED:20251204T204656Z
UID:10004954-1846137600-1846168200@conexionlaboralsurestepr.org
SUMMARY:Visita Socio | One Stop Careers Center of PR
DESCRIPTION:Programa de Reintegración de Ex-Ofensores bajo Second Change Act
URL:https://conexionlaboralsurestepr.org/event/vista-socio-one-stop-careers-center-of-pr/2028-07-02/
CATEGORIES:Socios
END:VEVENT
END:VCALENDAR