BEGIN:VCALENDAR
VERSION:2.0
PRODID:-//Conexión Laboral Sureste - ECPv6.15.20//NONSGML v1.0//EN
CALSCALE:GREGORIAN
METHOD:PUBLISH
X-WR-CALNAME:Conexión Laboral Sureste
X-ORIGINAL-URL:https://conexionlaboralsurestepr.org
X-WR-CALDESC:Events for Conexión Laboral Sureste
REFRESH-INTERVAL;VALUE=DURATION:PT1H
X-Robots-Tag:noindex
X-PUBLISHED-TTL:PT1H
BEGIN:VTIMEZONE
TZID:America/Puerto_Rico
BEGIN:STANDARD
TZOFFSETFROM:-0400
TZOFFSETTO:-0400
TZNAME:AST
DTSTART:20270101T000000
END:STANDARD
END:VTIMEZONE
BEGIN:VEVENT
DTSTART;TZID=America/Puerto_Rico:20280821T080000
DTEND;TZID=America/Puerto_Rico:20280821T163000
DTSTAMP:20260421T093611
CREATED:20251031T153427Z
LAST-MODIFIED:20251031T173748Z
UID:10000733-1850457600-1850488200@conexionlaboralsurestepr.org
SUMMARY:Visita Socio | Título I - B
DESCRIPTION:Programa Jóvenes\, Adultos y Desplazados
URL:https://conexionlaboralsurestepr.org/event/visita-socios-titulo-i-b/2028-08-21/
CATEGORIES:Socios
END:VEVENT
BEGIN:VEVENT
DTSTART;TZID=America/Puerto_Rico:20280821T080000
DTEND;TZID=America/Puerto_Rico:20280821T163000
DTSTAMP:20260421T093611
CREATED:20251031T173045Z
LAST-MODIFIED:20251204T204704Z
UID:10002559-1850457600-1850488200@conexionlaboralsurestepr.org
SUMMARY:Visita Socio | Departamento del Trabajo y Recursos Humanos (DTRH)
DESCRIPTION:Programa Veteranos (Capítulo 41 Título 38 del Código de EU)\nServicio de Empleo\, Programa Agrícola y Programa RESEA\nPrograma Seguro por Desempleo
URL:https://conexionlaboralsurestepr.org/event/vista-socio-departamento-del-trabajo-y-recursos-humanos-dtrh/2028-08-21/
CATEGORIES:Socios
END:VEVENT
BEGIN:VEVENT
DTSTART;TZID=America/Puerto_Rico:20280821T080000
DTEND;TZID=America/Puerto_Rico:20280821T163000
DTSTAMP:20260421T093611
CREATED:20251103T185220Z
LAST-MODIFIED:20251204T204656Z
UID:10004997-1850457600-1850488200@conexionlaboralsurestepr.org
SUMMARY:Visita Socio | One Stop Careers Center of PR
DESCRIPTION:Programa de Reintegración de Ex-Ofensores bajo Second Change Act
URL:https://conexionlaboralsurestepr.org/event/vista-socio-one-stop-careers-center-of-pr/2028-08-21/
CATEGORIES:Socios
END:VEVENT
BEGIN:VEVENT
DTSTART;TZID=America/Puerto_Rico:20280822T080000
DTEND;TZID=America/Puerto_Rico:20280822T163000
DTSTAMP:20260421T093611
CREATED:20251031T153427Z
LAST-MODIFIED:20251031T173748Z
UID:10000734-1850544000-1850574600@conexionlaboralsurestepr.org
SUMMARY:Visita Socio | Título I - B
DESCRIPTION:Programa Jóvenes\, Adultos y Desplazados
URL:https://conexionlaboralsurestepr.org/event/visita-socios-titulo-i-b/2028-08-22/
CATEGORIES:Socios
END:VEVENT
BEGIN:VEVENT
DTSTART;TZID=America/Puerto_Rico:20280822T080000
DTEND;TZID=America/Puerto_Rico:20280822T163000
DTSTAMP:20260421T093611
CREATED:20251031T173045Z
LAST-MODIFIED:20251204T204704Z
UID:10002560-1850544000-1850574600@conexionlaboralsurestepr.org
SUMMARY:Visita Socio | Departamento del Trabajo y Recursos Humanos (DTRH)
DESCRIPTION:Programa Veteranos (Capítulo 41 Título 38 del Código de EU)\nServicio de Empleo\, Programa Agrícola y Programa RESEA\nPrograma Seguro por Desempleo
URL:https://conexionlaboralsurestepr.org/event/vista-socio-departamento-del-trabajo-y-recursos-humanos-dtrh/2028-08-22/
CATEGORIES:Socios
END:VEVENT
BEGIN:VEVENT
DTSTART;TZID=America/Puerto_Rico:20280822T080000
DTEND;TZID=America/Puerto_Rico:20280822T163000
DTSTAMP:20260421T093611
CREATED:20251103T185220Z
LAST-MODIFIED:20251204T204656Z
UID:10004998-1850544000-1850574600@conexionlaboralsurestepr.org
SUMMARY:Visita Socio | One Stop Careers Center of PR
DESCRIPTION:Programa de Reintegración de Ex-Ofensores bajo Second Change Act
URL:https://conexionlaboralsurestepr.org/event/vista-socio-one-stop-careers-center-of-pr/2028-08-22/
CATEGORIES:Socios
END:VEVENT
BEGIN:VEVENT
DTSTART;TZID=America/Puerto_Rico:20280823T080000
DTEND;TZID=America/Puerto_Rico:20280823T120000
DTSTAMP:20260421T093611
CREATED:20251103T185047Z
LAST-MODIFIED:20251204T204622Z
UID:10003952-1850630400-1850644800@conexionlaboralsurestepr.org
SUMMARY:Visita Socio | Título IV - "Social Security Act" Departamento de la Familia
DESCRIPTION:Programa TANF (Temporary Assistance for Needy Families)
URL:https://conexionlaboralsurestepr.org/event/vista-socio-titulo-iv-social-security-act-departamento-de-la-familia/2028-08-23/
CATEGORIES:Socios
END:VEVENT
BEGIN:VEVENT
DTSTART;TZID=America/Puerto_Rico:20280823T080000
DTEND;TZID=America/Puerto_Rico:20280823T163000
DTSTAMP:20260421T093611
CREATED:20251031T153427Z
LAST-MODIFIED:20251031T173748Z
UID:10000735-1850630400-1850661000@conexionlaboralsurestepr.org
SUMMARY:Visita Socio | Título I - B
DESCRIPTION:Programa Jóvenes\, Adultos y Desplazados
URL:https://conexionlaboralsurestepr.org/event/visita-socios-titulo-i-b/2028-08-23/
CATEGORIES:Socios
END:VEVENT
BEGIN:VEVENT
DTSTART;TZID=America/Puerto_Rico:20280823T080000
DTEND;TZID=America/Puerto_Rico:20280823T163000
DTSTAMP:20260421T093611
CREATED:20251031T173045Z
LAST-MODIFIED:20251204T204704Z
UID:10002561-1850630400-1850661000@conexionlaboralsurestepr.org
SUMMARY:Visita Socio | Departamento del Trabajo y Recursos Humanos (DTRH)
DESCRIPTION:Programa Veteranos (Capítulo 41 Título 38 del Código de EU)\nServicio de Empleo\, Programa Agrícola y Programa RESEA\nPrograma Seguro por Desempleo
URL:https://conexionlaboralsurestepr.org/event/vista-socio-departamento-del-trabajo-y-recursos-humanos-dtrh/2028-08-23/
CATEGORIES:Socios
END:VEVENT
BEGIN:VEVENT
DTSTART;TZID=America/Puerto_Rico:20280823T080000
DTEND;TZID=America/Puerto_Rico:20280823T163000
DTSTAMP:20260421T093611
CREATED:20251103T185220Z
LAST-MODIFIED:20251204T204656Z
UID:10004999-1850630400-1850661000@conexionlaboralsurestepr.org
SUMMARY:Visita Socio | One Stop Careers Center of PR
DESCRIPTION:Programa de Reintegración de Ex-Ofensores bajo Second Change Act
URL:https://conexionlaboralsurestepr.org/event/vista-socio-one-stop-careers-center-of-pr/2028-08-23/
CATEGORIES:Socios
END:VEVENT
BEGIN:VEVENT
DTSTART;TZID=America/Puerto_Rico:20280824T080000
DTEND;TZID=America/Puerto_Rico:20280824T163000
DTSTAMP:20260421T093611
CREATED:20251031T153427Z
LAST-MODIFIED:20251031T173748Z
UID:10000736-1850716800-1850747400@conexionlaboralsurestepr.org
SUMMARY:Visita Socio | Título I - B
DESCRIPTION:Programa Jóvenes\, Adultos y Desplazados
URL:https://conexionlaboralsurestepr.org/event/visita-socios-titulo-i-b/2028-08-24/
CATEGORIES:Socios
END:VEVENT
BEGIN:VEVENT
DTSTART;TZID=America/Puerto_Rico:20280824T080000
DTEND;TZID=America/Puerto_Rico:20280824T163000
DTSTAMP:20260421T093611
CREATED:20251031T173045Z
LAST-MODIFIED:20251204T204704Z
UID:10002562-1850716800-1850747400@conexionlaboralsurestepr.org
SUMMARY:Visita Socio | Departamento del Trabajo y Recursos Humanos (DTRH)
DESCRIPTION:Programa Veteranos (Capítulo 41 Título 38 del Código de EU)\nServicio de Empleo\, Programa Agrícola y Programa RESEA\nPrograma Seguro por Desempleo
URL:https://conexionlaboralsurestepr.org/event/vista-socio-departamento-del-trabajo-y-recursos-humanos-dtrh/2028-08-24/
CATEGORIES:Socios
END:VEVENT
BEGIN:VEVENT
DTSTART;TZID=America/Puerto_Rico:20280824T080000
DTEND;TZID=America/Puerto_Rico:20280824T163000
DTSTAMP:20260421T093611
CREATED:20251103T184914Z
LAST-MODIFIED:20251204T204647Z
UID:10003682-1850716800-1850747400@conexionlaboralsurestepr.org
SUMMARY:Visita Socio | Título II - Departamento de Educación
DESCRIPTION:Programa de Educación y Literacia de Adultos
URL:https://conexionlaboralsurestepr.org/event/vista-socio-titulo-ii-departamento-de-educacion/2028-08-24/
CATEGORIES:Socios
END:VEVENT
BEGIN:VEVENT
DTSTART;TZID=America/Puerto_Rico:20280824T080000
DTEND;TZID=America/Puerto_Rico:20280824T163000
DTSTAMP:20260421T093611
CREATED:20251103T185220Z
LAST-MODIFIED:20251204T204656Z
UID:10005000-1850716800-1850747400@conexionlaboralsurestepr.org
SUMMARY:Visita Socio | One Stop Careers Center of PR
DESCRIPTION:Programa de Reintegración de Ex-Ofensores bajo Second Change Act
URL:https://conexionlaboralsurestepr.org/event/vista-socio-one-stop-careers-center-of-pr/2028-08-24/
CATEGORIES:Socios
END:VEVENT
BEGIN:VEVENT
DTSTART;TZID=America/Puerto_Rico:20280825T080000
DTEND;TZID=America/Puerto_Rico:20280825T163000
DTSTAMP:20260421T093611
CREATED:20251031T153427Z
LAST-MODIFIED:20251031T173748Z
UID:10001534-1850803200-1850833800@conexionlaboralsurestepr.org
SUMMARY:Visita Socio | Título I - B
DESCRIPTION:Programa Jóvenes\, Adultos y Desplazados
URL:https://conexionlaboralsurestepr.org/event/visita-socios-titulo-i-b/2028-08-25/
CATEGORIES:Socios
END:VEVENT
BEGIN:VEVENT
DTSTART;TZID=America/Puerto_Rico:20280825T080000
DTEND;TZID=America/Puerto_Rico:20280825T163000
DTSTAMP:20260421T093611
CREATED:20251031T173045Z
LAST-MODIFIED:20251204T204704Z
UID:10002563-1850803200-1850833800@conexionlaboralsurestepr.org
SUMMARY:Visita Socio | Departamento del Trabajo y Recursos Humanos (DTRH)
DESCRIPTION:Programa Veteranos (Capítulo 41 Título 38 del Código de EU)\nServicio de Empleo\, Programa Agrícola y Programa RESEA\nPrograma Seguro por Desempleo
URL:https://conexionlaboralsurestepr.org/event/vista-socio-departamento-del-trabajo-y-recursos-humanos-dtrh/2028-08-25/
CATEGORIES:Socios
END:VEVENT
BEGIN:VEVENT
DTSTART;TZID=America/Puerto_Rico:20280825T080000
DTEND;TZID=America/Puerto_Rico:20280825T163000
DTSTAMP:20260421T093611
CREATED:20251103T185220Z
LAST-MODIFIED:20251204T204656Z
UID:10005001-1850803200-1850833800@conexionlaboralsurestepr.org
SUMMARY:Visita Socio | One Stop Careers Center of PR
DESCRIPTION:Programa de Reintegración de Ex-Ofensores bajo Second Change Act
URL:https://conexionlaboralsurestepr.org/event/vista-socio-one-stop-careers-center-of-pr/2028-08-25/
CATEGORIES:Socios
END:VEVENT
BEGIN:VEVENT
DTSTART;TZID=America/Puerto_Rico:20280827T080000
DTEND;TZID=America/Puerto_Rico:20280827T163000
DTSTAMP:20260421T093611
CREATED:20251103T185220Z
LAST-MODIFIED:20251204T204656Z
UID:10005002-1850976000-1851006600@conexionlaboralsurestepr.org
SUMMARY:Visita Socio | One Stop Careers Center of PR
DESCRIPTION:Programa de Reintegración de Ex-Ofensores bajo Second Change Act
URL:https://conexionlaboralsurestepr.org/event/vista-socio-one-stop-careers-center-of-pr/2028-08-27/
CATEGORIES:Socios
END:VEVENT
END:VCALENDAR