BEGIN:VCALENDAR
VERSION:2.0
PRODID:-//Conexión Laboral Sureste - ECPv6.15.20//NONSGML v1.0//EN
CALSCALE:GREGORIAN
METHOD:PUBLISH
X-WR-CALNAME:Conexión Laboral Sureste
X-ORIGINAL-URL:https://conexionlaboralsurestepr.org
X-WR-CALDESC:Events for Conexión Laboral Sureste
REFRESH-INTERVAL;VALUE=DURATION:PT1H
X-Robots-Tag:noindex
X-PUBLISHED-TTL:PT1H
BEGIN:VTIMEZONE
TZID:America/Puerto_Rico
BEGIN:STANDARD
TZOFFSETFROM:-0400
TZOFFSETTO:-0400
TZNAME:AST
DTSTART:20270101T000000
END:STANDARD
END:VTIMEZONE
BEGIN:VEVENT
DTSTART;TZID=America/Puerto_Rico:20280828T080000
DTEND;TZID=America/Puerto_Rico:20280828T163000
DTSTAMP:20260421T080834
CREATED:20251031T153427Z
LAST-MODIFIED:20251031T173748Z
UID:10000738-1851062400-1851093000@conexionlaboralsurestepr.org
SUMMARY:Visita Socio | Título I - B
DESCRIPTION:Programa Jóvenes\, Adultos y Desplazados
URL:https://conexionlaboralsurestepr.org/event/visita-socios-titulo-i-b/2028-08-28/
CATEGORIES:Socios
END:VEVENT
BEGIN:VEVENT
DTSTART;TZID=America/Puerto_Rico:20280828T080000
DTEND;TZID=America/Puerto_Rico:20280828T163000
DTSTAMP:20260421T080834
CREATED:20251031T173045Z
LAST-MODIFIED:20251204T204704Z
UID:10002564-1851062400-1851093000@conexionlaboralsurestepr.org
SUMMARY:Visita Socio | Departamento del Trabajo y Recursos Humanos (DTRH)
DESCRIPTION:Programa Veteranos (Capítulo 41 Título 38 del Código de EU)\nServicio de Empleo\, Programa Agrícola y Programa RESEA\nPrograma Seguro por Desempleo
URL:https://conexionlaboralsurestepr.org/event/vista-socio-departamento-del-trabajo-y-recursos-humanos-dtrh/2028-08-28/
CATEGORIES:Socios
END:VEVENT
BEGIN:VEVENT
DTSTART;TZID=America/Puerto_Rico:20280828T080000
DTEND;TZID=America/Puerto_Rico:20280828T163000
DTSTAMP:20260421T080834
CREATED:20251103T185220Z
LAST-MODIFIED:20251204T204656Z
UID:10005003-1851062400-1851093000@conexionlaboralsurestepr.org
SUMMARY:Visita Socio | One Stop Careers Center of PR
DESCRIPTION:Programa de Reintegración de Ex-Ofensores bajo Second Change Act
URL:https://conexionlaboralsurestepr.org/event/vista-socio-one-stop-careers-center-of-pr/2028-08-28/
CATEGORIES:Socios
END:VEVENT
BEGIN:VEVENT
DTSTART;TZID=America/Puerto_Rico:20280829T080000
DTEND;TZID=America/Puerto_Rico:20280829T163000
DTSTAMP:20260421T080834
CREATED:20251031T153427Z
LAST-MODIFIED:20251031T173748Z
UID:10000739-1851148800-1851179400@conexionlaboralsurestepr.org
SUMMARY:Visita Socio | Título I - B
DESCRIPTION:Programa Jóvenes\, Adultos y Desplazados
URL:https://conexionlaboralsurestepr.org/event/visita-socios-titulo-i-b/2028-08-29/
CATEGORIES:Socios
END:VEVENT
BEGIN:VEVENT
DTSTART;TZID=America/Puerto_Rico:20280829T080000
DTEND;TZID=America/Puerto_Rico:20280829T163000
DTSTAMP:20260421T080834
CREATED:20251031T173045Z
LAST-MODIFIED:20251204T204704Z
UID:10002565-1851148800-1851179400@conexionlaboralsurestepr.org
SUMMARY:Visita Socio | Departamento del Trabajo y Recursos Humanos (DTRH)
DESCRIPTION:Programa Veteranos (Capítulo 41 Título 38 del Código de EU)\nServicio de Empleo\, Programa Agrícola y Programa RESEA\nPrograma Seguro por Desempleo
URL:https://conexionlaboralsurestepr.org/event/vista-socio-departamento-del-trabajo-y-recursos-humanos-dtrh/2028-08-29/
CATEGORIES:Socios
END:VEVENT
BEGIN:VEVENT
DTSTART;TZID=America/Puerto_Rico:20280829T080000
DTEND;TZID=America/Puerto_Rico:20280829T163000
DTSTAMP:20260421T080834
CREATED:20251103T185220Z
LAST-MODIFIED:20251204T204656Z
UID:10005004-1851148800-1851179400@conexionlaboralsurestepr.org
SUMMARY:Visita Socio | One Stop Careers Center of PR
DESCRIPTION:Programa de Reintegración de Ex-Ofensores bajo Second Change Act
URL:https://conexionlaboralsurestepr.org/event/vista-socio-one-stop-careers-center-of-pr/2028-08-29/
CATEGORIES:Socios
END:VEVENT
BEGIN:VEVENT
DTSTART;TZID=America/Puerto_Rico:20280830T080000
DTEND;TZID=America/Puerto_Rico:20280830T120000
DTSTAMP:20260421T080834
CREATED:20251103T185047Z
LAST-MODIFIED:20251204T204622Z
UID:10003953-1851235200-1851249600@conexionlaboralsurestepr.org
SUMMARY:Visita Socio | Título IV - "Social Security Act" Departamento de la Familia
DESCRIPTION:Programa TANF (Temporary Assistance for Needy Families)
URL:https://conexionlaboralsurestepr.org/event/vista-socio-titulo-iv-social-security-act-departamento-de-la-familia/2028-08-30/
CATEGORIES:Socios
END:VEVENT
BEGIN:VEVENT
DTSTART;TZID=America/Puerto_Rico:20280830T080000
DTEND;TZID=America/Puerto_Rico:20280830T163000
DTSTAMP:20260421T080834
CREATED:20251031T153427Z
LAST-MODIFIED:20251031T173748Z
UID:10000740-1851235200-1851265800@conexionlaboralsurestepr.org
SUMMARY:Visita Socio | Título I - B
DESCRIPTION:Programa Jóvenes\, Adultos y Desplazados
URL:https://conexionlaboralsurestepr.org/event/visita-socios-titulo-i-b/2028-08-30/
CATEGORIES:Socios
END:VEVENT
BEGIN:VEVENT
DTSTART;TZID=America/Puerto_Rico:20280830T080000
DTEND;TZID=America/Puerto_Rico:20280830T163000
DTSTAMP:20260421T080834
CREATED:20251031T173045Z
LAST-MODIFIED:20251204T204704Z
UID:10002566-1851235200-1851265800@conexionlaboralsurestepr.org
SUMMARY:Visita Socio | Departamento del Trabajo y Recursos Humanos (DTRH)
DESCRIPTION:Programa Veteranos (Capítulo 41 Título 38 del Código de EU)\nServicio de Empleo\, Programa Agrícola y Programa RESEA\nPrograma Seguro por Desempleo
URL:https://conexionlaboralsurestepr.org/event/vista-socio-departamento-del-trabajo-y-recursos-humanos-dtrh/2028-08-30/
CATEGORIES:Socios
END:VEVENT
BEGIN:VEVENT
DTSTART;TZID=America/Puerto_Rico:20280830T080000
DTEND;TZID=America/Puerto_Rico:20280830T163000
DTSTAMP:20260421T080834
CREATED:20251103T185220Z
LAST-MODIFIED:20251204T204656Z
UID:10005005-1851235200-1851265800@conexionlaboralsurestepr.org
SUMMARY:Visita Socio | One Stop Careers Center of PR
DESCRIPTION:Programa de Reintegración de Ex-Ofensores bajo Second Change Act
URL:https://conexionlaboralsurestepr.org/event/vista-socio-one-stop-careers-center-of-pr/2028-08-30/
CATEGORIES:Socios
END:VEVENT
BEGIN:VEVENT
DTSTART;TZID=America/Puerto_Rico:20280831T080000
DTEND;TZID=America/Puerto_Rico:20280831T163000
DTSTAMP:20260421T080834
CREATED:20251031T153427Z
LAST-MODIFIED:20251031T173748Z
UID:10000741-1851321600-1851352200@conexionlaboralsurestepr.org
SUMMARY:Visita Socio | Título I - B
DESCRIPTION:Programa Jóvenes\, Adultos y Desplazados
URL:https://conexionlaboralsurestepr.org/event/visita-socios-titulo-i-b/2028-08-31/
CATEGORIES:Socios
END:VEVENT
BEGIN:VEVENT
DTSTART;TZID=America/Puerto_Rico:20280831T080000
DTEND;TZID=America/Puerto_Rico:20280831T163000
DTSTAMP:20260421T080834
CREATED:20251031T173045Z
LAST-MODIFIED:20251204T204704Z
UID:10002567-1851321600-1851352200@conexionlaboralsurestepr.org
SUMMARY:Visita Socio | Departamento del Trabajo y Recursos Humanos (DTRH)
DESCRIPTION:Programa Veteranos (Capítulo 41 Título 38 del Código de EU)\nServicio de Empleo\, Programa Agrícola y Programa RESEA\nPrograma Seguro por Desempleo
URL:https://conexionlaboralsurestepr.org/event/vista-socio-departamento-del-trabajo-y-recursos-humanos-dtrh/2028-08-31/
CATEGORIES:Socios
END:VEVENT
BEGIN:VEVENT
DTSTART;TZID=America/Puerto_Rico:20280831T080000
DTEND;TZID=America/Puerto_Rico:20280831T163000
DTSTAMP:20260421T080834
CREATED:20251103T184914Z
LAST-MODIFIED:20251204T204647Z
UID:10003683-1851321600-1851352200@conexionlaboralsurestepr.org
SUMMARY:Visita Socio | Título II - Departamento de Educación
DESCRIPTION:Programa de Educación y Literacia de Adultos
URL:https://conexionlaboralsurestepr.org/event/vista-socio-titulo-ii-departamento-de-educacion/2028-08-31/
CATEGORIES:Socios
END:VEVENT
BEGIN:VEVENT
DTSTART;TZID=America/Puerto_Rico:20280831T080000
DTEND;TZID=America/Puerto_Rico:20280831T163000
DTSTAMP:20260421T080834
CREATED:20251103T185220Z
LAST-MODIFIED:20251204T204656Z
UID:10005006-1851321600-1851352200@conexionlaboralsurestepr.org
SUMMARY:Visita Socio | One Stop Careers Center of PR
DESCRIPTION:Programa de Reintegración de Ex-Ofensores bajo Second Change Act
URL:https://conexionlaboralsurestepr.org/event/vista-socio-one-stop-careers-center-of-pr/2028-08-31/
CATEGORIES:Socios
END:VEVENT
BEGIN:VEVENT
DTSTART;TZID=America/Puerto_Rico:20280901T080000
DTEND;TZID=America/Puerto_Rico:20280901T163000
DTSTAMP:20260421T080834
CREATED:20251031T153427Z
LAST-MODIFIED:20251031T173748Z
UID:10001535-1851408000-1851438600@conexionlaboralsurestepr.org
SUMMARY:Visita Socio | Título I - B
DESCRIPTION:Programa Jóvenes\, Adultos y Desplazados
URL:https://conexionlaboralsurestepr.org/event/visita-socios-titulo-i-b/2028-09-01/
CATEGORIES:Socios
END:VEVENT
BEGIN:VEVENT
DTSTART;TZID=America/Puerto_Rico:20280901T080000
DTEND;TZID=America/Puerto_Rico:20280901T163000
DTSTAMP:20260421T080834
CREATED:20251031T173045Z
LAST-MODIFIED:20251204T204704Z
UID:10002568-1851408000-1851438600@conexionlaboralsurestepr.org
SUMMARY:Visita Socio | Departamento del Trabajo y Recursos Humanos (DTRH)
DESCRIPTION:Programa Veteranos (Capítulo 41 Título 38 del Código de EU)\nServicio de Empleo\, Programa Agrícola y Programa RESEA\nPrograma Seguro por Desempleo
URL:https://conexionlaboralsurestepr.org/event/vista-socio-departamento-del-trabajo-y-recursos-humanos-dtrh/2028-09-01/
CATEGORIES:Socios
END:VEVENT
BEGIN:VEVENT
DTSTART;TZID=America/Puerto_Rico:20280901T080000
DTEND;TZID=America/Puerto_Rico:20280901T163000
DTSTAMP:20260421T080834
CREATED:20251103T185220Z
LAST-MODIFIED:20251204T204656Z
UID:10005007-1851408000-1851438600@conexionlaboralsurestepr.org
SUMMARY:Visita Socio | One Stop Careers Center of PR
DESCRIPTION:Programa de Reintegración de Ex-Ofensores bajo Second Change Act
URL:https://conexionlaboralsurestepr.org/event/vista-socio-one-stop-careers-center-of-pr/2028-09-01/
CATEGORIES:Socios
END:VEVENT
BEGIN:VEVENT
DTSTART;TZID=America/Puerto_Rico:20280903T080000
DTEND;TZID=America/Puerto_Rico:20280903T163000
DTSTAMP:20260421T080834
CREATED:20251103T185220Z
LAST-MODIFIED:20251204T204656Z
UID:10005008-1851580800-1851611400@conexionlaboralsurestepr.org
SUMMARY:Visita Socio | One Stop Careers Center of PR
DESCRIPTION:Programa de Reintegración de Ex-Ofensores bajo Second Change Act
URL:https://conexionlaboralsurestepr.org/event/vista-socio-one-stop-careers-center-of-pr/2028-09-03/
CATEGORIES:Socios
END:VEVENT
END:VCALENDAR