BEGIN:VCALENDAR
VERSION:2.0
PRODID:-//Conexión Laboral Sureste - ECPv6.15.20//NONSGML v1.0//EN
CALSCALE:GREGORIAN
METHOD:PUBLISH
X-ORIGINAL-URL:https://conexionlaboralsurestepr.org
X-WR-CALDESC:Events for Conexión Laboral Sureste
REFRESH-INTERVAL;VALUE=DURATION:PT1H
X-Robots-Tag:noindex
X-PUBLISHED-TTL:PT1H
BEGIN:VTIMEZONE
TZID:America/Puerto_Rico
BEGIN:STANDARD
TZOFFSETFROM:-0400
TZOFFSETTO:-0400
TZNAME:AST
DTSTART:20270101T000000
END:STANDARD
END:VTIMEZONE
BEGIN:VEVENT
DTSTART;TZID=America/Puerto_Rico:20280911T080000
DTEND;TZID=America/Puerto_Rico:20280911T163000
DTSTAMP:20260421T142952
CREATED:20251031T153427Z
LAST-MODIFIED:20251031T173748Z
UID:10000748-1852272000-1852302600@conexionlaboralsurestepr.org
SUMMARY:Visita Socio | Título I - B
DESCRIPTION:Programa Jóvenes\, Adultos y Desplazados
URL:https://conexionlaboralsurestepr.org/event/visita-socios-titulo-i-b/2028-09-11/
CATEGORIES:Socios
END:VEVENT
BEGIN:VEVENT
DTSTART;TZID=America/Puerto_Rico:20280911T080000
DTEND;TZID=America/Puerto_Rico:20280911T163000
DTSTAMP:20260421T142952
CREATED:20251031T173045Z
LAST-MODIFIED:20251204T204704Z
UID:10002574-1852272000-1852302600@conexionlaboralsurestepr.org
SUMMARY:Visita Socio | Departamento del Trabajo y Recursos Humanos (DTRH)
DESCRIPTION:Programa Veteranos (Capítulo 41 Título 38 del Código de EU)\nServicio de Empleo\, Programa Agrícola y Programa RESEA\nPrograma Seguro por Desempleo
URL:https://conexionlaboralsurestepr.org/event/vista-socio-departamento-del-trabajo-y-recursos-humanos-dtrh/2028-09-11/
CATEGORIES:Socios
END:VEVENT
BEGIN:VEVENT
DTSTART;TZID=America/Puerto_Rico:20280911T080000
DTEND;TZID=America/Puerto_Rico:20280911T163000
DTSTAMP:20260421T142952
CREATED:20251103T185220Z
LAST-MODIFIED:20251204T204656Z
UID:10005015-1852272000-1852302600@conexionlaboralsurestepr.org
SUMMARY:Visita Socio | One Stop Careers Center of PR
DESCRIPTION:Programa de Reintegración de Ex-Ofensores bajo Second Change Act
URL:https://conexionlaboralsurestepr.org/event/vista-socio-one-stop-careers-center-of-pr/2028-09-11/
CATEGORIES:Socios
END:VEVENT
BEGIN:VEVENT
DTSTART;TZID=America/Puerto_Rico:20280912T080000
DTEND;TZID=America/Puerto_Rico:20280912T163000
DTSTAMP:20260421T142952
CREATED:20251031T153427Z
LAST-MODIFIED:20251031T173748Z
UID:10000749-1852358400-1852389000@conexionlaboralsurestepr.org
SUMMARY:Visita Socio | Título I - B
DESCRIPTION:Programa Jóvenes\, Adultos y Desplazados
URL:https://conexionlaboralsurestepr.org/event/visita-socios-titulo-i-b/2028-09-12/
CATEGORIES:Socios
END:VEVENT
BEGIN:VEVENT
DTSTART;TZID=America/Puerto_Rico:20280912T080000
DTEND;TZID=America/Puerto_Rico:20280912T163000
DTSTAMP:20260421T142952
CREATED:20251031T173045Z
LAST-MODIFIED:20251204T204704Z
UID:10002575-1852358400-1852389000@conexionlaboralsurestepr.org
SUMMARY:Visita Socio | Departamento del Trabajo y Recursos Humanos (DTRH)
DESCRIPTION:Programa Veteranos (Capítulo 41 Título 38 del Código de EU)\nServicio de Empleo\, Programa Agrícola y Programa RESEA\nPrograma Seguro por Desempleo
URL:https://conexionlaboralsurestepr.org/event/vista-socio-departamento-del-trabajo-y-recursos-humanos-dtrh/2028-09-12/
CATEGORIES:Socios
END:VEVENT
BEGIN:VEVENT
DTSTART;TZID=America/Puerto_Rico:20280912T080000
DTEND;TZID=America/Puerto_Rico:20280912T163000
DTSTAMP:20260421T142952
CREATED:20251103T185220Z
LAST-MODIFIED:20251204T204656Z
UID:10005016-1852358400-1852389000@conexionlaboralsurestepr.org
SUMMARY:Visita Socio | One Stop Careers Center of PR
DESCRIPTION:Programa de Reintegración de Ex-Ofensores bajo Second Change Act
URL:https://conexionlaboralsurestepr.org/event/vista-socio-one-stop-careers-center-of-pr/2028-09-12/
CATEGORIES:Socios
END:VEVENT
BEGIN:VEVENT
DTSTART;TZID=America/Puerto_Rico:20280913T080000
DTEND;TZID=America/Puerto_Rico:20280913T120000
DTSTAMP:20260421T142952
CREATED:20251103T185047Z
LAST-MODIFIED:20251204T204622Z
UID:10003955-1852444800-1852459200@conexionlaboralsurestepr.org
SUMMARY:Visita Socio | Título IV - "Social Security Act" Departamento de la Familia
DESCRIPTION:Programa TANF (Temporary Assistance for Needy Families)
URL:https://conexionlaboralsurestepr.org/event/vista-socio-titulo-iv-social-security-act-departamento-de-la-familia/2028-09-13/
CATEGORIES:Socios
END:VEVENT
BEGIN:VEVENT
DTSTART;TZID=America/Puerto_Rico:20280913T080000
DTEND;TZID=America/Puerto_Rico:20280913T163000
DTSTAMP:20260421T142952
CREATED:20251031T153427Z
LAST-MODIFIED:20251031T173748Z
UID:10000750-1852444800-1852475400@conexionlaboralsurestepr.org
SUMMARY:Visita Socio | Título I - B
DESCRIPTION:Programa Jóvenes\, Adultos y Desplazados
URL:https://conexionlaboralsurestepr.org/event/visita-socios-titulo-i-b/2028-09-13/
CATEGORIES:Socios
END:VEVENT
BEGIN:VEVENT
DTSTART;TZID=America/Puerto_Rico:20280913T080000
DTEND;TZID=America/Puerto_Rico:20280913T163000
DTSTAMP:20260421T142952
CREATED:20251031T173045Z
LAST-MODIFIED:20251204T204704Z
UID:10002576-1852444800-1852475400@conexionlaboralsurestepr.org
SUMMARY:Visita Socio | Departamento del Trabajo y Recursos Humanos (DTRH)
DESCRIPTION:Programa Veteranos (Capítulo 41 Título 38 del Código de EU)\nServicio de Empleo\, Programa Agrícola y Programa RESEA\nPrograma Seguro por Desempleo
URL:https://conexionlaboralsurestepr.org/event/vista-socio-departamento-del-trabajo-y-recursos-humanos-dtrh/2028-09-13/
CATEGORIES:Socios
END:VEVENT
BEGIN:VEVENT
DTSTART;TZID=America/Puerto_Rico:20280913T080000
DTEND;TZID=America/Puerto_Rico:20280913T163000
DTSTAMP:20260421T142953
CREATED:20251103T185220Z
LAST-MODIFIED:20251204T204656Z
UID:10005017-1852444800-1852475400@conexionlaboralsurestepr.org
SUMMARY:Visita Socio | One Stop Careers Center of PR
DESCRIPTION:Programa de Reintegración de Ex-Ofensores bajo Second Change Act
URL:https://conexionlaboralsurestepr.org/event/vista-socio-one-stop-careers-center-of-pr/2028-09-13/
CATEGORIES:Socios
END:VEVENT
BEGIN:VEVENT
DTSTART;TZID=America/Puerto_Rico:20280914T080000
DTEND;TZID=America/Puerto_Rico:20280914T163000
DTSTAMP:20260421T142953
CREATED:20251031T153427Z
LAST-MODIFIED:20251031T173748Z
UID:10000751-1852531200-1852561800@conexionlaboralsurestepr.org
SUMMARY:Visita Socio | Título I - B
DESCRIPTION:Programa Jóvenes\, Adultos y Desplazados
URL:https://conexionlaboralsurestepr.org/event/visita-socios-titulo-i-b/2028-09-14/
CATEGORIES:Socios
END:VEVENT
BEGIN:VEVENT
DTSTART;TZID=America/Puerto_Rico:20280914T080000
DTEND;TZID=America/Puerto_Rico:20280914T163000
DTSTAMP:20260421T142953
CREATED:20251031T173045Z
LAST-MODIFIED:20251204T204704Z
UID:10002577-1852531200-1852561800@conexionlaboralsurestepr.org
SUMMARY:Visita Socio | Departamento del Trabajo y Recursos Humanos (DTRH)
DESCRIPTION:Programa Veteranos (Capítulo 41 Título 38 del Código de EU)\nServicio de Empleo\, Programa Agrícola y Programa RESEA\nPrograma Seguro por Desempleo
URL:https://conexionlaboralsurestepr.org/event/vista-socio-departamento-del-trabajo-y-recursos-humanos-dtrh/2028-09-14/
CATEGORIES:Socios
END:VEVENT
BEGIN:VEVENT
DTSTART;TZID=America/Puerto_Rico:20280914T080000
DTEND;TZID=America/Puerto_Rico:20280914T163000
DTSTAMP:20260421T142953
CREATED:20251103T184914Z
LAST-MODIFIED:20251204T204647Z
UID:10003685-1852531200-1852561800@conexionlaboralsurestepr.org
SUMMARY:Visita Socio | Título II - Departamento de Educación
DESCRIPTION:Programa de Educación y Literacia de Adultos
URL:https://conexionlaboralsurestepr.org/event/vista-socio-titulo-ii-departamento-de-educacion/2028-09-14/
CATEGORIES:Socios
END:VEVENT
BEGIN:VEVENT
DTSTART;TZID=America/Puerto_Rico:20280914T080000
DTEND;TZID=America/Puerto_Rico:20280914T163000
DTSTAMP:20260421T142953
CREATED:20251103T185220Z
LAST-MODIFIED:20251204T204656Z
UID:10005018-1852531200-1852561800@conexionlaboralsurestepr.org
SUMMARY:Visita Socio | One Stop Careers Center of PR
DESCRIPTION:Programa de Reintegración de Ex-Ofensores bajo Second Change Act
URL:https://conexionlaboralsurestepr.org/event/vista-socio-one-stop-careers-center-of-pr/2028-09-14/
CATEGORIES:Socios
END:VEVENT
BEGIN:VEVENT
DTSTART;TZID=America/Puerto_Rico:20280915T080000
DTEND;TZID=America/Puerto_Rico:20280915T163000
DTSTAMP:20260421T142953
CREATED:20251031T153427Z
LAST-MODIFIED:20251031T173748Z
UID:10001537-1852617600-1852648200@conexionlaboralsurestepr.org
SUMMARY:Visita Socio | Título I - B
DESCRIPTION:Programa Jóvenes\, Adultos y Desplazados
URL:https://conexionlaboralsurestepr.org/event/visita-socios-titulo-i-b/2028-09-15/
CATEGORIES:Socios
END:VEVENT
BEGIN:VEVENT
DTSTART;TZID=America/Puerto_Rico:20280915T080000
DTEND;TZID=America/Puerto_Rico:20280915T163000
DTSTAMP:20260421T142953
CREATED:20251031T173045Z
LAST-MODIFIED:20251204T204704Z
UID:10002578-1852617600-1852648200@conexionlaboralsurestepr.org
SUMMARY:Visita Socio | Departamento del Trabajo y Recursos Humanos (DTRH)
DESCRIPTION:Programa Veteranos (Capítulo 41 Título 38 del Código de EU)\nServicio de Empleo\, Programa Agrícola y Programa RESEA\nPrograma Seguro por Desempleo
URL:https://conexionlaboralsurestepr.org/event/vista-socio-departamento-del-trabajo-y-recursos-humanos-dtrh/2028-09-15/
CATEGORIES:Socios
END:VEVENT
BEGIN:VEVENT
DTSTART;TZID=America/Puerto_Rico:20280915T080000
DTEND;TZID=America/Puerto_Rico:20280915T163000
DTSTAMP:20260421T142953
CREATED:20251103T185220Z
LAST-MODIFIED:20251204T204656Z
UID:10005019-1852617600-1852648200@conexionlaboralsurestepr.org
SUMMARY:Visita Socio | One Stop Careers Center of PR
DESCRIPTION:Programa de Reintegración de Ex-Ofensores bajo Second Change Act
URL:https://conexionlaboralsurestepr.org/event/vista-socio-one-stop-careers-center-of-pr/2028-09-15/
CATEGORIES:Socios
END:VEVENT
BEGIN:VEVENT
DTSTART;TZID=America/Puerto_Rico:20280917T080000
DTEND;TZID=America/Puerto_Rico:20280917T163000
DTSTAMP:20260421T142953
CREATED:20251103T185220Z
LAST-MODIFIED:20251204T204656Z
UID:10005020-1852790400-1852821000@conexionlaboralsurestepr.org
SUMMARY:Visita Socio | One Stop Careers Center of PR
DESCRIPTION:Programa de Reintegración de Ex-Ofensores bajo Second Change Act
URL:https://conexionlaboralsurestepr.org/event/vista-socio-one-stop-careers-center-of-pr/2028-09-17/
CATEGORIES:Socios
END:VEVENT
END:VCALENDAR