BEGIN:VCALENDAR
VERSION:2.0
PRODID:-//Conexión Laboral Sureste - ECPv6.15.20//NONSGML v1.0//EN
CALSCALE:GREGORIAN
METHOD:PUBLISH
X-WR-CALNAME:Conexión Laboral Sureste
X-ORIGINAL-URL:https://conexionlaboralsurestepr.org
X-WR-CALDESC:Events for Conexión Laboral Sureste
REFRESH-INTERVAL;VALUE=DURATION:PT1H
X-Robots-Tag:noindex
X-PUBLISHED-TTL:PT1H
BEGIN:VTIMEZONE
TZID:America/Puerto_Rico
BEGIN:STANDARD
TZOFFSETFROM:-0400
TZOFFSETTO:-0400
TZNAME:AST
DTSTART:20270101T000000
END:STANDARD
END:VTIMEZONE
BEGIN:VEVENT
DTSTART;TZID=America/Puerto_Rico:20281023T080000
DTEND;TZID=America/Puerto_Rico:20281023T163000
DTSTAMP:20260421T142636
CREATED:20251031T153427Z
LAST-MODIFIED:20251031T173748Z
UID:10000778-1855900800-1855931400@conexionlaboralsurestepr.org
SUMMARY:Visita Socio | Título I - B
DESCRIPTION:Programa Jóvenes\, Adultos y Desplazados
URL:https://conexionlaboralsurestepr.org/event/visita-socios-titulo-i-b/2028-10-23/
CATEGORIES:Socios
END:VEVENT
BEGIN:VEVENT
DTSTART;TZID=America/Puerto_Rico:20281023T080000
DTEND;TZID=America/Puerto_Rico:20281023T163000
DTSTAMP:20260421T142636
CREATED:20251031T173045Z
LAST-MODIFIED:20251204T204704Z
UID:10002604-1855900800-1855931400@conexionlaboralsurestepr.org
SUMMARY:Visita Socio | Departamento del Trabajo y Recursos Humanos (DTRH)
DESCRIPTION:Programa Veteranos (Capítulo 41 Título 38 del Código de EU)\nServicio de Empleo\, Programa Agrícola y Programa RESEA\nPrograma Seguro por Desempleo
URL:https://conexionlaboralsurestepr.org/event/vista-socio-departamento-del-trabajo-y-recursos-humanos-dtrh/2028-10-23/
CATEGORIES:Socios
END:VEVENT
BEGIN:VEVENT
DTSTART;TZID=America/Puerto_Rico:20281023T080000
DTEND;TZID=America/Puerto_Rico:20281023T163000
DTSTAMP:20260421T142636
CREATED:20251103T185220Z
LAST-MODIFIED:20251204T204656Z
UID:10005051-1855900800-1855931400@conexionlaboralsurestepr.org
SUMMARY:Visita Socio | One Stop Careers Center of PR
DESCRIPTION:Programa de Reintegración de Ex-Ofensores bajo Second Change Act
URL:https://conexionlaboralsurestepr.org/event/vista-socio-one-stop-careers-center-of-pr/2028-10-23/
CATEGORIES:Socios
END:VEVENT
BEGIN:VEVENT
DTSTART;TZID=America/Puerto_Rico:20281024T080000
DTEND;TZID=America/Puerto_Rico:20281024T163000
DTSTAMP:20260421T142636
CREATED:20251031T153427Z
LAST-MODIFIED:20251031T173748Z
UID:10000779-1855987200-1856017800@conexionlaboralsurestepr.org
SUMMARY:Visita Socio | Título I - B
DESCRIPTION:Programa Jóvenes\, Adultos y Desplazados
URL:https://conexionlaboralsurestepr.org/event/visita-socios-titulo-i-b/2028-10-24/
CATEGORIES:Socios
END:VEVENT
BEGIN:VEVENT
DTSTART;TZID=America/Puerto_Rico:20281024T080000
DTEND;TZID=America/Puerto_Rico:20281024T163000
DTSTAMP:20260421T142636
CREATED:20251031T173045Z
LAST-MODIFIED:20251204T204704Z
UID:10002605-1855987200-1856017800@conexionlaboralsurestepr.org
SUMMARY:Visita Socio | Departamento del Trabajo y Recursos Humanos (DTRH)
DESCRIPTION:Programa Veteranos (Capítulo 41 Título 38 del Código de EU)\nServicio de Empleo\, Programa Agrícola y Programa RESEA\nPrograma Seguro por Desempleo
URL:https://conexionlaboralsurestepr.org/event/vista-socio-departamento-del-trabajo-y-recursos-humanos-dtrh/2028-10-24/
CATEGORIES:Socios
END:VEVENT
BEGIN:VEVENT
DTSTART;TZID=America/Puerto_Rico:20281024T080000
DTEND;TZID=America/Puerto_Rico:20281024T163000
DTSTAMP:20260421T142636
CREATED:20251103T185220Z
LAST-MODIFIED:20251204T204656Z
UID:10005052-1855987200-1856017800@conexionlaboralsurestepr.org
SUMMARY:Visita Socio | One Stop Careers Center of PR
DESCRIPTION:Programa de Reintegración de Ex-Ofensores bajo Second Change Act
URL:https://conexionlaboralsurestepr.org/event/vista-socio-one-stop-careers-center-of-pr/2028-10-24/
CATEGORIES:Socios
END:VEVENT
BEGIN:VEVENT
DTSTART;TZID=America/Puerto_Rico:20281025T080000
DTEND;TZID=America/Puerto_Rico:20281025T120000
DTSTAMP:20260421T142636
CREATED:20251103T185047Z
LAST-MODIFIED:20251204T204622Z
UID:10003961-1856073600-1856088000@conexionlaboralsurestepr.org
SUMMARY:Visita Socio | Título IV - "Social Security Act" Departamento de la Familia
DESCRIPTION:Programa TANF (Temporary Assistance for Needy Families)
URL:https://conexionlaboralsurestepr.org/event/vista-socio-titulo-iv-social-security-act-departamento-de-la-familia/2028-10-25/
CATEGORIES:Socios
END:VEVENT
BEGIN:VEVENT
DTSTART;TZID=America/Puerto_Rico:20281025T080000
DTEND;TZID=America/Puerto_Rico:20281025T163000
DTSTAMP:20260421T142636
CREATED:20251031T153427Z
LAST-MODIFIED:20251031T173748Z
UID:10000780-1856073600-1856104200@conexionlaboralsurestepr.org
SUMMARY:Visita Socio | Título I - B
DESCRIPTION:Programa Jóvenes\, Adultos y Desplazados
URL:https://conexionlaboralsurestepr.org/event/visita-socios-titulo-i-b/2028-10-25/
CATEGORIES:Socios
END:VEVENT
BEGIN:VEVENT
DTSTART;TZID=America/Puerto_Rico:20281025T080000
DTEND;TZID=America/Puerto_Rico:20281025T163000
DTSTAMP:20260421T142636
CREATED:20251031T173045Z
LAST-MODIFIED:20251204T204704Z
UID:10002606-1856073600-1856104200@conexionlaboralsurestepr.org
SUMMARY:Visita Socio | Departamento del Trabajo y Recursos Humanos (DTRH)
DESCRIPTION:Programa Veteranos (Capítulo 41 Título 38 del Código de EU)\nServicio de Empleo\, Programa Agrícola y Programa RESEA\nPrograma Seguro por Desempleo
URL:https://conexionlaboralsurestepr.org/event/vista-socio-departamento-del-trabajo-y-recursos-humanos-dtrh/2028-10-25/
CATEGORIES:Socios
END:VEVENT
BEGIN:VEVENT
DTSTART;TZID=America/Puerto_Rico:20281025T080000
DTEND;TZID=America/Puerto_Rico:20281025T163000
DTSTAMP:20260421T142636
CREATED:20251103T185220Z
LAST-MODIFIED:20251204T204656Z
UID:10005053-1856073600-1856104200@conexionlaboralsurestepr.org
SUMMARY:Visita Socio | One Stop Careers Center of PR
DESCRIPTION:Programa de Reintegración de Ex-Ofensores bajo Second Change Act
URL:https://conexionlaboralsurestepr.org/event/vista-socio-one-stop-careers-center-of-pr/2028-10-25/
CATEGORIES:Socios
END:VEVENT
BEGIN:VEVENT
DTSTART;TZID=America/Puerto_Rico:20281026T080000
DTEND;TZID=America/Puerto_Rico:20281026T163000
DTSTAMP:20260421T142636
CREATED:20251031T153427Z
LAST-MODIFIED:20251031T173748Z
UID:10000781-1856160000-1856190600@conexionlaboralsurestepr.org
SUMMARY:Visita Socio | Título I - B
DESCRIPTION:Programa Jóvenes\, Adultos y Desplazados
URL:https://conexionlaboralsurestepr.org/event/visita-socios-titulo-i-b/2028-10-26/
CATEGORIES:Socios
END:VEVENT
BEGIN:VEVENT
DTSTART;TZID=America/Puerto_Rico:20281026T080000
DTEND;TZID=America/Puerto_Rico:20281026T163000
DTSTAMP:20260421T142636
CREATED:20251031T173045Z
LAST-MODIFIED:20251204T204704Z
UID:10002607-1856160000-1856190600@conexionlaboralsurestepr.org
SUMMARY:Visita Socio | Departamento del Trabajo y Recursos Humanos (DTRH)
DESCRIPTION:Programa Veteranos (Capítulo 41 Título 38 del Código de EU)\nServicio de Empleo\, Programa Agrícola y Programa RESEA\nPrograma Seguro por Desempleo
URL:https://conexionlaboralsurestepr.org/event/vista-socio-departamento-del-trabajo-y-recursos-humanos-dtrh/2028-10-26/
CATEGORIES:Socios
END:VEVENT
BEGIN:VEVENT
DTSTART;TZID=America/Puerto_Rico:20281026T080000
DTEND;TZID=America/Puerto_Rico:20281026T163000
DTSTAMP:20260421T142636
CREATED:20251103T184914Z
LAST-MODIFIED:20251204T204647Z
UID:10003691-1856160000-1856190600@conexionlaboralsurestepr.org
SUMMARY:Visita Socio | Título II - Departamento de Educación
DESCRIPTION:Programa de Educación y Literacia de Adultos
URL:https://conexionlaboralsurestepr.org/event/vista-socio-titulo-ii-departamento-de-educacion/2028-10-26/
CATEGORIES:Socios
END:VEVENT
BEGIN:VEVENT
DTSTART;TZID=America/Puerto_Rico:20281026T080000
DTEND;TZID=America/Puerto_Rico:20281026T163000
DTSTAMP:20260421T142636
CREATED:20251103T185220Z
LAST-MODIFIED:20251204T204656Z
UID:10005054-1856160000-1856190600@conexionlaboralsurestepr.org
SUMMARY:Visita Socio | One Stop Careers Center of PR
DESCRIPTION:Programa de Reintegración de Ex-Ofensores bajo Second Change Act
URL:https://conexionlaboralsurestepr.org/event/vista-socio-one-stop-careers-center-of-pr/2028-10-26/
CATEGORIES:Socios
END:VEVENT
BEGIN:VEVENT
DTSTART;TZID=America/Puerto_Rico:20281027T080000
DTEND;TZID=America/Puerto_Rico:20281027T163000
DTSTAMP:20260421T142636
CREATED:20251031T153427Z
LAST-MODIFIED:20251031T173748Z
UID:10001543-1856246400-1856277000@conexionlaboralsurestepr.org
SUMMARY:Visita Socio | Título I - B
DESCRIPTION:Programa Jóvenes\, Adultos y Desplazados
URL:https://conexionlaboralsurestepr.org/event/visita-socios-titulo-i-b/2028-10-27/
CATEGORIES:Socios
END:VEVENT
BEGIN:VEVENT
DTSTART;TZID=America/Puerto_Rico:20281027T080000
DTEND;TZID=America/Puerto_Rico:20281027T163000
DTSTAMP:20260421T142636
CREATED:20251031T173045Z
LAST-MODIFIED:20251204T204704Z
UID:10002608-1856246400-1856277000@conexionlaboralsurestepr.org
SUMMARY:Visita Socio | Departamento del Trabajo y Recursos Humanos (DTRH)
DESCRIPTION:Programa Veteranos (Capítulo 41 Título 38 del Código de EU)\nServicio de Empleo\, Programa Agrícola y Programa RESEA\nPrograma Seguro por Desempleo
URL:https://conexionlaboralsurestepr.org/event/vista-socio-departamento-del-trabajo-y-recursos-humanos-dtrh/2028-10-27/
CATEGORIES:Socios
END:VEVENT
BEGIN:VEVENT
DTSTART;TZID=America/Puerto_Rico:20281027T080000
DTEND;TZID=America/Puerto_Rico:20281027T163000
DTSTAMP:20260421T142636
CREATED:20251103T185220Z
LAST-MODIFIED:20251204T204656Z
UID:10005055-1856246400-1856277000@conexionlaboralsurestepr.org
SUMMARY:Visita Socio | One Stop Careers Center of PR
DESCRIPTION:Programa de Reintegración de Ex-Ofensores bajo Second Change Act
URL:https://conexionlaboralsurestepr.org/event/vista-socio-one-stop-careers-center-of-pr/2028-10-27/
CATEGORIES:Socios
END:VEVENT
BEGIN:VEVENT
DTSTART;TZID=America/Puerto_Rico:20281029T080000
DTEND;TZID=America/Puerto_Rico:20281029T163000
DTSTAMP:20260421T142636
CREATED:20251103T185220Z
LAST-MODIFIED:20251204T204656Z
UID:10005056-1856419200-1856449800@conexionlaboralsurestepr.org
SUMMARY:Visita Socio | One Stop Careers Center of PR
DESCRIPTION:Programa de Reintegración de Ex-Ofensores bajo Second Change Act
URL:https://conexionlaboralsurestepr.org/event/vista-socio-one-stop-careers-center-of-pr/2028-10-29/
CATEGORIES:Socios
END:VEVENT
END:VCALENDAR