BEGIN:VCALENDAR
VERSION:2.0
PRODID:-//Conexión Laboral Sureste - ECPv6.15.20//NONSGML v1.0//EN
CALSCALE:GREGORIAN
METHOD:PUBLISH
X-ORIGINAL-URL:https://conexionlaboralsurestepr.org
X-WR-CALDESC:Events for Conexión Laboral Sureste
REFRESH-INTERVAL;VALUE=DURATION:PT1H
X-Robots-Tag:noindex
X-PUBLISHED-TTL:PT1H
BEGIN:VTIMEZONE
TZID:America/Puerto_Rico
BEGIN:STANDARD
TZOFFSETFROM:-0400
TZOFFSETTO:-0400
TZNAME:AST
DTSTART:20270101T000000
END:STANDARD
END:VTIMEZONE
BEGIN:VEVENT
DTSTART;TZID=America/Puerto_Rico:20281211T080000
DTEND;TZID=America/Puerto_Rico:20281211T163000
DTSTAMP:20260421T203406
CREATED:20251031T153427Z
LAST-MODIFIED:20251031T173748Z
UID:10000813-1860134400-1860165000@conexionlaboralsurestepr.org
SUMMARY:Visita Socio | Título I - B
DESCRIPTION:Programa Jóvenes\, Adultos y Desplazados
URL:https://conexionlaboralsurestepr.org/event/visita-socios-titulo-i-b/2028-12-11/
CATEGORIES:Socios
END:VEVENT
BEGIN:VEVENT
DTSTART;TZID=America/Puerto_Rico:20281211T080000
DTEND;TZID=America/Puerto_Rico:20281211T163000
DTSTAMP:20260421T203406
CREATED:20251031T173045Z
LAST-MODIFIED:20251204T204704Z
UID:10002639-1860134400-1860165000@conexionlaboralsurestepr.org
SUMMARY:Visita Socio | Departamento del Trabajo y Recursos Humanos (DTRH)
DESCRIPTION:Programa Veteranos (Capítulo 41 Título 38 del Código de EU)\nServicio de Empleo\, Programa Agrícola y Programa RESEA\nPrograma Seguro por Desempleo
URL:https://conexionlaboralsurestepr.org/event/vista-socio-departamento-del-trabajo-y-recursos-humanos-dtrh/2028-12-11/
CATEGORIES:Socios
END:VEVENT
BEGIN:VEVENT
DTSTART;TZID=America/Puerto_Rico:20281211T080000
DTEND;TZID=America/Puerto_Rico:20281211T163000
DTSTAMP:20260421T203407
CREATED:20251103T185220Z
LAST-MODIFIED:20251204T204656Z
UID:10005093-1860134400-1860165000@conexionlaboralsurestepr.org
SUMMARY:Visita Socio | One Stop Careers Center of PR
DESCRIPTION:Programa de Reintegración de Ex-Ofensores bajo Second Change Act
URL:https://conexionlaboralsurestepr.org/event/vista-socio-one-stop-careers-center-of-pr/2028-12-11/
CATEGORIES:Socios
END:VEVENT
BEGIN:VEVENT
DTSTART;TZID=America/Puerto_Rico:20281212T080000
DTEND;TZID=America/Puerto_Rico:20281212T163000
DTSTAMP:20260421T203407
CREATED:20251031T153427Z
LAST-MODIFIED:20251031T173748Z
UID:10000814-1860220800-1860251400@conexionlaboralsurestepr.org
SUMMARY:Visita Socio | Título I - B
DESCRIPTION:Programa Jóvenes\, Adultos y Desplazados
URL:https://conexionlaboralsurestepr.org/event/visita-socios-titulo-i-b/2028-12-12/
CATEGORIES:Socios
END:VEVENT
BEGIN:VEVENT
DTSTART;TZID=America/Puerto_Rico:20281212T080000
DTEND;TZID=America/Puerto_Rico:20281212T163000
DTSTAMP:20260421T203407
CREATED:20251031T173045Z
LAST-MODIFIED:20251204T204704Z
UID:10002640-1860220800-1860251400@conexionlaboralsurestepr.org
SUMMARY:Visita Socio | Departamento del Trabajo y Recursos Humanos (DTRH)
DESCRIPTION:Programa Veteranos (Capítulo 41 Título 38 del Código de EU)\nServicio de Empleo\, Programa Agrícola y Programa RESEA\nPrograma Seguro por Desempleo
URL:https://conexionlaboralsurestepr.org/event/vista-socio-departamento-del-trabajo-y-recursos-humanos-dtrh/2028-12-12/
CATEGORIES:Socios
END:VEVENT
BEGIN:VEVENT
DTSTART;TZID=America/Puerto_Rico:20281212T080000
DTEND;TZID=America/Puerto_Rico:20281212T163000
DTSTAMP:20260421T203407
CREATED:20251103T185220Z
LAST-MODIFIED:20251204T204656Z
UID:10005094-1860220800-1860251400@conexionlaboralsurestepr.org
SUMMARY:Visita Socio | One Stop Careers Center of PR
DESCRIPTION:Programa de Reintegración de Ex-Ofensores bajo Second Change Act
URL:https://conexionlaboralsurestepr.org/event/vista-socio-one-stop-careers-center-of-pr/2028-12-12/
CATEGORIES:Socios
END:VEVENT
BEGIN:VEVENT
DTSTART;TZID=America/Puerto_Rico:20281213T080000
DTEND;TZID=America/Puerto_Rico:20281213T120000
DTSTAMP:20260421T203407
CREATED:20251103T185047Z
LAST-MODIFIED:20251204T204622Z
UID:10003968-1860307200-1860321600@conexionlaboralsurestepr.org
SUMMARY:Visita Socio | Título IV - "Social Security Act" Departamento de la Familia
DESCRIPTION:Programa TANF (Temporary Assistance for Needy Families)
URL:https://conexionlaboralsurestepr.org/event/vista-socio-titulo-iv-social-security-act-departamento-de-la-familia/2028-12-13/
CATEGORIES:Socios
END:VEVENT
BEGIN:VEVENT
DTSTART;TZID=America/Puerto_Rico:20281213T080000
DTEND;TZID=America/Puerto_Rico:20281213T163000
DTSTAMP:20260421T203407
CREATED:20251031T153427Z
LAST-MODIFIED:20251031T173748Z
UID:10000815-1860307200-1860337800@conexionlaboralsurestepr.org
SUMMARY:Visita Socio | Título I - B
DESCRIPTION:Programa Jóvenes\, Adultos y Desplazados
URL:https://conexionlaboralsurestepr.org/event/visita-socios-titulo-i-b/2028-12-13/
CATEGORIES:Socios
END:VEVENT
BEGIN:VEVENT
DTSTART;TZID=America/Puerto_Rico:20281213T080000
DTEND;TZID=America/Puerto_Rico:20281213T163000
DTSTAMP:20260421T203407
CREATED:20251031T173045Z
LAST-MODIFIED:20251204T204704Z
UID:10002641-1860307200-1860337800@conexionlaboralsurestepr.org
SUMMARY:Visita Socio | Departamento del Trabajo y Recursos Humanos (DTRH)
DESCRIPTION:Programa Veteranos (Capítulo 41 Título 38 del Código de EU)\nServicio de Empleo\, Programa Agrícola y Programa RESEA\nPrograma Seguro por Desempleo
URL:https://conexionlaboralsurestepr.org/event/vista-socio-departamento-del-trabajo-y-recursos-humanos-dtrh/2028-12-13/
CATEGORIES:Socios
END:VEVENT
BEGIN:VEVENT
DTSTART;TZID=America/Puerto_Rico:20281213T080000
DTEND;TZID=America/Puerto_Rico:20281213T163000
DTSTAMP:20260421T203407
CREATED:20251103T185220Z
LAST-MODIFIED:20251204T204656Z
UID:10005095-1860307200-1860337800@conexionlaboralsurestepr.org
SUMMARY:Visita Socio | One Stop Careers Center of PR
DESCRIPTION:Programa de Reintegración de Ex-Ofensores bajo Second Change Act
URL:https://conexionlaboralsurestepr.org/event/vista-socio-one-stop-careers-center-of-pr/2028-12-13/
CATEGORIES:Socios
END:VEVENT
BEGIN:VEVENT
DTSTART;TZID=America/Puerto_Rico:20281214T080000
DTEND;TZID=America/Puerto_Rico:20281214T163000
DTSTAMP:20260421T203407
CREATED:20251031T153427Z
LAST-MODIFIED:20251031T173748Z
UID:10000816-1860393600-1860424200@conexionlaboralsurestepr.org
SUMMARY:Visita Socio | Título I - B
DESCRIPTION:Programa Jóvenes\, Adultos y Desplazados
URL:https://conexionlaboralsurestepr.org/event/visita-socios-titulo-i-b/2028-12-14/
CATEGORIES:Socios
END:VEVENT
BEGIN:VEVENT
DTSTART;TZID=America/Puerto_Rico:20281214T080000
DTEND;TZID=America/Puerto_Rico:20281214T163000
DTSTAMP:20260421T203407
CREATED:20251031T173045Z
LAST-MODIFIED:20251204T204704Z
UID:10002642-1860393600-1860424200@conexionlaboralsurestepr.org
SUMMARY:Visita Socio | Departamento del Trabajo y Recursos Humanos (DTRH)
DESCRIPTION:Programa Veteranos (Capítulo 41 Título 38 del Código de EU)\nServicio de Empleo\, Programa Agrícola y Programa RESEA\nPrograma Seguro por Desempleo
URL:https://conexionlaboralsurestepr.org/event/vista-socio-departamento-del-trabajo-y-recursos-humanos-dtrh/2028-12-14/
CATEGORIES:Socios
END:VEVENT
BEGIN:VEVENT
DTSTART;TZID=America/Puerto_Rico:20281214T080000
DTEND;TZID=America/Puerto_Rico:20281214T163000
DTSTAMP:20260421T203407
CREATED:20251103T184914Z
LAST-MODIFIED:20251204T204647Z
UID:10003698-1860393600-1860424200@conexionlaboralsurestepr.org
SUMMARY:Visita Socio | Título II - Departamento de Educación
DESCRIPTION:Programa de Educación y Literacia de Adultos
URL:https://conexionlaboralsurestepr.org/event/vista-socio-titulo-ii-departamento-de-educacion/2028-12-14/
CATEGORIES:Socios
END:VEVENT
BEGIN:VEVENT
DTSTART;TZID=America/Puerto_Rico:20281214T080000
DTEND;TZID=America/Puerto_Rico:20281214T163000
DTSTAMP:20260421T203407
CREATED:20251103T185220Z
LAST-MODIFIED:20251204T204656Z
UID:10005096-1860393600-1860424200@conexionlaboralsurestepr.org
SUMMARY:Visita Socio | One Stop Careers Center of PR
DESCRIPTION:Programa de Reintegración de Ex-Ofensores bajo Second Change Act
URL:https://conexionlaboralsurestepr.org/event/vista-socio-one-stop-careers-center-of-pr/2028-12-14/
CATEGORIES:Socios
END:VEVENT
BEGIN:VEVENT
DTSTART;TZID=America/Puerto_Rico:20281215T080000
DTEND;TZID=America/Puerto_Rico:20281215T163000
DTSTAMP:20260421T203407
CREATED:20251031T153427Z
LAST-MODIFIED:20251031T173748Z
UID:10001550-1860480000-1860510600@conexionlaboralsurestepr.org
SUMMARY:Visita Socio | Título I - B
DESCRIPTION:Programa Jóvenes\, Adultos y Desplazados
URL:https://conexionlaboralsurestepr.org/event/visita-socios-titulo-i-b/2028-12-15/
CATEGORIES:Socios
END:VEVENT
BEGIN:VEVENT
DTSTART;TZID=America/Puerto_Rico:20281215T080000
DTEND;TZID=America/Puerto_Rico:20281215T163000
DTSTAMP:20260421T203407
CREATED:20251031T173045Z
LAST-MODIFIED:20251204T204704Z
UID:10002643-1860480000-1860510600@conexionlaboralsurestepr.org
SUMMARY:Visita Socio | Departamento del Trabajo y Recursos Humanos (DTRH)
DESCRIPTION:Programa Veteranos (Capítulo 41 Título 38 del Código de EU)\nServicio de Empleo\, Programa Agrícola y Programa RESEA\nPrograma Seguro por Desempleo
URL:https://conexionlaboralsurestepr.org/event/vista-socio-departamento-del-trabajo-y-recursos-humanos-dtrh/2028-12-15/
CATEGORIES:Socios
END:VEVENT
BEGIN:VEVENT
DTSTART;TZID=America/Puerto_Rico:20281215T080000
DTEND;TZID=America/Puerto_Rico:20281215T163000
DTSTAMP:20260421T203407
CREATED:20251103T185220Z
LAST-MODIFIED:20251204T204656Z
UID:10005097-1860480000-1860510600@conexionlaboralsurestepr.org
SUMMARY:Visita Socio | One Stop Careers Center of PR
DESCRIPTION:Programa de Reintegración de Ex-Ofensores bajo Second Change Act
URL:https://conexionlaboralsurestepr.org/event/vista-socio-one-stop-careers-center-of-pr/2028-12-15/
CATEGORIES:Socios
END:VEVENT
BEGIN:VEVENT
DTSTART;TZID=America/Puerto_Rico:20281217T080000
DTEND;TZID=America/Puerto_Rico:20281217T163000
DTSTAMP:20260421T203407
CREATED:20251103T185220Z
LAST-MODIFIED:20251204T204656Z
UID:10005098-1860652800-1860683400@conexionlaboralsurestepr.org
SUMMARY:Visita Socio | One Stop Careers Center of PR
DESCRIPTION:Programa de Reintegración de Ex-Ofensores bajo Second Change Act
URL:https://conexionlaboralsurestepr.org/event/vista-socio-one-stop-careers-center-of-pr/2028-12-17/
CATEGORIES:Socios
END:VEVENT
END:VCALENDAR