BEGIN:VCALENDAR
VERSION:2.0
PRODID:-//Conexión Laboral Sureste - ECPv6.15.20//NONSGML v1.0//EN
CALSCALE:GREGORIAN
METHOD:PUBLISH
X-WR-CALNAME:Conexión Laboral Sureste
X-ORIGINAL-URL:https://conexionlaboralsurestepr.org
X-WR-CALDESC:Events for Conexión Laboral Sureste
REFRESH-INTERVAL;VALUE=DURATION:PT1H
X-Robots-Tag:noindex
X-PUBLISHED-TTL:PT1H
BEGIN:VTIMEZONE
TZID:America/Puerto_Rico
BEGIN:STANDARD
TZOFFSETFROM:-0400
TZOFFSETTO:-0400
TZNAME:AST
DTSTART:20270101T000000
END:STANDARD
END:VTIMEZONE
BEGIN:VEVENT
DTSTART;TZID=America/Puerto_Rico:20281225T080000
DTEND;TZID=America/Puerto_Rico:20281225T163000
DTSTAMP:20260421T203308
CREATED:20251031T153427Z
LAST-MODIFIED:20251031T173748Z
UID:10000823-1861344000-1861374600@conexionlaboralsurestepr.org
SUMMARY:Visita Socio | Título I - B
DESCRIPTION:Programa Jóvenes\, Adultos y Desplazados
URL:https://conexionlaboralsurestepr.org/event/visita-socios-titulo-i-b/2028-12-25/
CATEGORIES:Socios
END:VEVENT
BEGIN:VEVENT
DTSTART;TZID=America/Puerto_Rico:20281225T080000
DTEND;TZID=America/Puerto_Rico:20281225T163000
DTSTAMP:20260421T203308
CREATED:20251031T173045Z
LAST-MODIFIED:20251204T204704Z
UID:10002649-1861344000-1861374600@conexionlaboralsurestepr.org
SUMMARY:Visita Socio | Departamento del Trabajo y Recursos Humanos (DTRH)
DESCRIPTION:Programa Veteranos (Capítulo 41 Título 38 del Código de EU)\nServicio de Empleo\, Programa Agrícola y Programa RESEA\nPrograma Seguro por Desempleo
URL:https://conexionlaboralsurestepr.org/event/vista-socio-departamento-del-trabajo-y-recursos-humanos-dtrh/2028-12-25/
CATEGORIES:Socios
END:VEVENT
BEGIN:VEVENT
DTSTART;TZID=America/Puerto_Rico:20281225T080000
DTEND;TZID=America/Puerto_Rico:20281225T163000
DTSTAMP:20260421T203308
CREATED:20251103T185220Z
LAST-MODIFIED:20251204T204656Z
UID:10005105-1861344000-1861374600@conexionlaboralsurestepr.org
SUMMARY:Visita Socio | One Stop Careers Center of PR
DESCRIPTION:Programa de Reintegración de Ex-Ofensores bajo Second Change Act
URL:https://conexionlaboralsurestepr.org/event/vista-socio-one-stop-careers-center-of-pr/2028-12-25/
CATEGORIES:Socios
END:VEVENT
BEGIN:VEVENT
DTSTART;TZID=America/Puerto_Rico:20281226T080000
DTEND;TZID=America/Puerto_Rico:20281226T163000
DTSTAMP:20260421T203308
CREATED:20251031T153427Z
LAST-MODIFIED:20251031T173748Z
UID:10000824-1861430400-1861461000@conexionlaboralsurestepr.org
SUMMARY:Visita Socio | Título I - B
DESCRIPTION:Programa Jóvenes\, Adultos y Desplazados
URL:https://conexionlaboralsurestepr.org/event/visita-socios-titulo-i-b/2028-12-26/
CATEGORIES:Socios
END:VEVENT
BEGIN:VEVENT
DTSTART;TZID=America/Puerto_Rico:20281226T080000
DTEND;TZID=America/Puerto_Rico:20281226T163000
DTSTAMP:20260421T203308
CREATED:20251031T173045Z
LAST-MODIFIED:20251204T204704Z
UID:10002650-1861430400-1861461000@conexionlaboralsurestepr.org
SUMMARY:Visita Socio | Departamento del Trabajo y Recursos Humanos (DTRH)
DESCRIPTION:Programa Veteranos (Capítulo 41 Título 38 del Código de EU)\nServicio de Empleo\, Programa Agrícola y Programa RESEA\nPrograma Seguro por Desempleo
URL:https://conexionlaboralsurestepr.org/event/vista-socio-departamento-del-trabajo-y-recursos-humanos-dtrh/2028-12-26/
CATEGORIES:Socios
END:VEVENT
BEGIN:VEVENT
DTSTART;TZID=America/Puerto_Rico:20281226T080000
DTEND;TZID=America/Puerto_Rico:20281226T163000
DTSTAMP:20260421T203308
CREATED:20251103T185220Z
LAST-MODIFIED:20251204T204656Z
UID:10005106-1861430400-1861461000@conexionlaboralsurestepr.org
SUMMARY:Visita Socio | One Stop Careers Center of PR
DESCRIPTION:Programa de Reintegración de Ex-Ofensores bajo Second Change Act
URL:https://conexionlaboralsurestepr.org/event/vista-socio-one-stop-careers-center-of-pr/2028-12-26/
CATEGORIES:Socios
END:VEVENT
BEGIN:VEVENT
DTSTART;TZID=America/Puerto_Rico:20281227T080000
DTEND;TZID=America/Puerto_Rico:20281227T120000
DTSTAMP:20260421T203308
CREATED:20251103T185047Z
LAST-MODIFIED:20251204T204622Z
UID:10003970-1861516800-1861531200@conexionlaboralsurestepr.org
SUMMARY:Visita Socio | Título IV - "Social Security Act" Departamento de la Familia
DESCRIPTION:Programa TANF (Temporary Assistance for Needy Families)
URL:https://conexionlaboralsurestepr.org/event/vista-socio-titulo-iv-social-security-act-departamento-de-la-familia/2028-12-27/
CATEGORIES:Socios
END:VEVENT
BEGIN:VEVENT
DTSTART;TZID=America/Puerto_Rico:20281227T080000
DTEND;TZID=America/Puerto_Rico:20281227T163000
DTSTAMP:20260421T203308
CREATED:20251031T153427Z
LAST-MODIFIED:20251031T173748Z
UID:10000825-1861516800-1861547400@conexionlaboralsurestepr.org
SUMMARY:Visita Socio | Título I - B
DESCRIPTION:Programa Jóvenes\, Adultos y Desplazados
URL:https://conexionlaboralsurestepr.org/event/visita-socios-titulo-i-b/2028-12-27/
CATEGORIES:Socios
END:VEVENT
BEGIN:VEVENT
DTSTART;TZID=America/Puerto_Rico:20281227T080000
DTEND;TZID=America/Puerto_Rico:20281227T163000
DTSTAMP:20260421T203308
CREATED:20251031T173045Z
LAST-MODIFIED:20251204T204704Z
UID:10002651-1861516800-1861547400@conexionlaboralsurestepr.org
SUMMARY:Visita Socio | Departamento del Trabajo y Recursos Humanos (DTRH)
DESCRIPTION:Programa Veteranos (Capítulo 41 Título 38 del Código de EU)\nServicio de Empleo\, Programa Agrícola y Programa RESEA\nPrograma Seguro por Desempleo
URL:https://conexionlaboralsurestepr.org/event/vista-socio-departamento-del-trabajo-y-recursos-humanos-dtrh/2028-12-27/
CATEGORIES:Socios
END:VEVENT
BEGIN:VEVENT
DTSTART;TZID=America/Puerto_Rico:20281227T080000
DTEND;TZID=America/Puerto_Rico:20281227T163000
DTSTAMP:20260421T203308
CREATED:20251103T185220Z
LAST-MODIFIED:20251204T204656Z
UID:10005107-1861516800-1861547400@conexionlaboralsurestepr.org
SUMMARY:Visita Socio | One Stop Careers Center of PR
DESCRIPTION:Programa de Reintegración de Ex-Ofensores bajo Second Change Act
URL:https://conexionlaboralsurestepr.org/event/vista-socio-one-stop-careers-center-of-pr/2028-12-27/
CATEGORIES:Socios
END:VEVENT
BEGIN:VEVENT
DTSTART;TZID=America/Puerto_Rico:20281228T080000
DTEND;TZID=America/Puerto_Rico:20281228T163000
DTSTAMP:20260421T203308
CREATED:20251031T153427Z
LAST-MODIFIED:20251031T173748Z
UID:10000826-1861603200-1861633800@conexionlaboralsurestepr.org
SUMMARY:Visita Socio | Título I - B
DESCRIPTION:Programa Jóvenes\, Adultos y Desplazados
URL:https://conexionlaboralsurestepr.org/event/visita-socios-titulo-i-b/2028-12-28/
CATEGORIES:Socios
END:VEVENT
BEGIN:VEVENT
DTSTART;TZID=America/Puerto_Rico:20281228T080000
DTEND;TZID=America/Puerto_Rico:20281228T163000
DTSTAMP:20260421T203308
CREATED:20251031T173045Z
LAST-MODIFIED:20251204T204704Z
UID:10002652-1861603200-1861633800@conexionlaboralsurestepr.org
SUMMARY:Visita Socio | Departamento del Trabajo y Recursos Humanos (DTRH)
DESCRIPTION:Programa Veteranos (Capítulo 41 Título 38 del Código de EU)\nServicio de Empleo\, Programa Agrícola y Programa RESEA\nPrograma Seguro por Desempleo
URL:https://conexionlaboralsurestepr.org/event/vista-socio-departamento-del-trabajo-y-recursos-humanos-dtrh/2028-12-28/
CATEGORIES:Socios
END:VEVENT
BEGIN:VEVENT
DTSTART;TZID=America/Puerto_Rico:20281228T080000
DTEND;TZID=America/Puerto_Rico:20281228T163000
DTSTAMP:20260421T203308
CREATED:20251103T184914Z
LAST-MODIFIED:20251204T204647Z
UID:10003700-1861603200-1861633800@conexionlaboralsurestepr.org
SUMMARY:Visita Socio | Título II - Departamento de Educación
DESCRIPTION:Programa de Educación y Literacia de Adultos
URL:https://conexionlaboralsurestepr.org/event/vista-socio-titulo-ii-departamento-de-educacion/2028-12-28/
CATEGORIES:Socios
END:VEVENT
BEGIN:VEVENT
DTSTART;TZID=America/Puerto_Rico:20281228T080000
DTEND;TZID=America/Puerto_Rico:20281228T163000
DTSTAMP:20260421T203308
CREATED:20251103T185220Z
LAST-MODIFIED:20251204T204656Z
UID:10005108-1861603200-1861633800@conexionlaboralsurestepr.org
SUMMARY:Visita Socio | One Stop Careers Center of PR
DESCRIPTION:Programa de Reintegración de Ex-Ofensores bajo Second Change Act
URL:https://conexionlaboralsurestepr.org/event/vista-socio-one-stop-careers-center-of-pr/2028-12-28/
CATEGORIES:Socios
END:VEVENT
BEGIN:VEVENT
DTSTART;TZID=America/Puerto_Rico:20281229T080000
DTEND;TZID=America/Puerto_Rico:20281229T163000
DTSTAMP:20260421T203308
CREATED:20251031T153427Z
LAST-MODIFIED:20251031T173748Z
UID:10001552-1861689600-1861720200@conexionlaboralsurestepr.org
SUMMARY:Visita Socio | Título I - B
DESCRIPTION:Programa Jóvenes\, Adultos y Desplazados
URL:https://conexionlaboralsurestepr.org/event/visita-socios-titulo-i-b/2028-12-29/
CATEGORIES:Socios
END:VEVENT
BEGIN:VEVENT
DTSTART;TZID=America/Puerto_Rico:20281229T080000
DTEND;TZID=America/Puerto_Rico:20281229T163000
DTSTAMP:20260421T203308
CREATED:20251031T173045Z
LAST-MODIFIED:20251204T204704Z
UID:10002653-1861689600-1861720200@conexionlaboralsurestepr.org
SUMMARY:Visita Socio | Departamento del Trabajo y Recursos Humanos (DTRH)
DESCRIPTION:Programa Veteranos (Capítulo 41 Título 38 del Código de EU)\nServicio de Empleo\, Programa Agrícola y Programa RESEA\nPrograma Seguro por Desempleo
URL:https://conexionlaboralsurestepr.org/event/vista-socio-departamento-del-trabajo-y-recursos-humanos-dtrh/2028-12-29/
CATEGORIES:Socios
END:VEVENT
BEGIN:VEVENT
DTSTART;TZID=America/Puerto_Rico:20281229T080000
DTEND;TZID=America/Puerto_Rico:20281229T163000
DTSTAMP:20260421T203308
CREATED:20251103T185220Z
LAST-MODIFIED:20251204T204656Z
UID:10005109-1861689600-1861720200@conexionlaboralsurestepr.org
SUMMARY:Visita Socio | One Stop Careers Center of PR
DESCRIPTION:Programa de Reintegración de Ex-Ofensores bajo Second Change Act
URL:https://conexionlaboralsurestepr.org/event/vista-socio-one-stop-careers-center-of-pr/2028-12-29/
CATEGORIES:Socios
END:VEVENT
BEGIN:VEVENT
DTSTART;TZID=America/Puerto_Rico:20281231T080000
DTEND;TZID=America/Puerto_Rico:20281231T163000
DTSTAMP:20260421T203308
CREATED:20251103T185220Z
LAST-MODIFIED:20251204T204656Z
UID:10005110-1861862400-1861893000@conexionlaboralsurestepr.org
SUMMARY:Visita Socio | One Stop Careers Center of PR
DESCRIPTION:Programa de Reintegración de Ex-Ofensores bajo Second Change Act
URL:https://conexionlaboralsurestepr.org/event/vista-socio-one-stop-careers-center-of-pr/2028-12-31/
CATEGORIES:Socios
END:VEVENT
END:VCALENDAR