BEGIN:VCALENDAR
VERSION:2.0
PRODID:-//Conexión Laboral Sureste - ECPv6.15.20//NONSGML v1.0//EN
CALSCALE:GREGORIAN
METHOD:PUBLISH
X-WR-CALNAME:Conexión Laboral Sureste
X-ORIGINAL-URL:https://conexionlaboralsurestepr.org
X-WR-CALDESC:Events for Conexión Laboral Sureste
REFRESH-INTERVAL;VALUE=DURATION:PT1H
X-Robots-Tag:noindex
X-PUBLISHED-TTL:PT1H
BEGIN:VTIMEZONE
TZID:America/Puerto_Rico
BEGIN:STANDARD
TZOFFSETFROM:-0400
TZOFFSETTO:-0400
TZNAME:AST
DTSTART:20280101T000000
END:STANDARD
END:VTIMEZONE
BEGIN:VEVENT
DTSTART;TZID=America/Puerto_Rico:20290416T080000
DTEND;TZID=America/Puerto_Rico:20290416T163000
DTSTAMP:20260424T062041
CREATED:20251031T153427Z
LAST-MODIFIED:20251031T173748Z
UID:10000903-1871020800-1871051400@conexionlaboralsurestepr.org
SUMMARY:Visita Socio | Título I - B
DESCRIPTION:Programa Jóvenes\, Adultos y Desplazados
URL:https://conexionlaboralsurestepr.org/event/visita-socios-titulo-i-b/2029-04-16/
CATEGORIES:Socios
END:VEVENT
BEGIN:VEVENT
DTSTART;TZID=America/Puerto_Rico:20290416T080000
DTEND;TZID=America/Puerto_Rico:20290416T163000
DTSTAMP:20260424T062041
CREATED:20251031T173045Z
LAST-MODIFIED:20251204T204704Z
UID:10002729-1871020800-1871051400@conexionlaboralsurestepr.org
SUMMARY:Visita Socio | Departamento del Trabajo y Recursos Humanos (DTRH)
DESCRIPTION:Programa Veteranos (Capítulo 41 Título 38 del Código de EU)\nServicio de Empleo\, Programa Agrícola y Programa RESEA\nPrograma Seguro por Desempleo
URL:https://conexionlaboralsurestepr.org/event/vista-socio-departamento-del-trabajo-y-recursos-humanos-dtrh/2029-04-16/
CATEGORIES:Socios
END:VEVENT
BEGIN:VEVENT
DTSTART;TZID=America/Puerto_Rico:20290416T080000
DTEND;TZID=America/Puerto_Rico:20290416T163000
DTSTAMP:20260424T062041
CREATED:20251103T185220Z
LAST-MODIFIED:20251204T204656Z
UID:10005201-1871020800-1871051400@conexionlaboralsurestepr.org
SUMMARY:Visita Socio | One Stop Careers Center of PR
DESCRIPTION:Programa de Reintegración de Ex-Ofensores bajo Second Change Act
URL:https://conexionlaboralsurestepr.org/event/vista-socio-one-stop-careers-center-of-pr/2029-04-16/
CATEGORIES:Socios
END:VEVENT
BEGIN:VEVENT
DTSTART;TZID=America/Puerto_Rico:20290417T080000
DTEND;TZID=America/Puerto_Rico:20290417T163000
DTSTAMP:20260424T062041
CREATED:20251031T153427Z
LAST-MODIFIED:20251031T173748Z
UID:10000904-1871107200-1871137800@conexionlaboralsurestepr.org
SUMMARY:Visita Socio | Título I - B
DESCRIPTION:Programa Jóvenes\, Adultos y Desplazados
URL:https://conexionlaboralsurestepr.org/event/visita-socios-titulo-i-b/2029-04-17/
CATEGORIES:Socios
END:VEVENT
BEGIN:VEVENT
DTSTART;TZID=America/Puerto_Rico:20290417T080000
DTEND;TZID=America/Puerto_Rico:20290417T163000
DTSTAMP:20260424T062041
CREATED:20251031T173045Z
LAST-MODIFIED:20251204T204704Z
UID:10002730-1871107200-1871137800@conexionlaboralsurestepr.org
SUMMARY:Visita Socio | Departamento del Trabajo y Recursos Humanos (DTRH)
DESCRIPTION:Programa Veteranos (Capítulo 41 Título 38 del Código de EU)\nServicio de Empleo\, Programa Agrícola y Programa RESEA\nPrograma Seguro por Desempleo
URL:https://conexionlaboralsurestepr.org/event/vista-socio-departamento-del-trabajo-y-recursos-humanos-dtrh/2029-04-17/
CATEGORIES:Socios
END:VEVENT
BEGIN:VEVENT
DTSTART;TZID=America/Puerto_Rico:20290417T080000
DTEND;TZID=America/Puerto_Rico:20290417T163000
DTSTAMP:20260424T062041
CREATED:20251103T185220Z
LAST-MODIFIED:20251204T204656Z
UID:10005202-1871107200-1871137800@conexionlaboralsurestepr.org
SUMMARY:Visita Socio | One Stop Careers Center of PR
DESCRIPTION:Programa de Reintegración de Ex-Ofensores bajo Second Change Act
URL:https://conexionlaboralsurestepr.org/event/vista-socio-one-stop-careers-center-of-pr/2029-04-17/
CATEGORIES:Socios
END:VEVENT
BEGIN:VEVENT
DTSTART;TZID=America/Puerto_Rico:20290418T080000
DTEND;TZID=America/Puerto_Rico:20290418T120000
DTSTAMP:20260424T062041
CREATED:20251103T185047Z
LAST-MODIFIED:20251204T204622Z
UID:10003986-1871193600-1871208000@conexionlaboralsurestepr.org
SUMMARY:Visita Socio | Título IV - "Social Security Act" Departamento de la Familia
DESCRIPTION:Programa TANF (Temporary Assistance for Needy Families)
URL:https://conexionlaboralsurestepr.org/event/vista-socio-titulo-iv-social-security-act-departamento-de-la-familia/2029-04-18/
CATEGORIES:Socios
END:VEVENT
BEGIN:VEVENT
DTSTART;TZID=America/Puerto_Rico:20290418T080000
DTEND;TZID=America/Puerto_Rico:20290418T163000
DTSTAMP:20260424T062042
CREATED:20251031T153427Z
LAST-MODIFIED:20251031T173748Z
UID:10000905-1871193600-1871224200@conexionlaboralsurestepr.org
SUMMARY:Visita Socio | Título I - B
DESCRIPTION:Programa Jóvenes\, Adultos y Desplazados
URL:https://conexionlaboralsurestepr.org/event/visita-socios-titulo-i-b/2029-04-18/
CATEGORIES:Socios
END:VEVENT
BEGIN:VEVENT
DTSTART;TZID=America/Puerto_Rico:20290418T080000
DTEND;TZID=America/Puerto_Rico:20290418T163000
DTSTAMP:20260424T062042
CREATED:20251031T173045Z
LAST-MODIFIED:20251204T204704Z
UID:10002731-1871193600-1871224200@conexionlaboralsurestepr.org
SUMMARY:Visita Socio | Departamento del Trabajo y Recursos Humanos (DTRH)
DESCRIPTION:Programa Veteranos (Capítulo 41 Título 38 del Código de EU)\nServicio de Empleo\, Programa Agrícola y Programa RESEA\nPrograma Seguro por Desempleo
URL:https://conexionlaboralsurestepr.org/event/vista-socio-departamento-del-trabajo-y-recursos-humanos-dtrh/2029-04-18/
CATEGORIES:Socios
END:VEVENT
BEGIN:VEVENT
DTSTART;TZID=America/Puerto_Rico:20290418T080000
DTEND;TZID=America/Puerto_Rico:20290418T163000
DTSTAMP:20260424T062042
CREATED:20251103T185220Z
LAST-MODIFIED:20251204T204656Z
UID:10005203-1871193600-1871224200@conexionlaboralsurestepr.org
SUMMARY:Visita Socio | One Stop Careers Center of PR
DESCRIPTION:Programa de Reintegración de Ex-Ofensores bajo Second Change Act
URL:https://conexionlaboralsurestepr.org/event/vista-socio-one-stop-careers-center-of-pr/2029-04-18/
CATEGORIES:Socios
END:VEVENT
BEGIN:VEVENT
DTSTART;TZID=America/Puerto_Rico:20290419T080000
DTEND;TZID=America/Puerto_Rico:20290419T163000
DTSTAMP:20260424T062042
CREATED:20251031T153427Z
LAST-MODIFIED:20251031T173748Z
UID:10000906-1871280000-1871310600@conexionlaboralsurestepr.org
SUMMARY:Visita Socio | Título I - B
DESCRIPTION:Programa Jóvenes\, Adultos y Desplazados
URL:https://conexionlaboralsurestepr.org/event/visita-socios-titulo-i-b/2029-04-19/
CATEGORIES:Socios
END:VEVENT
BEGIN:VEVENT
DTSTART;TZID=America/Puerto_Rico:20290419T080000
DTEND;TZID=America/Puerto_Rico:20290419T163000
DTSTAMP:20260424T062042
CREATED:20251031T173045Z
LAST-MODIFIED:20251204T204704Z
UID:10002732-1871280000-1871310600@conexionlaboralsurestepr.org
SUMMARY:Visita Socio | Departamento del Trabajo y Recursos Humanos (DTRH)
DESCRIPTION:Programa Veteranos (Capítulo 41 Título 38 del Código de EU)\nServicio de Empleo\, Programa Agrícola y Programa RESEA\nPrograma Seguro por Desempleo
URL:https://conexionlaboralsurestepr.org/event/vista-socio-departamento-del-trabajo-y-recursos-humanos-dtrh/2029-04-19/
CATEGORIES:Socios
END:VEVENT
BEGIN:VEVENT
DTSTART;TZID=America/Puerto_Rico:20290419T080000
DTEND;TZID=America/Puerto_Rico:20290419T163000
DTSTAMP:20260424T062042
CREATED:20251103T184914Z
LAST-MODIFIED:20251204T204647Z
UID:10003716-1871280000-1871310600@conexionlaboralsurestepr.org
SUMMARY:Visita Socio | Título II - Departamento de Educación
DESCRIPTION:Programa de Educación y Literacia de Adultos
URL:https://conexionlaboralsurestepr.org/event/vista-socio-titulo-ii-departamento-de-educacion/2029-04-19/
CATEGORIES:Socios
END:VEVENT
BEGIN:VEVENT
DTSTART;TZID=America/Puerto_Rico:20290419T080000
DTEND;TZID=America/Puerto_Rico:20290419T163000
DTSTAMP:20260424T062042
CREATED:20251103T185220Z
LAST-MODIFIED:20251204T204656Z
UID:10005204-1871280000-1871310600@conexionlaboralsurestepr.org
SUMMARY:Visita Socio | One Stop Careers Center of PR
DESCRIPTION:Programa de Reintegración de Ex-Ofensores bajo Second Change Act
URL:https://conexionlaboralsurestepr.org/event/vista-socio-one-stop-careers-center-of-pr/2029-04-19/
CATEGORIES:Socios
END:VEVENT
BEGIN:VEVENT
DTSTART;TZID=America/Puerto_Rico:20290420T080000
DTEND;TZID=America/Puerto_Rico:20290420T163000
DTSTAMP:20260424T062042
CREATED:20251031T153427Z
LAST-MODIFIED:20251031T173748Z
UID:10001568-1871366400-1871397000@conexionlaboralsurestepr.org
SUMMARY:Visita Socio | Título I - B
DESCRIPTION:Programa Jóvenes\, Adultos y Desplazados
URL:https://conexionlaboralsurestepr.org/event/visita-socios-titulo-i-b/2029-04-20/
CATEGORIES:Socios
END:VEVENT
BEGIN:VEVENT
DTSTART;TZID=America/Puerto_Rico:20290420T080000
DTEND;TZID=America/Puerto_Rico:20290420T163000
DTSTAMP:20260424T062042
CREATED:20251031T173045Z
LAST-MODIFIED:20251204T204704Z
UID:10002733-1871366400-1871397000@conexionlaboralsurestepr.org
SUMMARY:Visita Socio | Departamento del Trabajo y Recursos Humanos (DTRH)
DESCRIPTION:Programa Veteranos (Capítulo 41 Título 38 del Código de EU)\nServicio de Empleo\, Programa Agrícola y Programa RESEA\nPrograma Seguro por Desempleo
URL:https://conexionlaboralsurestepr.org/event/vista-socio-departamento-del-trabajo-y-recursos-humanos-dtrh/2029-04-20/
CATEGORIES:Socios
END:VEVENT
BEGIN:VEVENT
DTSTART;TZID=America/Puerto_Rico:20290420T080000
DTEND;TZID=America/Puerto_Rico:20290420T163000
DTSTAMP:20260424T062042
CREATED:20251103T185220Z
LAST-MODIFIED:20251204T204656Z
UID:10005205-1871366400-1871397000@conexionlaboralsurestepr.org
SUMMARY:Visita Socio | One Stop Careers Center of PR
DESCRIPTION:Programa de Reintegración de Ex-Ofensores bajo Second Change Act
URL:https://conexionlaboralsurestepr.org/event/vista-socio-one-stop-careers-center-of-pr/2029-04-20/
CATEGORIES:Socios
END:VEVENT
BEGIN:VEVENT
DTSTART;TZID=America/Puerto_Rico:20290422T080000
DTEND;TZID=America/Puerto_Rico:20290422T163000
DTSTAMP:20260424T062042
CREATED:20251103T185220Z
LAST-MODIFIED:20251204T204656Z
UID:10005206-1871539200-1871569800@conexionlaboralsurestepr.org
SUMMARY:Visita Socio | One Stop Careers Center of PR
DESCRIPTION:Programa de Reintegración de Ex-Ofensores bajo Second Change Act
URL:https://conexionlaboralsurestepr.org/event/vista-socio-one-stop-careers-center-of-pr/2029-04-22/
CATEGORIES:Socios
END:VEVENT
END:VCALENDAR