BEGIN:VCALENDAR
VERSION:2.0
PRODID:-//Conexión Laboral Sureste - ECPv6.15.20//NONSGML v1.0//EN
CALSCALE:GREGORIAN
METHOD:PUBLISH
X-WR-CALNAME:Conexión Laboral Sureste
X-ORIGINAL-URL:https://conexionlaboralsurestepr.org
X-WR-CALDESC:Events for Conexión Laboral Sureste
REFRESH-INTERVAL;VALUE=DURATION:PT1H
X-Robots-Tag:noindex
X-PUBLISHED-TTL:PT1H
BEGIN:VTIMEZONE
TZID:America/Puerto_Rico
BEGIN:STANDARD
TZOFFSETFROM:-0400
TZOFFSETTO:-0400
TZNAME:AST
DTSTART:20280101T000000
END:STANDARD
END:VTIMEZONE
BEGIN:VEVENT
DTSTART;TZID=America/Puerto_Rico:20290423T080000
DTEND;TZID=America/Puerto_Rico:20290423T163000
DTSTAMP:20260424T062418
CREATED:20251031T153427Z
LAST-MODIFIED:20251031T173748Z
UID:10000908-1871625600-1871656200@conexionlaboralsurestepr.org
SUMMARY:Visita Socio | Título I - B
DESCRIPTION:Programa Jóvenes\, Adultos y Desplazados
URL:https://conexionlaboralsurestepr.org/event/visita-socios-titulo-i-b/2029-04-23/
CATEGORIES:Socios
END:VEVENT
BEGIN:VEVENT
DTSTART;TZID=America/Puerto_Rico:20290423T080000
DTEND;TZID=America/Puerto_Rico:20290423T163000
DTSTAMP:20260424T062418
CREATED:20251031T173045Z
LAST-MODIFIED:20251204T204704Z
UID:10002734-1871625600-1871656200@conexionlaboralsurestepr.org
SUMMARY:Visita Socio | Departamento del Trabajo y Recursos Humanos (DTRH)
DESCRIPTION:Programa Veteranos (Capítulo 41 Título 38 del Código de EU)\nServicio de Empleo\, Programa Agrícola y Programa RESEA\nPrograma Seguro por Desempleo
URL:https://conexionlaboralsurestepr.org/event/vista-socio-departamento-del-trabajo-y-recursos-humanos-dtrh/2029-04-23/
CATEGORIES:Socios
END:VEVENT
BEGIN:VEVENT
DTSTART;TZID=America/Puerto_Rico:20290423T080000
DTEND;TZID=America/Puerto_Rico:20290423T163000
DTSTAMP:20260424T062418
CREATED:20251103T185220Z
LAST-MODIFIED:20251204T204656Z
UID:10005207-1871625600-1871656200@conexionlaboralsurestepr.org
SUMMARY:Visita Socio | One Stop Careers Center of PR
DESCRIPTION:Programa de Reintegración de Ex-Ofensores bajo Second Change Act
URL:https://conexionlaboralsurestepr.org/event/vista-socio-one-stop-careers-center-of-pr/2029-04-23/
CATEGORIES:Socios
END:VEVENT
BEGIN:VEVENT
DTSTART;TZID=America/Puerto_Rico:20290424T080000
DTEND;TZID=America/Puerto_Rico:20290424T163000
DTSTAMP:20260424T062418
CREATED:20251031T153427Z
LAST-MODIFIED:20251031T173748Z
UID:10000909-1871712000-1871742600@conexionlaboralsurestepr.org
SUMMARY:Visita Socio | Título I - B
DESCRIPTION:Programa Jóvenes\, Adultos y Desplazados
URL:https://conexionlaboralsurestepr.org/event/visita-socios-titulo-i-b/2029-04-24/
CATEGORIES:Socios
END:VEVENT
BEGIN:VEVENT
DTSTART;TZID=America/Puerto_Rico:20290424T080000
DTEND;TZID=America/Puerto_Rico:20290424T163000
DTSTAMP:20260424T062418
CREATED:20251031T173045Z
LAST-MODIFIED:20251204T204704Z
UID:10002735-1871712000-1871742600@conexionlaboralsurestepr.org
SUMMARY:Visita Socio | Departamento del Trabajo y Recursos Humanos (DTRH)
DESCRIPTION:Programa Veteranos (Capítulo 41 Título 38 del Código de EU)\nServicio de Empleo\, Programa Agrícola y Programa RESEA\nPrograma Seguro por Desempleo
URL:https://conexionlaboralsurestepr.org/event/vista-socio-departamento-del-trabajo-y-recursos-humanos-dtrh/2029-04-24/
CATEGORIES:Socios
END:VEVENT
BEGIN:VEVENT
DTSTART;TZID=America/Puerto_Rico:20290424T080000
DTEND;TZID=America/Puerto_Rico:20290424T163000
DTSTAMP:20260424T062418
CREATED:20251103T185220Z
LAST-MODIFIED:20251204T204656Z
UID:10005208-1871712000-1871742600@conexionlaboralsurestepr.org
SUMMARY:Visita Socio | One Stop Careers Center of PR
DESCRIPTION:Programa de Reintegración de Ex-Ofensores bajo Second Change Act
URL:https://conexionlaboralsurestepr.org/event/vista-socio-one-stop-careers-center-of-pr/2029-04-24/
CATEGORIES:Socios
END:VEVENT
BEGIN:VEVENT
DTSTART;TZID=America/Puerto_Rico:20290425T080000
DTEND;TZID=America/Puerto_Rico:20290425T120000
DTSTAMP:20260424T062418
CREATED:20251103T185047Z
LAST-MODIFIED:20251204T204622Z
UID:10003987-1871798400-1871812800@conexionlaboralsurestepr.org
SUMMARY:Visita Socio | Título IV - "Social Security Act" Departamento de la Familia
DESCRIPTION:Programa TANF (Temporary Assistance for Needy Families)
URL:https://conexionlaboralsurestepr.org/event/vista-socio-titulo-iv-social-security-act-departamento-de-la-familia/2029-04-25/
CATEGORIES:Socios
END:VEVENT
BEGIN:VEVENT
DTSTART;TZID=America/Puerto_Rico:20290425T080000
DTEND;TZID=America/Puerto_Rico:20290425T163000
DTSTAMP:20260424T062418
CREATED:20251031T153427Z
LAST-MODIFIED:20251031T173748Z
UID:10000910-1871798400-1871829000@conexionlaboralsurestepr.org
SUMMARY:Visita Socio | Título I - B
DESCRIPTION:Programa Jóvenes\, Adultos y Desplazados
URL:https://conexionlaboralsurestepr.org/event/visita-socios-titulo-i-b/2029-04-25/
CATEGORIES:Socios
END:VEVENT
BEGIN:VEVENT
DTSTART;TZID=America/Puerto_Rico:20290425T080000
DTEND;TZID=America/Puerto_Rico:20290425T163000
DTSTAMP:20260424T062418
CREATED:20251031T173045Z
LAST-MODIFIED:20251204T204704Z
UID:10002736-1871798400-1871829000@conexionlaboralsurestepr.org
SUMMARY:Visita Socio | Departamento del Trabajo y Recursos Humanos (DTRH)
DESCRIPTION:Programa Veteranos (Capítulo 41 Título 38 del Código de EU)\nServicio de Empleo\, Programa Agrícola y Programa RESEA\nPrograma Seguro por Desempleo
URL:https://conexionlaboralsurestepr.org/event/vista-socio-departamento-del-trabajo-y-recursos-humanos-dtrh/2029-04-25/
CATEGORIES:Socios
END:VEVENT
BEGIN:VEVENT
DTSTART;TZID=America/Puerto_Rico:20290425T080000
DTEND;TZID=America/Puerto_Rico:20290425T163000
DTSTAMP:20260424T062418
CREATED:20251103T185220Z
LAST-MODIFIED:20251204T204656Z
UID:10005209-1871798400-1871829000@conexionlaboralsurestepr.org
SUMMARY:Visita Socio | One Stop Careers Center of PR
DESCRIPTION:Programa de Reintegración de Ex-Ofensores bajo Second Change Act
URL:https://conexionlaboralsurestepr.org/event/vista-socio-one-stop-careers-center-of-pr/2029-04-25/
CATEGORIES:Socios
END:VEVENT
BEGIN:VEVENT
DTSTART;TZID=America/Puerto_Rico:20290426T080000
DTEND;TZID=America/Puerto_Rico:20290426T163000
DTSTAMP:20260424T062418
CREATED:20251031T153427Z
LAST-MODIFIED:20251031T173748Z
UID:10000911-1871884800-1871915400@conexionlaboralsurestepr.org
SUMMARY:Visita Socio | Título I - B
DESCRIPTION:Programa Jóvenes\, Adultos y Desplazados
URL:https://conexionlaboralsurestepr.org/event/visita-socios-titulo-i-b/2029-04-26/
CATEGORIES:Socios
END:VEVENT
BEGIN:VEVENT
DTSTART;TZID=America/Puerto_Rico:20290426T080000
DTEND;TZID=America/Puerto_Rico:20290426T163000
DTSTAMP:20260424T062418
CREATED:20251031T173045Z
LAST-MODIFIED:20251204T204704Z
UID:10002737-1871884800-1871915400@conexionlaboralsurestepr.org
SUMMARY:Visita Socio | Departamento del Trabajo y Recursos Humanos (DTRH)
DESCRIPTION:Programa Veteranos (Capítulo 41 Título 38 del Código de EU)\nServicio de Empleo\, Programa Agrícola y Programa RESEA\nPrograma Seguro por Desempleo
URL:https://conexionlaboralsurestepr.org/event/vista-socio-departamento-del-trabajo-y-recursos-humanos-dtrh/2029-04-26/
CATEGORIES:Socios
END:VEVENT
BEGIN:VEVENT
DTSTART;TZID=America/Puerto_Rico:20290426T080000
DTEND;TZID=America/Puerto_Rico:20290426T163000
DTSTAMP:20260424T062418
CREATED:20251103T184914Z
LAST-MODIFIED:20251204T204647Z
UID:10003717-1871884800-1871915400@conexionlaboralsurestepr.org
SUMMARY:Visita Socio | Título II - Departamento de Educación
DESCRIPTION:Programa de Educación y Literacia de Adultos
URL:https://conexionlaboralsurestepr.org/event/vista-socio-titulo-ii-departamento-de-educacion/2029-04-26/
CATEGORIES:Socios
END:VEVENT
BEGIN:VEVENT
DTSTART;TZID=America/Puerto_Rico:20290426T080000
DTEND;TZID=America/Puerto_Rico:20290426T163000
DTSTAMP:20260424T062418
CREATED:20251103T185220Z
LAST-MODIFIED:20251204T204656Z
UID:10005210-1871884800-1871915400@conexionlaboralsurestepr.org
SUMMARY:Visita Socio | One Stop Careers Center of PR
DESCRIPTION:Programa de Reintegración de Ex-Ofensores bajo Second Change Act
URL:https://conexionlaboralsurestepr.org/event/vista-socio-one-stop-careers-center-of-pr/2029-04-26/
CATEGORIES:Socios
END:VEVENT
BEGIN:VEVENT
DTSTART;TZID=America/Puerto_Rico:20290427T080000
DTEND;TZID=America/Puerto_Rico:20290427T163000
DTSTAMP:20260424T062418
CREATED:20251031T153427Z
LAST-MODIFIED:20251031T173748Z
UID:10001569-1871971200-1872001800@conexionlaboralsurestepr.org
SUMMARY:Visita Socio | Título I - B
DESCRIPTION:Programa Jóvenes\, Adultos y Desplazados
URL:https://conexionlaboralsurestepr.org/event/visita-socios-titulo-i-b/2029-04-27/
CATEGORIES:Socios
END:VEVENT
BEGIN:VEVENT
DTSTART;TZID=America/Puerto_Rico:20290427T080000
DTEND;TZID=America/Puerto_Rico:20290427T163000
DTSTAMP:20260424T062418
CREATED:20251031T173045Z
LAST-MODIFIED:20251204T204704Z
UID:10002738-1871971200-1872001800@conexionlaboralsurestepr.org
SUMMARY:Visita Socio | Departamento del Trabajo y Recursos Humanos (DTRH)
DESCRIPTION:Programa Veteranos (Capítulo 41 Título 38 del Código de EU)\nServicio de Empleo\, Programa Agrícola y Programa RESEA\nPrograma Seguro por Desempleo
URL:https://conexionlaboralsurestepr.org/event/vista-socio-departamento-del-trabajo-y-recursos-humanos-dtrh/2029-04-27/
CATEGORIES:Socios
END:VEVENT
BEGIN:VEVENT
DTSTART;TZID=America/Puerto_Rico:20290427T080000
DTEND;TZID=America/Puerto_Rico:20290427T163000
DTSTAMP:20260424T062418
CREATED:20251103T185220Z
LAST-MODIFIED:20251204T204656Z
UID:10005211-1871971200-1872001800@conexionlaboralsurestepr.org
SUMMARY:Visita Socio | One Stop Careers Center of PR
DESCRIPTION:Programa de Reintegración de Ex-Ofensores bajo Second Change Act
URL:https://conexionlaboralsurestepr.org/event/vista-socio-one-stop-careers-center-of-pr/2029-04-27/
CATEGORIES:Socios
END:VEVENT
BEGIN:VEVENT
DTSTART;TZID=America/Puerto_Rico:20290429T080000
DTEND;TZID=America/Puerto_Rico:20290429T163000
DTSTAMP:20260424T062418
CREATED:20251103T185220Z
LAST-MODIFIED:20251204T204656Z
UID:10005212-1872144000-1872174600@conexionlaboralsurestepr.org
SUMMARY:Visita Socio | One Stop Careers Center of PR
DESCRIPTION:Programa de Reintegración de Ex-Ofensores bajo Second Change Act
URL:https://conexionlaboralsurestepr.org/event/vista-socio-one-stop-careers-center-of-pr/2029-04-29/
CATEGORIES:Socios
END:VEVENT
END:VCALENDAR