BEGIN:VCALENDAR
VERSION:2.0
PRODID:-//Conexión Laboral Sureste - ECPv6.15.20//NONSGML v1.0//EN
CALSCALE:GREGORIAN
METHOD:PUBLISH
X-WR-CALNAME:Conexión Laboral Sureste
X-ORIGINAL-URL:https://conexionlaboralsurestepr.org
X-WR-CALDESC:Events for Conexión Laboral Sureste
REFRESH-INTERVAL;VALUE=DURATION:PT1H
X-Robots-Tag:noindex
X-PUBLISHED-TTL:PT1H
BEGIN:VTIMEZONE
TZID:America/Puerto_Rico
BEGIN:STANDARD
TZOFFSETFROM:-0400
TZOFFSETTO:-0400
TZNAME:AST
DTSTART:20280101T000000
END:STANDARD
END:VTIMEZONE
BEGIN:VEVENT
DTSTART;TZID=America/Puerto_Rico:20290611T080000
DTEND;TZID=America/Puerto_Rico:20290611T163000
DTSTAMP:20260424T091958
CREATED:20251031T153427Z
LAST-MODIFIED:20251031T173748Z
UID:10000943-1875859200-1875889800@conexionlaboralsurestepr.org
SUMMARY:Visita Socio | Título I - B
DESCRIPTION:Programa Jóvenes\, Adultos y Desplazados
URL:https://conexionlaboralsurestepr.org/event/visita-socios-titulo-i-b/2029-06-11/
CATEGORIES:Socios
END:VEVENT
BEGIN:VEVENT
DTSTART;TZID=America/Puerto_Rico:20290611T080000
DTEND;TZID=America/Puerto_Rico:20290611T163000
DTSTAMP:20260424T091958
CREATED:20251031T173045Z
LAST-MODIFIED:20251204T204704Z
UID:10002769-1875859200-1875889800@conexionlaboralsurestepr.org
SUMMARY:Visita Socio | Departamento del Trabajo y Recursos Humanos (DTRH)
DESCRIPTION:Programa Veteranos (Capítulo 41 Título 38 del Código de EU)\nServicio de Empleo\, Programa Agrícola y Programa RESEA\nPrograma Seguro por Desempleo
URL:https://conexionlaboralsurestepr.org/event/vista-socio-departamento-del-trabajo-y-recursos-humanos-dtrh/2029-06-11/
CATEGORIES:Socios
END:VEVENT
BEGIN:VEVENT
DTSTART;TZID=America/Puerto_Rico:20290611T080000
DTEND;TZID=America/Puerto_Rico:20290611T163000
DTSTAMP:20260424T091958
CREATED:20251103T185220Z
LAST-MODIFIED:20251204T204656Z
UID:10005249-1875859200-1875889800@conexionlaboralsurestepr.org
SUMMARY:Visita Socio | One Stop Careers Center of PR
DESCRIPTION:Programa de Reintegración de Ex-Ofensores bajo Second Change Act
URL:https://conexionlaboralsurestepr.org/event/vista-socio-one-stop-careers-center-of-pr/2029-06-11/
CATEGORIES:Socios
END:VEVENT
BEGIN:VEVENT
DTSTART;TZID=America/Puerto_Rico:20290612T080000
DTEND;TZID=America/Puerto_Rico:20290612T163000
DTSTAMP:20260424T091958
CREATED:20251031T153427Z
LAST-MODIFIED:20251031T173748Z
UID:10000944-1875945600-1875976200@conexionlaboralsurestepr.org
SUMMARY:Visita Socio | Título I - B
DESCRIPTION:Programa Jóvenes\, Adultos y Desplazados
URL:https://conexionlaboralsurestepr.org/event/visita-socios-titulo-i-b/2029-06-12/
CATEGORIES:Socios
END:VEVENT
BEGIN:VEVENT
DTSTART;TZID=America/Puerto_Rico:20290612T080000
DTEND;TZID=America/Puerto_Rico:20290612T163000
DTSTAMP:20260424T091958
CREATED:20251031T173045Z
LAST-MODIFIED:20251204T204704Z
UID:10002770-1875945600-1875976200@conexionlaboralsurestepr.org
SUMMARY:Visita Socio | Departamento del Trabajo y Recursos Humanos (DTRH)
DESCRIPTION:Programa Veteranos (Capítulo 41 Título 38 del Código de EU)\nServicio de Empleo\, Programa Agrícola y Programa RESEA\nPrograma Seguro por Desempleo
URL:https://conexionlaboralsurestepr.org/event/vista-socio-departamento-del-trabajo-y-recursos-humanos-dtrh/2029-06-12/
CATEGORIES:Socios
END:VEVENT
BEGIN:VEVENT
DTSTART;TZID=America/Puerto_Rico:20290612T080000
DTEND;TZID=America/Puerto_Rico:20290612T163000
DTSTAMP:20260424T091958
CREATED:20251103T185220Z
LAST-MODIFIED:20251204T204656Z
UID:10005250-1875945600-1875976200@conexionlaboralsurestepr.org
SUMMARY:Visita Socio | One Stop Careers Center of PR
DESCRIPTION:Programa de Reintegración de Ex-Ofensores bajo Second Change Act
URL:https://conexionlaboralsurestepr.org/event/vista-socio-one-stop-careers-center-of-pr/2029-06-12/
CATEGORIES:Socios
END:VEVENT
BEGIN:VEVENT
DTSTART;TZID=America/Puerto_Rico:20290613T080000
DTEND;TZID=America/Puerto_Rico:20290613T120000
DTSTAMP:20260424T091958
CREATED:20251103T185047Z
LAST-MODIFIED:20251204T204622Z
UID:10003994-1876032000-1876046400@conexionlaboralsurestepr.org
SUMMARY:Visita Socio | Título IV - "Social Security Act" Departamento de la Familia
DESCRIPTION:Programa TANF (Temporary Assistance for Needy Families)
URL:https://conexionlaboralsurestepr.org/event/vista-socio-titulo-iv-social-security-act-departamento-de-la-familia/2029-06-13/
CATEGORIES:Socios
END:VEVENT
BEGIN:VEVENT
DTSTART;TZID=America/Puerto_Rico:20290613T080000
DTEND;TZID=America/Puerto_Rico:20290613T163000
DTSTAMP:20260424T091958
CREATED:20251031T153427Z
LAST-MODIFIED:20251031T173748Z
UID:10000945-1876032000-1876062600@conexionlaboralsurestepr.org
SUMMARY:Visita Socio | Título I - B
DESCRIPTION:Programa Jóvenes\, Adultos y Desplazados
URL:https://conexionlaboralsurestepr.org/event/visita-socios-titulo-i-b/2029-06-13/
CATEGORIES:Socios
END:VEVENT
BEGIN:VEVENT
DTSTART;TZID=America/Puerto_Rico:20290613T080000
DTEND;TZID=America/Puerto_Rico:20290613T163000
DTSTAMP:20260424T091958
CREATED:20251031T173045Z
LAST-MODIFIED:20251204T204704Z
UID:10002771-1876032000-1876062600@conexionlaboralsurestepr.org
SUMMARY:Visita Socio | Departamento del Trabajo y Recursos Humanos (DTRH)
DESCRIPTION:Programa Veteranos (Capítulo 41 Título 38 del Código de EU)\nServicio de Empleo\, Programa Agrícola y Programa RESEA\nPrograma Seguro por Desempleo
URL:https://conexionlaboralsurestepr.org/event/vista-socio-departamento-del-trabajo-y-recursos-humanos-dtrh/2029-06-13/
CATEGORIES:Socios
END:VEVENT
BEGIN:VEVENT
DTSTART;TZID=America/Puerto_Rico:20290613T080000
DTEND;TZID=America/Puerto_Rico:20290613T163000
DTSTAMP:20260424T091958
CREATED:20251103T185220Z
LAST-MODIFIED:20251204T204656Z
UID:10005251-1876032000-1876062600@conexionlaboralsurestepr.org
SUMMARY:Visita Socio | One Stop Careers Center of PR
DESCRIPTION:Programa de Reintegración de Ex-Ofensores bajo Second Change Act
URL:https://conexionlaboralsurestepr.org/event/vista-socio-one-stop-careers-center-of-pr/2029-06-13/
CATEGORIES:Socios
END:VEVENT
BEGIN:VEVENT
DTSTART;TZID=America/Puerto_Rico:20290614T080000
DTEND;TZID=America/Puerto_Rico:20290614T163000
DTSTAMP:20260424T091958
CREATED:20251031T153427Z
LAST-MODIFIED:20251031T173748Z
UID:10000946-1876118400-1876149000@conexionlaboralsurestepr.org
SUMMARY:Visita Socio | Título I - B
DESCRIPTION:Programa Jóvenes\, Adultos y Desplazados
URL:https://conexionlaboralsurestepr.org/event/visita-socios-titulo-i-b/2029-06-14/
CATEGORIES:Socios
END:VEVENT
BEGIN:VEVENT
DTSTART;TZID=America/Puerto_Rico:20290614T080000
DTEND;TZID=America/Puerto_Rico:20290614T163000
DTSTAMP:20260424T091958
CREATED:20251031T173045Z
LAST-MODIFIED:20251204T204704Z
UID:10002772-1876118400-1876149000@conexionlaboralsurestepr.org
SUMMARY:Visita Socio | Departamento del Trabajo y Recursos Humanos (DTRH)
DESCRIPTION:Programa Veteranos (Capítulo 41 Título 38 del Código de EU)\nServicio de Empleo\, Programa Agrícola y Programa RESEA\nPrograma Seguro por Desempleo
URL:https://conexionlaboralsurestepr.org/event/vista-socio-departamento-del-trabajo-y-recursos-humanos-dtrh/2029-06-14/
CATEGORIES:Socios
END:VEVENT
BEGIN:VEVENT
DTSTART;TZID=America/Puerto_Rico:20290614T080000
DTEND;TZID=America/Puerto_Rico:20290614T163000
DTSTAMP:20260424T091958
CREATED:20251103T184914Z
LAST-MODIFIED:20251204T204647Z
UID:10003724-1876118400-1876149000@conexionlaboralsurestepr.org
SUMMARY:Visita Socio | Título II - Departamento de Educación
DESCRIPTION:Programa de Educación y Literacia de Adultos
URL:https://conexionlaboralsurestepr.org/event/vista-socio-titulo-ii-departamento-de-educacion/2029-06-14/
CATEGORIES:Socios
END:VEVENT
BEGIN:VEVENT
DTSTART;TZID=America/Puerto_Rico:20290614T080000
DTEND;TZID=America/Puerto_Rico:20290614T163000
DTSTAMP:20260424T091958
CREATED:20251103T185220Z
LAST-MODIFIED:20251204T204656Z
UID:10005252-1876118400-1876149000@conexionlaboralsurestepr.org
SUMMARY:Visita Socio | One Stop Careers Center of PR
DESCRIPTION:Programa de Reintegración de Ex-Ofensores bajo Second Change Act
URL:https://conexionlaboralsurestepr.org/event/vista-socio-one-stop-careers-center-of-pr/2029-06-14/
CATEGORIES:Socios
END:VEVENT
BEGIN:VEVENT
DTSTART;TZID=America/Puerto_Rico:20290615T080000
DTEND;TZID=America/Puerto_Rico:20290615T163000
DTSTAMP:20260424T091958
CREATED:20251031T153427Z
LAST-MODIFIED:20251031T173748Z
UID:10001576-1876204800-1876235400@conexionlaboralsurestepr.org
SUMMARY:Visita Socio | Título I - B
DESCRIPTION:Programa Jóvenes\, Adultos y Desplazados
URL:https://conexionlaboralsurestepr.org/event/visita-socios-titulo-i-b/2029-06-15/
CATEGORIES:Socios
END:VEVENT
BEGIN:VEVENT
DTSTART;TZID=America/Puerto_Rico:20290615T080000
DTEND;TZID=America/Puerto_Rico:20290615T163000
DTSTAMP:20260424T091958
CREATED:20251031T173045Z
LAST-MODIFIED:20251204T204704Z
UID:10002773-1876204800-1876235400@conexionlaboralsurestepr.org
SUMMARY:Visita Socio | Departamento del Trabajo y Recursos Humanos (DTRH)
DESCRIPTION:Programa Veteranos (Capítulo 41 Título 38 del Código de EU)\nServicio de Empleo\, Programa Agrícola y Programa RESEA\nPrograma Seguro por Desempleo
URL:https://conexionlaboralsurestepr.org/event/vista-socio-departamento-del-trabajo-y-recursos-humanos-dtrh/2029-06-15/
CATEGORIES:Socios
END:VEVENT
BEGIN:VEVENT
DTSTART;TZID=America/Puerto_Rico:20290615T080000
DTEND;TZID=America/Puerto_Rico:20290615T163000
DTSTAMP:20260424T091958
CREATED:20251103T185220Z
LAST-MODIFIED:20251204T204656Z
UID:10005253-1876204800-1876235400@conexionlaboralsurestepr.org
SUMMARY:Visita Socio | One Stop Careers Center of PR
DESCRIPTION:Programa de Reintegración de Ex-Ofensores bajo Second Change Act
URL:https://conexionlaboralsurestepr.org/event/vista-socio-one-stop-careers-center-of-pr/2029-06-15/
CATEGORIES:Socios
END:VEVENT
BEGIN:VEVENT
DTSTART;TZID=America/Puerto_Rico:20290617T080000
DTEND;TZID=America/Puerto_Rico:20290617T163000
DTSTAMP:20260424T091958
CREATED:20251103T185220Z
LAST-MODIFIED:20251204T204656Z
UID:10005254-1876377600-1876408200@conexionlaboralsurestepr.org
SUMMARY:Visita Socio | One Stop Careers Center of PR
DESCRIPTION:Programa de Reintegración de Ex-Ofensores bajo Second Change Act
URL:https://conexionlaboralsurestepr.org/event/vista-socio-one-stop-careers-center-of-pr/2029-06-17/
CATEGORIES:Socios
END:VEVENT
END:VCALENDAR