BEGIN:VCALENDAR
VERSION:2.0
PRODID:-//Conexión Laboral Sureste - ECPv6.15.20//NONSGML v1.0//EN
CALSCALE:GREGORIAN
METHOD:PUBLISH
X-ORIGINAL-URL:https://conexionlaboralsurestepr.org
X-WR-CALDESC:Events for Conexión Laboral Sureste
REFRESH-INTERVAL;VALUE=DURATION:PT1H
X-Robots-Tag:noindex
X-PUBLISHED-TTL:PT1H
BEGIN:VTIMEZONE
TZID:America/Puerto_Rico
BEGIN:STANDARD
TZOFFSETFROM:-0400
TZOFFSETTO:-0400
TZNAME:AST
DTSTART:20280101T000000
END:STANDARD
END:VTIMEZONE
BEGIN:VEVENT
DTSTART;TZID=America/Puerto_Rico:20290709T080000
DTEND;TZID=America/Puerto_Rico:20290709T163000
DTSTAMP:20260424T162811
CREATED:20251031T153427Z
LAST-MODIFIED:20251031T173748Z
UID:10000963-1878278400-1878309000@conexionlaboralsurestepr.org
SUMMARY:Visita Socio | Título I - B
DESCRIPTION:Programa Jóvenes\, Adultos y Desplazados
URL:https://conexionlaboralsurestepr.org/event/visita-socios-titulo-i-b/2029-07-09/
CATEGORIES:Socios
END:VEVENT
BEGIN:VEVENT
DTSTART;TZID=America/Puerto_Rico:20290709T080000
DTEND;TZID=America/Puerto_Rico:20290709T163000
DTSTAMP:20260424T162811
CREATED:20251031T173045Z
LAST-MODIFIED:20251204T204704Z
UID:10002789-1878278400-1878309000@conexionlaboralsurestepr.org
SUMMARY:Visita Socio | Departamento del Trabajo y Recursos Humanos (DTRH)
DESCRIPTION:Programa Veteranos (Capítulo 41 Título 38 del Código de EU)\nServicio de Empleo\, Programa Agrícola y Programa RESEA\nPrograma Seguro por Desempleo
URL:https://conexionlaboralsurestepr.org/event/vista-socio-departamento-del-trabajo-y-recursos-humanos-dtrh/2029-07-09/
CATEGORIES:Socios
END:VEVENT
BEGIN:VEVENT
DTSTART;TZID=America/Puerto_Rico:20290709T080000
DTEND;TZID=America/Puerto_Rico:20290709T163000
DTSTAMP:20260424T162811
CREATED:20251103T185220Z
LAST-MODIFIED:20251204T204656Z
UID:10005273-1878278400-1878309000@conexionlaboralsurestepr.org
SUMMARY:Visita Socio | One Stop Careers Center of PR
DESCRIPTION:Programa de Reintegración de Ex-Ofensores bajo Second Change Act
URL:https://conexionlaboralsurestepr.org/event/vista-socio-one-stop-careers-center-of-pr/2029-07-09/
CATEGORIES:Socios
END:VEVENT
BEGIN:VEVENT
DTSTART;TZID=America/Puerto_Rico:20290710T080000
DTEND;TZID=America/Puerto_Rico:20290710T163000
DTSTAMP:20260424T162811
CREATED:20251031T153427Z
LAST-MODIFIED:20251031T173748Z
UID:10000964-1878364800-1878395400@conexionlaboralsurestepr.org
SUMMARY:Visita Socio | Título I - B
DESCRIPTION:Programa Jóvenes\, Adultos y Desplazados
URL:https://conexionlaboralsurestepr.org/event/visita-socios-titulo-i-b/2029-07-10/
CATEGORIES:Socios
END:VEVENT
BEGIN:VEVENT
DTSTART;TZID=America/Puerto_Rico:20290710T080000
DTEND;TZID=America/Puerto_Rico:20290710T163000
DTSTAMP:20260424T162812
CREATED:20251031T173045Z
LAST-MODIFIED:20251204T204704Z
UID:10002790-1878364800-1878395400@conexionlaboralsurestepr.org
SUMMARY:Visita Socio | Departamento del Trabajo y Recursos Humanos (DTRH)
DESCRIPTION:Programa Veteranos (Capítulo 41 Título 38 del Código de EU)\nServicio de Empleo\, Programa Agrícola y Programa RESEA\nPrograma Seguro por Desempleo
URL:https://conexionlaboralsurestepr.org/event/vista-socio-departamento-del-trabajo-y-recursos-humanos-dtrh/2029-07-10/
CATEGORIES:Socios
END:VEVENT
BEGIN:VEVENT
DTSTART;TZID=America/Puerto_Rico:20290710T080000
DTEND;TZID=America/Puerto_Rico:20290710T163000
DTSTAMP:20260424T162812
CREATED:20251103T185220Z
LAST-MODIFIED:20251204T204656Z
UID:10005274-1878364800-1878395400@conexionlaboralsurestepr.org
SUMMARY:Visita Socio | One Stop Careers Center of PR
DESCRIPTION:Programa de Reintegración de Ex-Ofensores bajo Second Change Act
URL:https://conexionlaboralsurestepr.org/event/vista-socio-one-stop-careers-center-of-pr/2029-07-10/
CATEGORIES:Socios
END:VEVENT
BEGIN:VEVENT
DTSTART;TZID=America/Puerto_Rico:20290711T080000
DTEND;TZID=America/Puerto_Rico:20290711T120000
DTSTAMP:20260424T162812
CREATED:20251103T185047Z
LAST-MODIFIED:20251204T204622Z
UID:10003998-1878451200-1878465600@conexionlaboralsurestepr.org
SUMMARY:Visita Socio | Título IV - "Social Security Act" Departamento de la Familia
DESCRIPTION:Programa TANF (Temporary Assistance for Needy Families)
URL:https://conexionlaboralsurestepr.org/event/vista-socio-titulo-iv-social-security-act-departamento-de-la-familia/2029-07-11/
CATEGORIES:Socios
END:VEVENT
BEGIN:VEVENT
DTSTART;TZID=America/Puerto_Rico:20290711T080000
DTEND;TZID=America/Puerto_Rico:20290711T163000
DTSTAMP:20260424T162812
CREATED:20251031T153427Z
LAST-MODIFIED:20251031T173748Z
UID:10000965-1878451200-1878481800@conexionlaboralsurestepr.org
SUMMARY:Visita Socio | Título I - B
DESCRIPTION:Programa Jóvenes\, Adultos y Desplazados
URL:https://conexionlaboralsurestepr.org/event/visita-socios-titulo-i-b/2029-07-11/
CATEGORIES:Socios
END:VEVENT
BEGIN:VEVENT
DTSTART;TZID=America/Puerto_Rico:20290711T080000
DTEND;TZID=America/Puerto_Rico:20290711T163000
DTSTAMP:20260424T162812
CREATED:20251031T173045Z
LAST-MODIFIED:20251204T204704Z
UID:10002791-1878451200-1878481800@conexionlaboralsurestepr.org
SUMMARY:Visita Socio | Departamento del Trabajo y Recursos Humanos (DTRH)
DESCRIPTION:Programa Veteranos (Capítulo 41 Título 38 del Código de EU)\nServicio de Empleo\, Programa Agrícola y Programa RESEA\nPrograma Seguro por Desempleo
URL:https://conexionlaboralsurestepr.org/event/vista-socio-departamento-del-trabajo-y-recursos-humanos-dtrh/2029-07-11/
CATEGORIES:Socios
END:VEVENT
BEGIN:VEVENT
DTSTART;TZID=America/Puerto_Rico:20290711T080000
DTEND;TZID=America/Puerto_Rico:20290711T163000
DTSTAMP:20260424T162812
CREATED:20251103T185220Z
LAST-MODIFIED:20251204T204656Z
UID:10005275-1878451200-1878481800@conexionlaboralsurestepr.org
SUMMARY:Visita Socio | One Stop Careers Center of PR
DESCRIPTION:Programa de Reintegración de Ex-Ofensores bajo Second Change Act
URL:https://conexionlaboralsurestepr.org/event/vista-socio-one-stop-careers-center-of-pr/2029-07-11/
CATEGORIES:Socios
END:VEVENT
BEGIN:VEVENT
DTSTART;TZID=America/Puerto_Rico:20290712T080000
DTEND;TZID=America/Puerto_Rico:20290712T163000
DTSTAMP:20260424T162812
CREATED:20251031T153427Z
LAST-MODIFIED:20251031T173748Z
UID:10000966-1878537600-1878568200@conexionlaboralsurestepr.org
SUMMARY:Visita Socio | Título I - B
DESCRIPTION:Programa Jóvenes\, Adultos y Desplazados
URL:https://conexionlaboralsurestepr.org/event/visita-socios-titulo-i-b/2029-07-12/
CATEGORIES:Socios
END:VEVENT
BEGIN:VEVENT
DTSTART;TZID=America/Puerto_Rico:20290712T080000
DTEND;TZID=America/Puerto_Rico:20290712T163000
DTSTAMP:20260424T162812
CREATED:20251031T173045Z
LAST-MODIFIED:20251204T204704Z
UID:10002792-1878537600-1878568200@conexionlaboralsurestepr.org
SUMMARY:Visita Socio | Departamento del Trabajo y Recursos Humanos (DTRH)
DESCRIPTION:Programa Veteranos (Capítulo 41 Título 38 del Código de EU)\nServicio de Empleo\, Programa Agrícola y Programa RESEA\nPrograma Seguro por Desempleo
URL:https://conexionlaboralsurestepr.org/event/vista-socio-departamento-del-trabajo-y-recursos-humanos-dtrh/2029-07-12/
CATEGORIES:Socios
END:VEVENT
BEGIN:VEVENT
DTSTART;TZID=America/Puerto_Rico:20290712T080000
DTEND;TZID=America/Puerto_Rico:20290712T163000
DTSTAMP:20260424T162812
CREATED:20251103T184914Z
LAST-MODIFIED:20251204T204647Z
UID:10003728-1878537600-1878568200@conexionlaboralsurestepr.org
SUMMARY:Visita Socio | Título II - Departamento de Educación
DESCRIPTION:Programa de Educación y Literacia de Adultos
URL:https://conexionlaboralsurestepr.org/event/vista-socio-titulo-ii-departamento-de-educacion/2029-07-12/
CATEGORIES:Socios
END:VEVENT
BEGIN:VEVENT
DTSTART;TZID=America/Puerto_Rico:20290712T080000
DTEND;TZID=America/Puerto_Rico:20290712T163000
DTSTAMP:20260424T162812
CREATED:20251103T185220Z
LAST-MODIFIED:20251204T204656Z
UID:10005276-1878537600-1878568200@conexionlaboralsurestepr.org
SUMMARY:Visita Socio | One Stop Careers Center of PR
DESCRIPTION:Programa de Reintegración de Ex-Ofensores bajo Second Change Act
URL:https://conexionlaboralsurestepr.org/event/vista-socio-one-stop-careers-center-of-pr/2029-07-12/
CATEGORIES:Socios
END:VEVENT
BEGIN:VEVENT
DTSTART;TZID=America/Puerto_Rico:20290713T080000
DTEND;TZID=America/Puerto_Rico:20290713T163000
DTSTAMP:20260424T162812
CREATED:20251031T153427Z
LAST-MODIFIED:20251031T173748Z
UID:10001580-1878624000-1878654600@conexionlaboralsurestepr.org
SUMMARY:Visita Socio | Título I - B
DESCRIPTION:Programa Jóvenes\, Adultos y Desplazados
URL:https://conexionlaboralsurestepr.org/event/visita-socios-titulo-i-b/2029-07-13/
CATEGORIES:Socios
END:VEVENT
BEGIN:VEVENT
DTSTART;TZID=America/Puerto_Rico:20290713T080000
DTEND;TZID=America/Puerto_Rico:20290713T163000
DTSTAMP:20260424T162812
CREATED:20251031T173045Z
LAST-MODIFIED:20251204T204704Z
UID:10002793-1878624000-1878654600@conexionlaboralsurestepr.org
SUMMARY:Visita Socio | Departamento del Trabajo y Recursos Humanos (DTRH)
DESCRIPTION:Programa Veteranos (Capítulo 41 Título 38 del Código de EU)\nServicio de Empleo\, Programa Agrícola y Programa RESEA\nPrograma Seguro por Desempleo
URL:https://conexionlaboralsurestepr.org/event/vista-socio-departamento-del-trabajo-y-recursos-humanos-dtrh/2029-07-13/
CATEGORIES:Socios
END:VEVENT
BEGIN:VEVENT
DTSTART;TZID=America/Puerto_Rico:20290713T080000
DTEND;TZID=America/Puerto_Rico:20290713T163000
DTSTAMP:20260424T162812
CREATED:20251103T185220Z
LAST-MODIFIED:20251204T204656Z
UID:10005277-1878624000-1878654600@conexionlaboralsurestepr.org
SUMMARY:Visita Socio | One Stop Careers Center of PR
DESCRIPTION:Programa de Reintegración de Ex-Ofensores bajo Second Change Act
URL:https://conexionlaboralsurestepr.org/event/vista-socio-one-stop-careers-center-of-pr/2029-07-13/
CATEGORIES:Socios
END:VEVENT
BEGIN:VEVENT
DTSTART;TZID=America/Puerto_Rico:20290715T080000
DTEND;TZID=America/Puerto_Rico:20290715T163000
DTSTAMP:20260424T162812
CREATED:20251103T185220Z
LAST-MODIFIED:20251204T204656Z
UID:10005278-1878796800-1878827400@conexionlaboralsurestepr.org
SUMMARY:Visita Socio | One Stop Careers Center of PR
DESCRIPTION:Programa de Reintegración de Ex-Ofensores bajo Second Change Act
URL:https://conexionlaboralsurestepr.org/event/vista-socio-one-stop-careers-center-of-pr/2029-07-15/
CATEGORIES:Socios
END:VEVENT
END:VCALENDAR