BEGIN:VCALENDAR
VERSION:2.0
PRODID:-//Conexión Laboral Sureste - ECPv6.15.20//NONSGML v1.0//EN
CALSCALE:GREGORIAN
METHOD:PUBLISH
X-WR-CALNAME:Conexión Laboral Sureste
X-ORIGINAL-URL:https://conexionlaboralsurestepr.org
X-WR-CALDESC:Events for Conexión Laboral Sureste
REFRESH-INTERVAL;VALUE=DURATION:PT1H
X-Robots-Tag:noindex
X-PUBLISHED-TTL:PT1H
BEGIN:VTIMEZONE
TZID:America/Puerto_Rico
BEGIN:STANDARD
TZOFFSETFROM:-0400
TZOFFSETTO:-0400
TZNAME:AST
DTSTART:20280101T000000
END:STANDARD
END:VTIMEZONE
BEGIN:VEVENT
DTSTART;TZID=America/Puerto_Rico:20290820T080000
DTEND;TZID=America/Puerto_Rico:20290820T163000
DTSTAMP:20260424T133806
CREATED:20251031T153427Z
LAST-MODIFIED:20251031T173748Z
UID:10000993-1881907200-1881937800@conexionlaboralsurestepr.org
SUMMARY:Visita Socio | Título I - B
DESCRIPTION:Programa Jóvenes\, Adultos y Desplazados
URL:https://conexionlaboralsurestepr.org/event/visita-socios-titulo-i-b/2029-08-20/
CATEGORIES:Socios
END:VEVENT
BEGIN:VEVENT
DTSTART;TZID=America/Puerto_Rico:20290820T080000
DTEND;TZID=America/Puerto_Rico:20290820T163000
DTSTAMP:20260424T133806
CREATED:20251031T173045Z
LAST-MODIFIED:20251204T204704Z
UID:10002819-1881907200-1881937800@conexionlaboralsurestepr.org
SUMMARY:Visita Socio | Departamento del Trabajo y Recursos Humanos (DTRH)
DESCRIPTION:Programa Veteranos (Capítulo 41 Título 38 del Código de EU)\nServicio de Empleo\, Programa Agrícola y Programa RESEA\nPrograma Seguro por Desempleo
URL:https://conexionlaboralsurestepr.org/event/vista-socio-departamento-del-trabajo-y-recursos-humanos-dtrh/2029-08-20/
CATEGORIES:Socios
END:VEVENT
BEGIN:VEVENT
DTSTART;TZID=America/Puerto_Rico:20290820T080000
DTEND;TZID=America/Puerto_Rico:20290820T163000
DTSTAMP:20260424T133806
CREATED:20251103T185220Z
LAST-MODIFIED:20251204T204656Z
UID:10005309-1881907200-1881937800@conexionlaboralsurestepr.org
SUMMARY:Visita Socio | One Stop Careers Center of PR
DESCRIPTION:Programa de Reintegración de Ex-Ofensores bajo Second Change Act
URL:https://conexionlaboralsurestepr.org/event/vista-socio-one-stop-careers-center-of-pr/2029-08-20/
CATEGORIES:Socios
END:VEVENT
BEGIN:VEVENT
DTSTART;TZID=America/Puerto_Rico:20290821T080000
DTEND;TZID=America/Puerto_Rico:20290821T163000
DTSTAMP:20260424T133806
CREATED:20251031T153427Z
LAST-MODIFIED:20251031T173748Z
UID:10000994-1881993600-1882024200@conexionlaboralsurestepr.org
SUMMARY:Visita Socio | Título I - B
DESCRIPTION:Programa Jóvenes\, Adultos y Desplazados
URL:https://conexionlaboralsurestepr.org/event/visita-socios-titulo-i-b/2029-08-21/
CATEGORIES:Socios
END:VEVENT
BEGIN:VEVENT
DTSTART;TZID=America/Puerto_Rico:20290821T080000
DTEND;TZID=America/Puerto_Rico:20290821T163000
DTSTAMP:20260424T133806
CREATED:20251031T173045Z
LAST-MODIFIED:20251204T204704Z
UID:10002820-1881993600-1882024200@conexionlaboralsurestepr.org
SUMMARY:Visita Socio | Departamento del Trabajo y Recursos Humanos (DTRH)
DESCRIPTION:Programa Veteranos (Capítulo 41 Título 38 del Código de EU)\nServicio de Empleo\, Programa Agrícola y Programa RESEA\nPrograma Seguro por Desempleo
URL:https://conexionlaboralsurestepr.org/event/vista-socio-departamento-del-trabajo-y-recursos-humanos-dtrh/2029-08-21/
CATEGORIES:Socios
END:VEVENT
BEGIN:VEVENT
DTSTART;TZID=America/Puerto_Rico:20290821T080000
DTEND;TZID=America/Puerto_Rico:20290821T163000
DTSTAMP:20260424T133806
CREATED:20251103T185220Z
LAST-MODIFIED:20251204T204656Z
UID:10005310-1881993600-1882024200@conexionlaboralsurestepr.org
SUMMARY:Visita Socio | One Stop Careers Center of PR
DESCRIPTION:Programa de Reintegración de Ex-Ofensores bajo Second Change Act
URL:https://conexionlaboralsurestepr.org/event/vista-socio-one-stop-careers-center-of-pr/2029-08-21/
CATEGORIES:Socios
END:VEVENT
BEGIN:VEVENT
DTSTART;TZID=America/Puerto_Rico:20290822T080000
DTEND;TZID=America/Puerto_Rico:20290822T120000
DTSTAMP:20260424T133806
CREATED:20251103T185047Z
LAST-MODIFIED:20251204T204622Z
UID:10004004-1882080000-1882094400@conexionlaboralsurestepr.org
SUMMARY:Visita Socio | Título IV - "Social Security Act" Departamento de la Familia
DESCRIPTION:Programa TANF (Temporary Assistance for Needy Families)
URL:https://conexionlaboralsurestepr.org/event/vista-socio-titulo-iv-social-security-act-departamento-de-la-familia/2029-08-22/
CATEGORIES:Socios
END:VEVENT
BEGIN:VEVENT
DTSTART;TZID=America/Puerto_Rico:20290822T080000
DTEND;TZID=America/Puerto_Rico:20290822T163000
DTSTAMP:20260424T133806
CREATED:20251031T153427Z
LAST-MODIFIED:20251031T173748Z
UID:10000995-1882080000-1882110600@conexionlaboralsurestepr.org
SUMMARY:Visita Socio | Título I - B
DESCRIPTION:Programa Jóvenes\, Adultos y Desplazados
URL:https://conexionlaboralsurestepr.org/event/visita-socios-titulo-i-b/2029-08-22/
CATEGORIES:Socios
END:VEVENT
BEGIN:VEVENT
DTSTART;TZID=America/Puerto_Rico:20290822T080000
DTEND;TZID=America/Puerto_Rico:20290822T163000
DTSTAMP:20260424T133806
CREATED:20251031T173045Z
LAST-MODIFIED:20251204T204704Z
UID:10002821-1882080000-1882110600@conexionlaboralsurestepr.org
SUMMARY:Visita Socio | Departamento del Trabajo y Recursos Humanos (DTRH)
DESCRIPTION:Programa Veteranos (Capítulo 41 Título 38 del Código de EU)\nServicio de Empleo\, Programa Agrícola y Programa RESEA\nPrograma Seguro por Desempleo
URL:https://conexionlaboralsurestepr.org/event/vista-socio-departamento-del-trabajo-y-recursos-humanos-dtrh/2029-08-22/
CATEGORIES:Socios
END:VEVENT
BEGIN:VEVENT
DTSTART;TZID=America/Puerto_Rico:20290822T080000
DTEND;TZID=America/Puerto_Rico:20290822T163000
DTSTAMP:20260424T133806
CREATED:20251103T185220Z
LAST-MODIFIED:20251204T204656Z
UID:10005311-1882080000-1882110600@conexionlaboralsurestepr.org
SUMMARY:Visita Socio | One Stop Careers Center of PR
DESCRIPTION:Programa de Reintegración de Ex-Ofensores bajo Second Change Act
URL:https://conexionlaboralsurestepr.org/event/vista-socio-one-stop-careers-center-of-pr/2029-08-22/
CATEGORIES:Socios
END:VEVENT
BEGIN:VEVENT
DTSTART;TZID=America/Puerto_Rico:20290823T080000
DTEND;TZID=America/Puerto_Rico:20290823T163000
DTSTAMP:20260424T133806
CREATED:20251031T153427Z
LAST-MODIFIED:20251031T173748Z
UID:10000996-1882166400-1882197000@conexionlaboralsurestepr.org
SUMMARY:Visita Socio | Título I - B
DESCRIPTION:Programa Jóvenes\, Adultos y Desplazados
URL:https://conexionlaboralsurestepr.org/event/visita-socios-titulo-i-b/2029-08-23/
CATEGORIES:Socios
END:VEVENT
BEGIN:VEVENT
DTSTART;TZID=America/Puerto_Rico:20290823T080000
DTEND;TZID=America/Puerto_Rico:20290823T163000
DTSTAMP:20260424T133806
CREATED:20251031T173045Z
LAST-MODIFIED:20251204T204704Z
UID:10002822-1882166400-1882197000@conexionlaboralsurestepr.org
SUMMARY:Visita Socio | Departamento del Trabajo y Recursos Humanos (DTRH)
DESCRIPTION:Programa Veteranos (Capítulo 41 Título 38 del Código de EU)\nServicio de Empleo\, Programa Agrícola y Programa RESEA\nPrograma Seguro por Desempleo
URL:https://conexionlaboralsurestepr.org/event/vista-socio-departamento-del-trabajo-y-recursos-humanos-dtrh/2029-08-23/
CATEGORIES:Socios
END:VEVENT
BEGIN:VEVENT
DTSTART;TZID=America/Puerto_Rico:20290823T080000
DTEND;TZID=America/Puerto_Rico:20290823T163000
DTSTAMP:20260424T133806
CREATED:20251103T184914Z
LAST-MODIFIED:20251204T204647Z
UID:10003734-1882166400-1882197000@conexionlaboralsurestepr.org
SUMMARY:Visita Socio | Título II - Departamento de Educación
DESCRIPTION:Programa de Educación y Literacia de Adultos
URL:https://conexionlaboralsurestepr.org/event/vista-socio-titulo-ii-departamento-de-educacion/2029-08-23/
CATEGORIES:Socios
END:VEVENT
BEGIN:VEVENT
DTSTART;TZID=America/Puerto_Rico:20290823T080000
DTEND;TZID=America/Puerto_Rico:20290823T163000
DTSTAMP:20260424T133807
CREATED:20251103T185220Z
LAST-MODIFIED:20251204T204656Z
UID:10005312-1882166400-1882197000@conexionlaboralsurestepr.org
SUMMARY:Visita Socio | One Stop Careers Center of PR
DESCRIPTION:Programa de Reintegración de Ex-Ofensores bajo Second Change Act
URL:https://conexionlaboralsurestepr.org/event/vista-socio-one-stop-careers-center-of-pr/2029-08-23/
CATEGORIES:Socios
END:VEVENT
BEGIN:VEVENT
DTSTART;TZID=America/Puerto_Rico:20290824T080000
DTEND;TZID=America/Puerto_Rico:20290824T163000
DTSTAMP:20260424T133807
CREATED:20251031T153427Z
LAST-MODIFIED:20251031T173748Z
UID:10001586-1882252800-1882283400@conexionlaboralsurestepr.org
SUMMARY:Visita Socio | Título I - B
DESCRIPTION:Programa Jóvenes\, Adultos y Desplazados
URL:https://conexionlaboralsurestepr.org/event/visita-socios-titulo-i-b/2029-08-24/
CATEGORIES:Socios
END:VEVENT
BEGIN:VEVENT
DTSTART;TZID=America/Puerto_Rico:20290824T080000
DTEND;TZID=America/Puerto_Rico:20290824T163000
DTSTAMP:20260424T133807
CREATED:20251031T173045Z
LAST-MODIFIED:20251204T204704Z
UID:10002823-1882252800-1882283400@conexionlaboralsurestepr.org
SUMMARY:Visita Socio | Departamento del Trabajo y Recursos Humanos (DTRH)
DESCRIPTION:Programa Veteranos (Capítulo 41 Título 38 del Código de EU)\nServicio de Empleo\, Programa Agrícola y Programa RESEA\nPrograma Seguro por Desempleo
URL:https://conexionlaboralsurestepr.org/event/vista-socio-departamento-del-trabajo-y-recursos-humanos-dtrh/2029-08-24/
CATEGORIES:Socios
END:VEVENT
BEGIN:VEVENT
DTSTART;TZID=America/Puerto_Rico:20290824T080000
DTEND;TZID=America/Puerto_Rico:20290824T163000
DTSTAMP:20260424T133807
CREATED:20251103T185220Z
LAST-MODIFIED:20251204T204656Z
UID:10005313-1882252800-1882283400@conexionlaboralsurestepr.org
SUMMARY:Visita Socio | One Stop Careers Center of PR
DESCRIPTION:Programa de Reintegración de Ex-Ofensores bajo Second Change Act
URL:https://conexionlaboralsurestepr.org/event/vista-socio-one-stop-careers-center-of-pr/2029-08-24/
CATEGORIES:Socios
END:VEVENT
BEGIN:VEVENT
DTSTART;TZID=America/Puerto_Rico:20290826T080000
DTEND;TZID=America/Puerto_Rico:20290826T163000
DTSTAMP:20260424T133807
CREATED:20251103T185220Z
LAST-MODIFIED:20251204T204656Z
UID:10005314-1882425600-1882456200@conexionlaboralsurestepr.org
SUMMARY:Visita Socio | One Stop Careers Center of PR
DESCRIPTION:Programa de Reintegración de Ex-Ofensores bajo Second Change Act
URL:https://conexionlaboralsurestepr.org/event/vista-socio-one-stop-careers-center-of-pr/2029-08-26/
CATEGORIES:Socios
END:VEVENT
END:VCALENDAR