BEGIN:VCALENDAR
VERSION:2.0
PRODID:-//Conexión Laboral Sureste - ECPv6.15.20//NONSGML v1.0//EN
CALSCALE:GREGORIAN
METHOD:PUBLISH
X-ORIGINAL-URL:https://conexionlaboralsurestepr.org
X-WR-CALDESC:Events for Conexión Laboral Sureste
REFRESH-INTERVAL;VALUE=DURATION:PT1H
X-Robots-Tag:noindex
X-PUBLISHED-TTL:PT1H
BEGIN:VTIMEZONE
TZID:America/Puerto_Rico
BEGIN:STANDARD
TZOFFSETFROM:-0400
TZOFFSETTO:-0400
TZNAME:AST
DTSTART:20280101T000000
END:STANDARD
END:VTIMEZONE
BEGIN:VEVENT
DTSTART;TZID=America/Puerto_Rico:20290924T080000
DTEND;TZID=America/Puerto_Rico:20290924T163000
DTSTAMP:20260424T150923
CREATED:20251031T153427Z
LAST-MODIFIED:20251031T173748Z
UID:10001018-1884931200-1884961800@conexionlaboralsurestepr.org
SUMMARY:Visita Socio | Título I - B
DESCRIPTION:Programa Jóvenes\, Adultos y Desplazados
URL:https://conexionlaboralsurestepr.org/event/visita-socios-titulo-i-b/2029-09-24/
CATEGORIES:Socios
END:VEVENT
BEGIN:VEVENT
DTSTART;TZID=America/Puerto_Rico:20290924T080000
DTEND;TZID=America/Puerto_Rico:20290924T163000
DTSTAMP:20260424T150923
CREATED:20251031T173045Z
LAST-MODIFIED:20251204T204704Z
UID:10002844-1884931200-1884961800@conexionlaboralsurestepr.org
SUMMARY:Visita Socio | Departamento del Trabajo y Recursos Humanos (DTRH)
DESCRIPTION:Programa Veteranos (Capítulo 41 Título 38 del Código de EU)\nServicio de Empleo\, Programa Agrícola y Programa RESEA\nPrograma Seguro por Desempleo
URL:https://conexionlaboralsurestepr.org/event/vista-socio-departamento-del-trabajo-y-recursos-humanos-dtrh/2029-09-24/
CATEGORIES:Socios
END:VEVENT
BEGIN:VEVENT
DTSTART;TZID=America/Puerto_Rico:20290924T080000
DTEND;TZID=America/Puerto_Rico:20290924T163000
DTSTAMP:20260424T150923
CREATED:20251103T185220Z
LAST-MODIFIED:20251204T204656Z
UID:10005339-1884931200-1884961800@conexionlaboralsurestepr.org
SUMMARY:Visita Socio | One Stop Careers Center of PR
DESCRIPTION:Programa de Reintegración de Ex-Ofensores bajo Second Change Act
URL:https://conexionlaboralsurestepr.org/event/vista-socio-one-stop-careers-center-of-pr/2029-09-24/
CATEGORIES:Socios
END:VEVENT
BEGIN:VEVENT
DTSTART;TZID=America/Puerto_Rico:20290925T080000
DTEND;TZID=America/Puerto_Rico:20290925T163000
DTSTAMP:20260424T150923
CREATED:20251031T153427Z
LAST-MODIFIED:20251031T173748Z
UID:10001019-1885017600-1885048200@conexionlaboralsurestepr.org
SUMMARY:Visita Socio | Título I - B
DESCRIPTION:Programa Jóvenes\, Adultos y Desplazados
URL:https://conexionlaboralsurestepr.org/event/visita-socios-titulo-i-b/2029-09-25/
CATEGORIES:Socios
END:VEVENT
BEGIN:VEVENT
DTSTART;TZID=America/Puerto_Rico:20290925T080000
DTEND;TZID=America/Puerto_Rico:20290925T163000
DTSTAMP:20260424T150923
CREATED:20251031T173045Z
LAST-MODIFIED:20251204T204704Z
UID:10002845-1885017600-1885048200@conexionlaboralsurestepr.org
SUMMARY:Visita Socio | Departamento del Trabajo y Recursos Humanos (DTRH)
DESCRIPTION:Programa Veteranos (Capítulo 41 Título 38 del Código de EU)\nServicio de Empleo\, Programa Agrícola y Programa RESEA\nPrograma Seguro por Desempleo
URL:https://conexionlaboralsurestepr.org/event/vista-socio-departamento-del-trabajo-y-recursos-humanos-dtrh/2029-09-25/
CATEGORIES:Socios
END:VEVENT
BEGIN:VEVENT
DTSTART;TZID=America/Puerto_Rico:20290925T080000
DTEND;TZID=America/Puerto_Rico:20290925T163000
DTSTAMP:20260424T150923
CREATED:20251103T185220Z
LAST-MODIFIED:20251204T204656Z
UID:10005340-1885017600-1885048200@conexionlaboralsurestepr.org
SUMMARY:Visita Socio | One Stop Careers Center of PR
DESCRIPTION:Programa de Reintegración de Ex-Ofensores bajo Second Change Act
URL:https://conexionlaboralsurestepr.org/event/vista-socio-one-stop-careers-center-of-pr/2029-09-25/
CATEGORIES:Socios
END:VEVENT
BEGIN:VEVENT
DTSTART;TZID=America/Puerto_Rico:20290926T080000
DTEND;TZID=America/Puerto_Rico:20290926T120000
DTSTAMP:20260424T150923
CREATED:20251103T185047Z
LAST-MODIFIED:20251204T204622Z
UID:10004009-1885104000-1885118400@conexionlaboralsurestepr.org
SUMMARY:Visita Socio | Título IV - "Social Security Act" Departamento de la Familia
DESCRIPTION:Programa TANF (Temporary Assistance for Needy Families)
URL:https://conexionlaboralsurestepr.org/event/vista-socio-titulo-iv-social-security-act-departamento-de-la-familia/2029-09-26/
CATEGORIES:Socios
END:VEVENT
BEGIN:VEVENT
DTSTART;TZID=America/Puerto_Rico:20290926T080000
DTEND;TZID=America/Puerto_Rico:20290926T163000
DTSTAMP:20260424T150923
CREATED:20251031T153427Z
LAST-MODIFIED:20251031T173748Z
UID:10001020-1885104000-1885134600@conexionlaboralsurestepr.org
SUMMARY:Visita Socio | Título I - B
DESCRIPTION:Programa Jóvenes\, Adultos y Desplazados
URL:https://conexionlaboralsurestepr.org/event/visita-socios-titulo-i-b/2029-09-26/
CATEGORIES:Socios
END:VEVENT
BEGIN:VEVENT
DTSTART;TZID=America/Puerto_Rico:20290926T080000
DTEND;TZID=America/Puerto_Rico:20290926T163000
DTSTAMP:20260424T150923
CREATED:20251031T173045Z
LAST-MODIFIED:20251204T204704Z
UID:10002846-1885104000-1885134600@conexionlaboralsurestepr.org
SUMMARY:Visita Socio | Departamento del Trabajo y Recursos Humanos (DTRH)
DESCRIPTION:Programa Veteranos (Capítulo 41 Título 38 del Código de EU)\nServicio de Empleo\, Programa Agrícola y Programa RESEA\nPrograma Seguro por Desempleo
URL:https://conexionlaboralsurestepr.org/event/vista-socio-departamento-del-trabajo-y-recursos-humanos-dtrh/2029-09-26/
CATEGORIES:Socios
END:VEVENT
BEGIN:VEVENT
DTSTART;TZID=America/Puerto_Rico:20290926T080000
DTEND;TZID=America/Puerto_Rico:20290926T163000
DTSTAMP:20260424T150923
CREATED:20251103T185220Z
LAST-MODIFIED:20251204T204656Z
UID:10005341-1885104000-1885134600@conexionlaboralsurestepr.org
SUMMARY:Visita Socio | One Stop Careers Center of PR
DESCRIPTION:Programa de Reintegración de Ex-Ofensores bajo Second Change Act
URL:https://conexionlaboralsurestepr.org/event/vista-socio-one-stop-careers-center-of-pr/2029-09-26/
CATEGORIES:Socios
END:VEVENT
BEGIN:VEVENT
DTSTART;TZID=America/Puerto_Rico:20290927T080000
DTEND;TZID=America/Puerto_Rico:20290927T163000
DTSTAMP:20260424T150923
CREATED:20251031T153427Z
LAST-MODIFIED:20251031T173748Z
UID:10001021-1885190400-1885221000@conexionlaboralsurestepr.org
SUMMARY:Visita Socio | Título I - B
DESCRIPTION:Programa Jóvenes\, Adultos y Desplazados
URL:https://conexionlaboralsurestepr.org/event/visita-socios-titulo-i-b/2029-09-27/
CATEGORIES:Socios
END:VEVENT
BEGIN:VEVENT
DTSTART;TZID=America/Puerto_Rico:20290927T080000
DTEND;TZID=America/Puerto_Rico:20290927T163000
DTSTAMP:20260424T150923
CREATED:20251031T173045Z
LAST-MODIFIED:20251204T204704Z
UID:10002847-1885190400-1885221000@conexionlaboralsurestepr.org
SUMMARY:Visita Socio | Departamento del Trabajo y Recursos Humanos (DTRH)
DESCRIPTION:Programa Veteranos (Capítulo 41 Título 38 del Código de EU)\nServicio de Empleo\, Programa Agrícola y Programa RESEA\nPrograma Seguro por Desempleo
URL:https://conexionlaboralsurestepr.org/event/vista-socio-departamento-del-trabajo-y-recursos-humanos-dtrh/2029-09-27/
CATEGORIES:Socios
END:VEVENT
BEGIN:VEVENT
DTSTART;TZID=America/Puerto_Rico:20290927T080000
DTEND;TZID=America/Puerto_Rico:20290927T163000
DTSTAMP:20260424T150923
CREATED:20251103T184914Z
LAST-MODIFIED:20251204T204647Z
UID:10003739-1885190400-1885221000@conexionlaboralsurestepr.org
SUMMARY:Visita Socio | Título II - Departamento de Educación
DESCRIPTION:Programa de Educación y Literacia de Adultos
URL:https://conexionlaboralsurestepr.org/event/vista-socio-titulo-ii-departamento-de-educacion/2029-09-27/
CATEGORIES:Socios
END:VEVENT
BEGIN:VEVENT
DTSTART;TZID=America/Puerto_Rico:20290927T080000
DTEND;TZID=America/Puerto_Rico:20290927T163000
DTSTAMP:20260424T150924
CREATED:20251103T185220Z
LAST-MODIFIED:20251204T204656Z
UID:10005342-1885190400-1885221000@conexionlaboralsurestepr.org
SUMMARY:Visita Socio | One Stop Careers Center of PR
DESCRIPTION:Programa de Reintegración de Ex-Ofensores bajo Second Change Act
URL:https://conexionlaboralsurestepr.org/event/vista-socio-one-stop-careers-center-of-pr/2029-09-27/
CATEGORIES:Socios
END:VEVENT
BEGIN:VEVENT
DTSTART;TZID=America/Puerto_Rico:20290928T080000
DTEND;TZID=America/Puerto_Rico:20290928T163000
DTSTAMP:20260424T150924
CREATED:20251031T153427Z
LAST-MODIFIED:20251031T173748Z
UID:10001591-1885276800-1885307400@conexionlaboralsurestepr.org
SUMMARY:Visita Socio | Título I - B
DESCRIPTION:Programa Jóvenes\, Adultos y Desplazados
URL:https://conexionlaboralsurestepr.org/event/visita-socios-titulo-i-b/2029-09-28/
CATEGORIES:Socios
END:VEVENT
BEGIN:VEVENT
DTSTART;TZID=America/Puerto_Rico:20290928T080000
DTEND;TZID=America/Puerto_Rico:20290928T163000
DTSTAMP:20260424T150924
CREATED:20251031T173045Z
LAST-MODIFIED:20251204T204704Z
UID:10002848-1885276800-1885307400@conexionlaboralsurestepr.org
SUMMARY:Visita Socio | Departamento del Trabajo y Recursos Humanos (DTRH)
DESCRIPTION:Programa Veteranos (Capítulo 41 Título 38 del Código de EU)\nServicio de Empleo\, Programa Agrícola y Programa RESEA\nPrograma Seguro por Desempleo
URL:https://conexionlaboralsurestepr.org/event/vista-socio-departamento-del-trabajo-y-recursos-humanos-dtrh/2029-09-28/
CATEGORIES:Socios
END:VEVENT
BEGIN:VEVENT
DTSTART;TZID=America/Puerto_Rico:20290928T080000
DTEND;TZID=America/Puerto_Rico:20290928T163000
DTSTAMP:20260424T150924
CREATED:20251103T185220Z
LAST-MODIFIED:20251204T204656Z
UID:10005343-1885276800-1885307400@conexionlaboralsurestepr.org
SUMMARY:Visita Socio | One Stop Careers Center of PR
DESCRIPTION:Programa de Reintegración de Ex-Ofensores bajo Second Change Act
URL:https://conexionlaboralsurestepr.org/event/vista-socio-one-stop-careers-center-of-pr/2029-09-28/
CATEGORIES:Socios
END:VEVENT
BEGIN:VEVENT
DTSTART;TZID=America/Puerto_Rico:20290930T080000
DTEND;TZID=America/Puerto_Rico:20290930T163000
DTSTAMP:20260424T150924
CREATED:20251103T185220Z
LAST-MODIFIED:20251204T204656Z
UID:10005344-1885449600-1885480200@conexionlaboralsurestepr.org
SUMMARY:Visita Socio | One Stop Careers Center of PR
DESCRIPTION:Programa de Reintegración de Ex-Ofensores bajo Second Change Act
URL:https://conexionlaboralsurestepr.org/event/vista-socio-one-stop-careers-center-of-pr/2029-09-30/
CATEGORIES:Socios
END:VEVENT
END:VCALENDAR