BEGIN:VCALENDAR
VERSION:2.0
PRODID:-//Conexión Laboral Sureste - ECPv6.15.20//NONSGML v1.0//EN
CALSCALE:GREGORIAN
METHOD:PUBLISH
X-ORIGINAL-URL:https://conexionlaboralsurestepr.org
X-WR-CALDESC:Events for Conexión Laboral Sureste
REFRESH-INTERVAL;VALUE=DURATION:PT1H
X-Robots-Tag:noindex
X-PUBLISHED-TTL:PT1H
BEGIN:VTIMEZONE
TZID:America/Puerto_Rico
BEGIN:STANDARD
TZOFFSETFROM:-0400
TZOFFSETTO:-0400
TZNAME:AST
DTSTART:20280101T000000
END:STANDARD
END:VTIMEZONE
BEGIN:VEVENT
DTSTART;TZID=America/Puerto_Rico:20291112T080000
DTEND;TZID=America/Puerto_Rico:20291112T163000
DTSTAMP:20260424T220933
CREATED:20251031T153427Z
LAST-MODIFIED:20251031T173748Z
UID:10001053-1889164800-1889195400@conexionlaboralsurestepr.org
SUMMARY:Visita Socio | Título I - B
DESCRIPTION:Programa Jóvenes\, Adultos y Desplazados
URL:https://conexionlaboralsurestepr.org/event/visita-socios-titulo-i-b/2029-11-12/
CATEGORIES:Socios
END:VEVENT
BEGIN:VEVENT
DTSTART;TZID=America/Puerto_Rico:20291112T080000
DTEND;TZID=America/Puerto_Rico:20291112T163000
DTSTAMP:20260424T220933
CREATED:20251031T173045Z
LAST-MODIFIED:20251204T204704Z
UID:10002879-1889164800-1889195400@conexionlaboralsurestepr.org
SUMMARY:Visita Socio | Departamento del Trabajo y Recursos Humanos (DTRH)
DESCRIPTION:Programa Veteranos (Capítulo 41 Título 38 del Código de EU)\nServicio de Empleo\, Programa Agrícola y Programa RESEA\nPrograma Seguro por Desempleo
URL:https://conexionlaboralsurestepr.org/event/vista-socio-departamento-del-trabajo-y-recursos-humanos-dtrh/2029-11-12/
CATEGORIES:Socios
END:VEVENT
BEGIN:VEVENT
DTSTART;TZID=America/Puerto_Rico:20291112T080000
DTEND;TZID=America/Puerto_Rico:20291112T163000
DTSTAMP:20260424T220933
CREATED:20251103T185220Z
LAST-MODIFIED:20251204T204656Z
UID:10005381-1889164800-1889195400@conexionlaboralsurestepr.org
SUMMARY:Visita Socio | One Stop Careers Center of PR
DESCRIPTION:Programa de Reintegración de Ex-Ofensores bajo Second Change Act
URL:https://conexionlaboralsurestepr.org/event/vista-socio-one-stop-careers-center-of-pr/2029-11-12/
CATEGORIES:Socios
END:VEVENT
BEGIN:VEVENT
DTSTART;TZID=America/Puerto_Rico:20291113T080000
DTEND;TZID=America/Puerto_Rico:20291113T163000
DTSTAMP:20260424T220933
CREATED:20251031T153427Z
LAST-MODIFIED:20251031T173748Z
UID:10001054-1889251200-1889281800@conexionlaboralsurestepr.org
SUMMARY:Visita Socio | Título I - B
DESCRIPTION:Programa Jóvenes\, Adultos y Desplazados
URL:https://conexionlaboralsurestepr.org/event/visita-socios-titulo-i-b/2029-11-13/
CATEGORIES:Socios
END:VEVENT
BEGIN:VEVENT
DTSTART;TZID=America/Puerto_Rico:20291113T080000
DTEND;TZID=America/Puerto_Rico:20291113T163000
DTSTAMP:20260424T220933
CREATED:20251031T173045Z
LAST-MODIFIED:20251204T204704Z
UID:10002880-1889251200-1889281800@conexionlaboralsurestepr.org
SUMMARY:Visita Socio | Departamento del Trabajo y Recursos Humanos (DTRH)
DESCRIPTION:Programa Veteranos (Capítulo 41 Título 38 del Código de EU)\nServicio de Empleo\, Programa Agrícola y Programa RESEA\nPrograma Seguro por Desempleo
URL:https://conexionlaboralsurestepr.org/event/vista-socio-departamento-del-trabajo-y-recursos-humanos-dtrh/2029-11-13/
CATEGORIES:Socios
END:VEVENT
BEGIN:VEVENT
DTSTART;TZID=America/Puerto_Rico:20291113T080000
DTEND;TZID=America/Puerto_Rico:20291113T163000
DTSTAMP:20260424T220933
CREATED:20251103T185220Z
LAST-MODIFIED:20251204T204656Z
UID:10005382-1889251200-1889281800@conexionlaboralsurestepr.org
SUMMARY:Visita Socio | One Stop Careers Center of PR
DESCRIPTION:Programa de Reintegración de Ex-Ofensores bajo Second Change Act
URL:https://conexionlaboralsurestepr.org/event/vista-socio-one-stop-careers-center-of-pr/2029-11-13/
CATEGORIES:Socios
END:VEVENT
BEGIN:VEVENT
DTSTART;TZID=America/Puerto_Rico:20291114T080000
DTEND;TZID=America/Puerto_Rico:20291114T120000
DTSTAMP:20260424T220933
CREATED:20251103T185047Z
LAST-MODIFIED:20251204T204622Z
UID:10004016-1889337600-1889352000@conexionlaboralsurestepr.org
SUMMARY:Visita Socio | Título IV - "Social Security Act" Departamento de la Familia
DESCRIPTION:Programa TANF (Temporary Assistance for Needy Families)
URL:https://conexionlaboralsurestepr.org/event/vista-socio-titulo-iv-social-security-act-departamento-de-la-familia/2029-11-14/
CATEGORIES:Socios
END:VEVENT
BEGIN:VEVENT
DTSTART;TZID=America/Puerto_Rico:20291114T080000
DTEND;TZID=America/Puerto_Rico:20291114T163000
DTSTAMP:20260424T220933
CREATED:20251031T153427Z
LAST-MODIFIED:20251031T173748Z
UID:10001055-1889337600-1889368200@conexionlaboralsurestepr.org
SUMMARY:Visita Socio | Título I - B
DESCRIPTION:Programa Jóvenes\, Adultos y Desplazados
URL:https://conexionlaboralsurestepr.org/event/visita-socios-titulo-i-b/2029-11-14/
CATEGORIES:Socios
END:VEVENT
BEGIN:VEVENT
DTSTART;TZID=America/Puerto_Rico:20291114T080000
DTEND;TZID=America/Puerto_Rico:20291114T163000
DTSTAMP:20260424T220933
CREATED:20251031T173045Z
LAST-MODIFIED:20251204T204704Z
UID:10002881-1889337600-1889368200@conexionlaboralsurestepr.org
SUMMARY:Visita Socio | Departamento del Trabajo y Recursos Humanos (DTRH)
DESCRIPTION:Programa Veteranos (Capítulo 41 Título 38 del Código de EU)\nServicio de Empleo\, Programa Agrícola y Programa RESEA\nPrograma Seguro por Desempleo
URL:https://conexionlaboralsurestepr.org/event/vista-socio-departamento-del-trabajo-y-recursos-humanos-dtrh/2029-11-14/
CATEGORIES:Socios
END:VEVENT
BEGIN:VEVENT
DTSTART;TZID=America/Puerto_Rico:20291114T080000
DTEND;TZID=America/Puerto_Rico:20291114T163000
DTSTAMP:20260424T220933
CREATED:20251103T185220Z
LAST-MODIFIED:20251204T204656Z
UID:10005383-1889337600-1889368200@conexionlaboralsurestepr.org
SUMMARY:Visita Socio | One Stop Careers Center of PR
DESCRIPTION:Programa de Reintegración de Ex-Ofensores bajo Second Change Act
URL:https://conexionlaboralsurestepr.org/event/vista-socio-one-stop-careers-center-of-pr/2029-11-14/
CATEGORIES:Socios
END:VEVENT
BEGIN:VEVENT
DTSTART;TZID=America/Puerto_Rico:20291115T080000
DTEND;TZID=America/Puerto_Rico:20291115T163000
DTSTAMP:20260424T220933
CREATED:20251031T153427Z
LAST-MODIFIED:20251031T173748Z
UID:10001056-1889424000-1889454600@conexionlaboralsurestepr.org
SUMMARY:Visita Socio | Título I - B
DESCRIPTION:Programa Jóvenes\, Adultos y Desplazados
URL:https://conexionlaboralsurestepr.org/event/visita-socios-titulo-i-b/2029-11-15/
CATEGORIES:Socios
END:VEVENT
BEGIN:VEVENT
DTSTART;TZID=America/Puerto_Rico:20291115T080000
DTEND;TZID=America/Puerto_Rico:20291115T163000
DTSTAMP:20260424T220933
CREATED:20251031T173045Z
LAST-MODIFIED:20251204T204704Z
UID:10002882-1889424000-1889454600@conexionlaboralsurestepr.org
SUMMARY:Visita Socio | Departamento del Trabajo y Recursos Humanos (DTRH)
DESCRIPTION:Programa Veteranos (Capítulo 41 Título 38 del Código de EU)\nServicio de Empleo\, Programa Agrícola y Programa RESEA\nPrograma Seguro por Desempleo
URL:https://conexionlaboralsurestepr.org/event/vista-socio-departamento-del-trabajo-y-recursos-humanos-dtrh/2029-11-15/
CATEGORIES:Socios
END:VEVENT
BEGIN:VEVENT
DTSTART;TZID=America/Puerto_Rico:20291115T080000
DTEND;TZID=America/Puerto_Rico:20291115T163000
DTSTAMP:20260424T220933
CREATED:20251103T184914Z
LAST-MODIFIED:20251204T204647Z
UID:10003746-1889424000-1889454600@conexionlaboralsurestepr.org
SUMMARY:Visita Socio | Título II - Departamento de Educación
DESCRIPTION:Programa de Educación y Literacia de Adultos
URL:https://conexionlaboralsurestepr.org/event/vista-socio-titulo-ii-departamento-de-educacion/2029-11-15/
CATEGORIES:Socios
END:VEVENT
BEGIN:VEVENT
DTSTART;TZID=America/Puerto_Rico:20291115T080000
DTEND;TZID=America/Puerto_Rico:20291115T163000
DTSTAMP:20260424T220933
CREATED:20251103T185220Z
LAST-MODIFIED:20251204T204656Z
UID:10005384-1889424000-1889454600@conexionlaboralsurestepr.org
SUMMARY:Visita Socio | One Stop Careers Center of PR
DESCRIPTION:Programa de Reintegración de Ex-Ofensores bajo Second Change Act
URL:https://conexionlaboralsurestepr.org/event/vista-socio-one-stop-careers-center-of-pr/2029-11-15/
CATEGORIES:Socios
END:VEVENT
BEGIN:VEVENT
DTSTART;TZID=America/Puerto_Rico:20291116T080000
DTEND;TZID=America/Puerto_Rico:20291116T163000
DTSTAMP:20260424T220933
CREATED:20251031T153427Z
LAST-MODIFIED:20251031T173748Z
UID:10001598-1889510400-1889541000@conexionlaboralsurestepr.org
SUMMARY:Visita Socio | Título I - B
DESCRIPTION:Programa Jóvenes\, Adultos y Desplazados
URL:https://conexionlaboralsurestepr.org/event/visita-socios-titulo-i-b/2029-11-16/
CATEGORIES:Socios
END:VEVENT
BEGIN:VEVENT
DTSTART;TZID=America/Puerto_Rico:20291116T080000
DTEND;TZID=America/Puerto_Rico:20291116T163000
DTSTAMP:20260424T220933
CREATED:20251031T173045Z
LAST-MODIFIED:20251204T204704Z
UID:10002883-1889510400-1889541000@conexionlaboralsurestepr.org
SUMMARY:Visita Socio | Departamento del Trabajo y Recursos Humanos (DTRH)
DESCRIPTION:Programa Veteranos (Capítulo 41 Título 38 del Código de EU)\nServicio de Empleo\, Programa Agrícola y Programa RESEA\nPrograma Seguro por Desempleo
URL:https://conexionlaboralsurestepr.org/event/vista-socio-departamento-del-trabajo-y-recursos-humanos-dtrh/2029-11-16/
CATEGORIES:Socios
END:VEVENT
BEGIN:VEVENT
DTSTART;TZID=America/Puerto_Rico:20291116T080000
DTEND;TZID=America/Puerto_Rico:20291116T163000
DTSTAMP:20260424T220933
CREATED:20251103T185220Z
LAST-MODIFIED:20251204T204656Z
UID:10005385-1889510400-1889541000@conexionlaboralsurestepr.org
SUMMARY:Visita Socio | One Stop Careers Center of PR
DESCRIPTION:Programa de Reintegración de Ex-Ofensores bajo Second Change Act
URL:https://conexionlaboralsurestepr.org/event/vista-socio-one-stop-careers-center-of-pr/2029-11-16/
CATEGORIES:Socios
END:VEVENT
BEGIN:VEVENT
DTSTART;TZID=America/Puerto_Rico:20291118T080000
DTEND;TZID=America/Puerto_Rico:20291118T163000
DTSTAMP:20260424T220933
CREATED:20251103T185220Z
LAST-MODIFIED:20251204T204656Z
UID:10005386-1889683200-1889713800@conexionlaboralsurestepr.org
SUMMARY:Visita Socio | One Stop Careers Center of PR
DESCRIPTION:Programa de Reintegración de Ex-Ofensores bajo Second Change Act
URL:https://conexionlaboralsurestepr.org/event/vista-socio-one-stop-careers-center-of-pr/2029-11-18/
CATEGORIES:Socios
END:VEVENT
END:VCALENDAR