BEGIN:VCALENDAR
VERSION:2.0
PRODID:-//Conexión Laboral Sureste - ECPv6.15.20//NONSGML v1.0//EN
CALSCALE:GREGORIAN
METHOD:PUBLISH
X-WR-CALNAME:Conexión Laboral Sureste
X-ORIGINAL-URL:https://conexionlaboralsurestepr.org
X-WR-CALDESC:Events for Conexión Laboral Sureste
REFRESH-INTERVAL;VALUE=DURATION:PT1H
X-Robots-Tag:noindex
X-PUBLISHED-TTL:PT1H
BEGIN:VTIMEZONE
TZID:America/Puerto_Rico
BEGIN:STANDARD
TZOFFSETFROM:-0400
TZOFFSETTO:-0400
TZNAME:AST
DTSTART:20280101T000000
END:STANDARD
END:VTIMEZONE
BEGIN:VEVENT
DTSTART;TZID=America/Puerto_Rico:20291119T080000
DTEND;TZID=America/Puerto_Rico:20291119T163000
DTSTAMP:20260424T220643
CREATED:20251031T153427Z
LAST-MODIFIED:20251031T173748Z
UID:10001058-1889769600-1889800200@conexionlaboralsurestepr.org
SUMMARY:Visita Socio | Título I - B
DESCRIPTION:Programa Jóvenes\, Adultos y Desplazados
URL:https://conexionlaboralsurestepr.org/event/visita-socios-titulo-i-b/2029-11-19/
CATEGORIES:Socios
END:VEVENT
BEGIN:VEVENT
DTSTART;TZID=America/Puerto_Rico:20291119T080000
DTEND;TZID=America/Puerto_Rico:20291119T163000
DTSTAMP:20260424T220643
CREATED:20251031T173045Z
LAST-MODIFIED:20251204T204704Z
UID:10002884-1889769600-1889800200@conexionlaboralsurestepr.org
SUMMARY:Visita Socio | Departamento del Trabajo y Recursos Humanos (DTRH)
DESCRIPTION:Programa Veteranos (Capítulo 41 Título 38 del Código de EU)\nServicio de Empleo\, Programa Agrícola y Programa RESEA\nPrograma Seguro por Desempleo
URL:https://conexionlaboralsurestepr.org/event/vista-socio-departamento-del-trabajo-y-recursos-humanos-dtrh/2029-11-19/
CATEGORIES:Socios
END:VEVENT
BEGIN:VEVENT
DTSTART;TZID=America/Puerto_Rico:20291119T080000
DTEND;TZID=America/Puerto_Rico:20291119T163000
DTSTAMP:20260424T220643
CREATED:20251103T185220Z
LAST-MODIFIED:20251204T204656Z
UID:10005387-1889769600-1889800200@conexionlaboralsurestepr.org
SUMMARY:Visita Socio | One Stop Careers Center of PR
DESCRIPTION:Programa de Reintegración de Ex-Ofensores bajo Second Change Act
URL:https://conexionlaboralsurestepr.org/event/vista-socio-one-stop-careers-center-of-pr/2029-11-19/
CATEGORIES:Socios
END:VEVENT
BEGIN:VEVENT
DTSTART;TZID=America/Puerto_Rico:20291120T080000
DTEND;TZID=America/Puerto_Rico:20291120T163000
DTSTAMP:20260424T220643
CREATED:20251031T153427Z
LAST-MODIFIED:20251031T173748Z
UID:10001059-1889856000-1889886600@conexionlaboralsurestepr.org
SUMMARY:Visita Socio | Título I - B
DESCRIPTION:Programa Jóvenes\, Adultos y Desplazados
URL:https://conexionlaboralsurestepr.org/event/visita-socios-titulo-i-b/2029-11-20/
CATEGORIES:Socios
END:VEVENT
BEGIN:VEVENT
DTSTART;TZID=America/Puerto_Rico:20291120T080000
DTEND;TZID=America/Puerto_Rico:20291120T163000
DTSTAMP:20260424T220643
CREATED:20251031T173045Z
LAST-MODIFIED:20251204T204704Z
UID:10002885-1889856000-1889886600@conexionlaboralsurestepr.org
SUMMARY:Visita Socio | Departamento del Trabajo y Recursos Humanos (DTRH)
DESCRIPTION:Programa Veteranos (Capítulo 41 Título 38 del Código de EU)\nServicio de Empleo\, Programa Agrícola y Programa RESEA\nPrograma Seguro por Desempleo
URL:https://conexionlaboralsurestepr.org/event/vista-socio-departamento-del-trabajo-y-recursos-humanos-dtrh/2029-11-20/
CATEGORIES:Socios
END:VEVENT
BEGIN:VEVENT
DTSTART;TZID=America/Puerto_Rico:20291120T080000
DTEND;TZID=America/Puerto_Rico:20291120T163000
DTSTAMP:20260424T220643
CREATED:20251103T185220Z
LAST-MODIFIED:20251204T204656Z
UID:10005388-1889856000-1889886600@conexionlaboralsurestepr.org
SUMMARY:Visita Socio | One Stop Careers Center of PR
DESCRIPTION:Programa de Reintegración de Ex-Ofensores bajo Second Change Act
URL:https://conexionlaboralsurestepr.org/event/vista-socio-one-stop-careers-center-of-pr/2029-11-20/
CATEGORIES:Socios
END:VEVENT
BEGIN:VEVENT
DTSTART;TZID=America/Puerto_Rico:20291121T080000
DTEND;TZID=America/Puerto_Rico:20291121T120000
DTSTAMP:20260424T220643
CREATED:20251103T185047Z
LAST-MODIFIED:20251204T204622Z
UID:10004017-1889942400-1889956800@conexionlaboralsurestepr.org
SUMMARY:Visita Socio | Título IV - "Social Security Act" Departamento de la Familia
DESCRIPTION:Programa TANF (Temporary Assistance for Needy Families)
URL:https://conexionlaboralsurestepr.org/event/vista-socio-titulo-iv-social-security-act-departamento-de-la-familia/2029-11-21/
CATEGORIES:Socios
END:VEVENT
BEGIN:VEVENT
DTSTART;TZID=America/Puerto_Rico:20291121T080000
DTEND;TZID=America/Puerto_Rico:20291121T163000
DTSTAMP:20260424T220643
CREATED:20251031T153427Z
LAST-MODIFIED:20251031T173748Z
UID:10001060-1889942400-1889973000@conexionlaboralsurestepr.org
SUMMARY:Visita Socio | Título I - B
DESCRIPTION:Programa Jóvenes\, Adultos y Desplazados
URL:https://conexionlaboralsurestepr.org/event/visita-socios-titulo-i-b/2029-11-21/
CATEGORIES:Socios
END:VEVENT
BEGIN:VEVENT
DTSTART;TZID=America/Puerto_Rico:20291121T080000
DTEND;TZID=America/Puerto_Rico:20291121T163000
DTSTAMP:20260424T220643
CREATED:20251031T173045Z
LAST-MODIFIED:20251204T204704Z
UID:10002886-1889942400-1889973000@conexionlaboralsurestepr.org
SUMMARY:Visita Socio | Departamento del Trabajo y Recursos Humanos (DTRH)
DESCRIPTION:Programa Veteranos (Capítulo 41 Título 38 del Código de EU)\nServicio de Empleo\, Programa Agrícola y Programa RESEA\nPrograma Seguro por Desempleo
URL:https://conexionlaboralsurestepr.org/event/vista-socio-departamento-del-trabajo-y-recursos-humanos-dtrh/2029-11-21/
CATEGORIES:Socios
END:VEVENT
BEGIN:VEVENT
DTSTART;TZID=America/Puerto_Rico:20291121T080000
DTEND;TZID=America/Puerto_Rico:20291121T163000
DTSTAMP:20260424T220643
CREATED:20251103T185220Z
LAST-MODIFIED:20251204T204656Z
UID:10005389-1889942400-1889973000@conexionlaboralsurestepr.org
SUMMARY:Visita Socio | One Stop Careers Center of PR
DESCRIPTION:Programa de Reintegración de Ex-Ofensores bajo Second Change Act
URL:https://conexionlaboralsurestepr.org/event/vista-socio-one-stop-careers-center-of-pr/2029-11-21/
CATEGORIES:Socios
END:VEVENT
BEGIN:VEVENT
DTSTART;TZID=America/Puerto_Rico:20291122T080000
DTEND;TZID=America/Puerto_Rico:20291122T163000
DTSTAMP:20260424T220643
CREATED:20251031T153427Z
LAST-MODIFIED:20251031T173748Z
UID:10001061-1890028800-1890059400@conexionlaboralsurestepr.org
SUMMARY:Visita Socio | Título I - B
DESCRIPTION:Programa Jóvenes\, Adultos y Desplazados
URL:https://conexionlaboralsurestepr.org/event/visita-socios-titulo-i-b/2029-11-22/
CATEGORIES:Socios
END:VEVENT
BEGIN:VEVENT
DTSTART;TZID=America/Puerto_Rico:20291122T080000
DTEND;TZID=America/Puerto_Rico:20291122T163000
DTSTAMP:20260424T220643
CREATED:20251031T173045Z
LAST-MODIFIED:20251204T204704Z
UID:10002887-1890028800-1890059400@conexionlaboralsurestepr.org
SUMMARY:Visita Socio | Departamento del Trabajo y Recursos Humanos (DTRH)
DESCRIPTION:Programa Veteranos (Capítulo 41 Título 38 del Código de EU)\nServicio de Empleo\, Programa Agrícola y Programa RESEA\nPrograma Seguro por Desempleo
URL:https://conexionlaboralsurestepr.org/event/vista-socio-departamento-del-trabajo-y-recursos-humanos-dtrh/2029-11-22/
CATEGORIES:Socios
END:VEVENT
BEGIN:VEVENT
DTSTART;TZID=America/Puerto_Rico:20291122T080000
DTEND;TZID=America/Puerto_Rico:20291122T163000
DTSTAMP:20260424T220643
CREATED:20251103T184914Z
LAST-MODIFIED:20251204T204647Z
UID:10003747-1890028800-1890059400@conexionlaboralsurestepr.org
SUMMARY:Visita Socio | Título II - Departamento de Educación
DESCRIPTION:Programa de Educación y Literacia de Adultos
URL:https://conexionlaboralsurestepr.org/event/vista-socio-titulo-ii-departamento-de-educacion/2029-11-22/
CATEGORIES:Socios
END:VEVENT
BEGIN:VEVENT
DTSTART;TZID=America/Puerto_Rico:20291122T080000
DTEND;TZID=America/Puerto_Rico:20291122T163000
DTSTAMP:20260424T220643
CREATED:20251103T185220Z
LAST-MODIFIED:20251204T204656Z
UID:10005390-1890028800-1890059400@conexionlaboralsurestepr.org
SUMMARY:Visita Socio | One Stop Careers Center of PR
DESCRIPTION:Programa de Reintegración de Ex-Ofensores bajo Second Change Act
URL:https://conexionlaboralsurestepr.org/event/vista-socio-one-stop-careers-center-of-pr/2029-11-22/
CATEGORIES:Socios
END:VEVENT
BEGIN:VEVENT
DTSTART;TZID=America/Puerto_Rico:20291123T080000
DTEND;TZID=America/Puerto_Rico:20291123T163000
DTSTAMP:20260424T220643
CREATED:20251031T153427Z
LAST-MODIFIED:20251031T173748Z
UID:10001599-1890115200-1890145800@conexionlaboralsurestepr.org
SUMMARY:Visita Socio | Título I - B
DESCRIPTION:Programa Jóvenes\, Adultos y Desplazados
URL:https://conexionlaboralsurestepr.org/event/visita-socios-titulo-i-b/2029-11-23/
CATEGORIES:Socios
END:VEVENT
BEGIN:VEVENT
DTSTART;TZID=America/Puerto_Rico:20291123T080000
DTEND;TZID=America/Puerto_Rico:20291123T163000
DTSTAMP:20260424T220643
CREATED:20251031T173045Z
LAST-MODIFIED:20251204T204704Z
UID:10002888-1890115200-1890145800@conexionlaboralsurestepr.org
SUMMARY:Visita Socio | Departamento del Trabajo y Recursos Humanos (DTRH)
DESCRIPTION:Programa Veteranos (Capítulo 41 Título 38 del Código de EU)\nServicio de Empleo\, Programa Agrícola y Programa RESEA\nPrograma Seguro por Desempleo
URL:https://conexionlaboralsurestepr.org/event/vista-socio-departamento-del-trabajo-y-recursos-humanos-dtrh/2029-11-23/
CATEGORIES:Socios
END:VEVENT
BEGIN:VEVENT
DTSTART;TZID=America/Puerto_Rico:20291123T080000
DTEND;TZID=America/Puerto_Rico:20291123T163000
DTSTAMP:20260424T220643
CREATED:20251103T185220Z
LAST-MODIFIED:20251204T204656Z
UID:10005391-1890115200-1890145800@conexionlaboralsurestepr.org
SUMMARY:Visita Socio | One Stop Careers Center of PR
DESCRIPTION:Programa de Reintegración de Ex-Ofensores bajo Second Change Act
URL:https://conexionlaboralsurestepr.org/event/vista-socio-one-stop-careers-center-of-pr/2029-11-23/
CATEGORIES:Socios
END:VEVENT
BEGIN:VEVENT
DTSTART;TZID=America/Puerto_Rico:20291125T080000
DTEND;TZID=America/Puerto_Rico:20291125T163000
DTSTAMP:20260424T220643
CREATED:20251103T185220Z
LAST-MODIFIED:20251204T204656Z
UID:10005392-1890288000-1890318600@conexionlaboralsurestepr.org
SUMMARY:Visita Socio | One Stop Careers Center of PR
DESCRIPTION:Programa de Reintegración de Ex-Ofensores bajo Second Change Act
URL:https://conexionlaboralsurestepr.org/event/vista-socio-one-stop-careers-center-of-pr/2029-11-25/
CATEGORIES:Socios
END:VEVENT
END:VCALENDAR