BEGIN:VCALENDAR
VERSION:2.0
PRODID:-//Conexión Laboral Sureste - ECPv6.15.20//NONSGML v1.0//EN
CALSCALE:GREGORIAN
METHOD:PUBLISH
X-ORIGINAL-URL:https://conexionlaboralsurestepr.org
X-WR-CALDESC:Events for Conexión Laboral Sureste
REFRESH-INTERVAL;VALUE=DURATION:PT1H
X-Robots-Tag:noindex
X-PUBLISHED-TTL:PT1H
BEGIN:VTIMEZONE
TZID:America/Puerto_Rico
BEGIN:STANDARD
TZOFFSETFROM:-0400
TZOFFSETTO:-0400
TZNAME:AST
DTSTART:20280101T000000
END:STANDARD
END:VTIMEZONE
BEGIN:VEVENT
DTSTART;TZID=America/Puerto_Rico:20291231T080000
DTEND;TZID=America/Puerto_Rico:20291231T163000
DTSTAMP:20260424T220800
CREATED:20251031T153427Z
LAST-MODIFIED:20251031T173748Z
UID:10001088-1893398400-1893429000@conexionlaboralsurestepr.org
SUMMARY:Visita Socio | Título I - B
DESCRIPTION:Programa Jóvenes\, Adultos y Desplazados
URL:https://conexionlaboralsurestepr.org/event/visita-socios-titulo-i-b/2029-12-31/
CATEGORIES:Socios
END:VEVENT
BEGIN:VEVENT
DTSTART;TZID=America/Puerto_Rico:20291231T080000
DTEND;TZID=America/Puerto_Rico:20291231T163000
DTSTAMP:20260424T220800
CREATED:20251031T173045Z
LAST-MODIFIED:20251204T204704Z
UID:10002914-1893398400-1893429000@conexionlaboralsurestepr.org
SUMMARY:Visita Socio | Departamento del Trabajo y Recursos Humanos (DTRH)
DESCRIPTION:Programa Veteranos (Capítulo 41 Título 38 del Código de EU)\nServicio de Empleo\, Programa Agrícola y Programa RESEA\nPrograma Seguro por Desempleo
URL:https://conexionlaboralsurestepr.org/event/vista-socio-departamento-del-trabajo-y-recursos-humanos-dtrh/2029-12-31/
CATEGORIES:Socios
END:VEVENT
BEGIN:VEVENT
DTSTART;TZID=America/Puerto_Rico:20291231T080000
DTEND;TZID=America/Puerto_Rico:20291231T163000
DTSTAMP:20260424T220800
CREATED:20251103T185220Z
LAST-MODIFIED:20251204T204656Z
UID:10005423-1893398400-1893429000@conexionlaboralsurestepr.org
SUMMARY:Visita Socio | One Stop Careers Center of PR
DESCRIPTION:Programa de Reintegración de Ex-Ofensores bajo Second Change Act
URL:https://conexionlaboralsurestepr.org/event/vista-socio-one-stop-careers-center-of-pr/2029-12-31/
CATEGORIES:Socios
END:VEVENT
BEGIN:VEVENT
DTSTART;TZID=America/Puerto_Rico:20300101T080000
DTEND;TZID=America/Puerto_Rico:20300101T120000
DTSTAMP:20260424T220800
CREATED:20251103T184454Z
LAST-MODIFIED:20251204T204641Z
UID:10003455-1893484800-1893499200@conexionlaboralsurestepr.org
SUMMARY:Visita Socio | PathStone Corporation (Rural)
DESCRIPTION:Programa para Trabajadores Agrícolas Migrantes y Estacionales.\nPrograma Youth Build
URL:https://conexionlaboralsurestepr.org/event/vista-socio-pathstone-corporation-rural/2030-01-01/
CATEGORIES:Socios
END:VEVENT
BEGIN:VEVENT
DTSTART;TZID=America/Puerto_Rico:20300101T080000
DTEND;TZID=America/Puerto_Rico:20300101T120000
DTSTAMP:20260424T220800
CREATED:20251103T184621Z
LAST-MODIFIED:20251204T204632Z
UID:10003517-1893484800-1893499200@conexionlaboralsurestepr.org
SUMMARY:Visita Socio | Título V - Old American Act
DESCRIPTION:Senior Community Services Employment Programs
URL:https://conexionlaboralsurestepr.org/event/vista-socio-titulo-v-old-american-act/2030-01-01/
CATEGORIES:Socios
END:VEVENT
BEGIN:VEVENT
DTSTART;TZID=America/Puerto_Rico:20300101T080000
DTEND;TZID=America/Puerto_Rico:20300101T163000
DTSTAMP:20260424T220800
CREATED:20251031T153427Z
LAST-MODIFIED:20251031T173748Z
UID:10001089-1893484800-1893515400@conexionlaboralsurestepr.org
SUMMARY:Visita Socio | Título I - B
DESCRIPTION:Programa Jóvenes\, Adultos y Desplazados
URL:https://conexionlaboralsurestepr.org/event/visita-socios-titulo-i-b/2030-01-01/
CATEGORIES:Socios
END:VEVENT
BEGIN:VEVENT
DTSTART;TZID=America/Puerto_Rico:20300101T080000
DTEND;TZID=America/Puerto_Rico:20300101T163000
DTSTAMP:20260424T220800
CREATED:20251031T173045Z
LAST-MODIFIED:20251204T204704Z
UID:10002915-1893484800-1893515400@conexionlaboralsurestepr.org
SUMMARY:Visita Socio | Departamento del Trabajo y Recursos Humanos (DTRH)
DESCRIPTION:Programa Veteranos (Capítulo 41 Título 38 del Código de EU)\nServicio de Empleo\, Programa Agrícola y Programa RESEA\nPrograma Seguro por Desempleo
URL:https://conexionlaboralsurestepr.org/event/vista-socio-departamento-del-trabajo-y-recursos-humanos-dtrh/2030-01-01/
CATEGORIES:Socios
END:VEVENT
BEGIN:VEVENT
DTSTART;TZID=America/Puerto_Rico:20300101T080000
DTEND;TZID=America/Puerto_Rico:20300101T163000
DTSTAMP:20260424T220800
CREATED:20251103T185220Z
LAST-MODIFIED:20251204T204656Z
UID:10005424-1893484800-1893515400@conexionlaboralsurestepr.org
SUMMARY:Visita Socio | One Stop Careers Center of PR
DESCRIPTION:Programa de Reintegración de Ex-Ofensores bajo Second Change Act
URL:https://conexionlaboralsurestepr.org/event/vista-socio-one-stop-careers-center-of-pr/2030-01-01/
CATEGORIES:Socios
END:VEVENT
BEGIN:VEVENT
DTSTART;TZID=America/Puerto_Rico:20300102T080000
DTEND;TZID=America/Puerto_Rico:20300102T120000
DTSTAMP:20260424T220800
CREATED:20251103T185047Z
LAST-MODIFIED:20251204T204622Z
UID:10004023-1893571200-1893585600@conexionlaboralsurestepr.org
SUMMARY:Visita Socio | Título IV - "Social Security Act" Departamento de la Familia
DESCRIPTION:Programa TANF (Temporary Assistance for Needy Families)
URL:https://conexionlaboralsurestepr.org/event/vista-socio-titulo-iv-social-security-act-departamento-de-la-familia/2030-01-02/
CATEGORIES:Socios
END:VEVENT
BEGIN:VEVENT
DTSTART;TZID=America/Puerto_Rico:20300102T080000
DTEND;TZID=America/Puerto_Rico:20300102T163000
DTSTAMP:20260424T220800
CREATED:20251031T153427Z
LAST-MODIFIED:20251031T173748Z
UID:10001090-1893571200-1893601800@conexionlaboralsurestepr.org
SUMMARY:Visita Socio | Título I - B
DESCRIPTION:Programa Jóvenes\, Adultos y Desplazados
URL:https://conexionlaboralsurestepr.org/event/visita-socios-titulo-i-b/2030-01-02/
CATEGORIES:Socios
END:VEVENT
BEGIN:VEVENT
DTSTART;TZID=America/Puerto_Rico:20300102T080000
DTEND;TZID=America/Puerto_Rico:20300102T163000
DTSTAMP:20260424T220800
CREATED:20251031T173045Z
LAST-MODIFIED:20251204T204704Z
UID:10002916-1893571200-1893601800@conexionlaboralsurestepr.org
SUMMARY:Visita Socio | Departamento del Trabajo y Recursos Humanos (DTRH)
DESCRIPTION:Programa Veteranos (Capítulo 41 Título 38 del Código de EU)\nServicio de Empleo\, Programa Agrícola y Programa RESEA\nPrograma Seguro por Desempleo
URL:https://conexionlaboralsurestepr.org/event/vista-socio-departamento-del-trabajo-y-recursos-humanos-dtrh/2030-01-02/
CATEGORIES:Socios
END:VEVENT
BEGIN:VEVENT
DTSTART;TZID=America/Puerto_Rico:20300102T080000
DTEND;TZID=America/Puerto_Rico:20300102T163000
DTSTAMP:20260424T220800
CREATED:20251103T185220Z
LAST-MODIFIED:20251204T204656Z
UID:10005425-1893571200-1893601800@conexionlaboralsurestepr.org
SUMMARY:Visita Socio | One Stop Careers Center of PR
DESCRIPTION:Programa de Reintegración de Ex-Ofensores bajo Second Change Act
URL:https://conexionlaboralsurestepr.org/event/vista-socio-one-stop-careers-center-of-pr/2030-01-02/
CATEGORIES:Socios
END:VEVENT
BEGIN:VEVENT
DTSTART;TZID=America/Puerto_Rico:20300103T080000
DTEND;TZID=America/Puerto_Rico:20300103T163000
DTSTAMP:20260424T220800
CREATED:20251031T153427Z
LAST-MODIFIED:20251031T173748Z
UID:10001091-1893657600-1893688200@conexionlaboralsurestepr.org
SUMMARY:Visita Socio | Título I - B
DESCRIPTION:Programa Jóvenes\, Adultos y Desplazados
URL:https://conexionlaboralsurestepr.org/event/visita-socios-titulo-i-b/2030-01-03/
CATEGORIES:Socios
END:VEVENT
BEGIN:VEVENT
DTSTART;TZID=America/Puerto_Rico:20300103T080000
DTEND;TZID=America/Puerto_Rico:20300103T163000
DTSTAMP:20260424T220800
CREATED:20251031T173045Z
LAST-MODIFIED:20251204T204704Z
UID:10002917-1893657600-1893688200@conexionlaboralsurestepr.org
SUMMARY:Visita Socio | Departamento del Trabajo y Recursos Humanos (DTRH)
DESCRIPTION:Programa Veteranos (Capítulo 41 Título 38 del Código de EU)\nServicio de Empleo\, Programa Agrícola y Programa RESEA\nPrograma Seguro por Desempleo
URL:https://conexionlaboralsurestepr.org/event/vista-socio-departamento-del-trabajo-y-recursos-humanos-dtrh/2030-01-03/
CATEGORIES:Socios
END:VEVENT
BEGIN:VEVENT
DTSTART;TZID=America/Puerto_Rico:20300103T080000
DTEND;TZID=America/Puerto_Rico:20300103T163000
DTSTAMP:20260424T220800
CREATED:20251103T184914Z
LAST-MODIFIED:20251204T204647Z
UID:10003753-1893657600-1893688200@conexionlaboralsurestepr.org
SUMMARY:Visita Socio | Título II - Departamento de Educación
DESCRIPTION:Programa de Educación y Literacia de Adultos
URL:https://conexionlaboralsurestepr.org/event/vista-socio-titulo-ii-departamento-de-educacion/2030-01-03/
CATEGORIES:Socios
END:VEVENT
BEGIN:VEVENT
DTSTART;TZID=America/Puerto_Rico:20300103T080000
DTEND;TZID=America/Puerto_Rico:20300103T163000
DTSTAMP:20260424T220800
CREATED:20251103T185220Z
LAST-MODIFIED:20251204T204656Z
UID:10005426-1893657600-1893688200@conexionlaboralsurestepr.org
SUMMARY:Visita Socio | One Stop Careers Center of PR
DESCRIPTION:Programa de Reintegración de Ex-Ofensores bajo Second Change Act
URL:https://conexionlaboralsurestepr.org/event/vista-socio-one-stop-careers-center-of-pr/2030-01-03/
CATEGORIES:Socios
END:VEVENT
BEGIN:VEVENT
DTSTART;TZID=America/Puerto_Rico:20300104T080000
DTEND;TZID=America/Puerto_Rico:20300104T163000
DTSTAMP:20260424T220800
CREATED:20251031T153427Z
LAST-MODIFIED:20251031T173748Z
UID:10001605-1893744000-1893774600@conexionlaboralsurestepr.org
SUMMARY:Visita Socio | Título I - B
DESCRIPTION:Programa Jóvenes\, Adultos y Desplazados
URL:https://conexionlaboralsurestepr.org/event/visita-socios-titulo-i-b/2030-01-04/
CATEGORIES:Socios
END:VEVENT
BEGIN:VEVENT
DTSTART;TZID=America/Puerto_Rico:20300104T080000
DTEND;TZID=America/Puerto_Rico:20300104T163000
DTSTAMP:20260424T220800
CREATED:20251031T173045Z
LAST-MODIFIED:20251204T204704Z
UID:10002918-1893744000-1893774600@conexionlaboralsurestepr.org
SUMMARY:Visita Socio | Departamento del Trabajo y Recursos Humanos (DTRH)
DESCRIPTION:Programa Veteranos (Capítulo 41 Título 38 del Código de EU)\nServicio de Empleo\, Programa Agrícola y Programa RESEA\nPrograma Seguro por Desempleo
URL:https://conexionlaboralsurestepr.org/event/vista-socio-departamento-del-trabajo-y-recursos-humanos-dtrh/2030-01-04/
CATEGORIES:Socios
END:VEVENT
BEGIN:VEVENT
DTSTART;TZID=America/Puerto_Rico:20300104T080000
DTEND;TZID=America/Puerto_Rico:20300104T163000
DTSTAMP:20260424T220800
CREATED:20251103T185220Z
LAST-MODIFIED:20251204T204656Z
UID:10005427-1893744000-1893774600@conexionlaboralsurestepr.org
SUMMARY:Visita Socio | One Stop Careers Center of PR
DESCRIPTION:Programa de Reintegración de Ex-Ofensores bajo Second Change Act
URL:https://conexionlaboralsurestepr.org/event/vista-socio-one-stop-careers-center-of-pr/2030-01-04/
CATEGORIES:Socios
END:VEVENT
BEGIN:VEVENT
DTSTART;TZID=America/Puerto_Rico:20300106T080000
DTEND;TZID=America/Puerto_Rico:20300106T163000
DTSTAMP:20260424T220800
CREATED:20251103T185220Z
LAST-MODIFIED:20251204T204656Z
UID:10005428-1893916800-1893947400@conexionlaboralsurestepr.org
SUMMARY:Visita Socio | One Stop Careers Center of PR
DESCRIPTION:Programa de Reintegración de Ex-Ofensores bajo Second Change Act
URL:https://conexionlaboralsurestepr.org/event/vista-socio-one-stop-careers-center-of-pr/2030-01-06/
CATEGORIES:Socios
END:VEVENT
END:VCALENDAR