BEGIN:VCALENDAR
VERSION:2.0
PRODID:-//Conexión Laboral Sureste - ECPv6.15.20//NONSGML v1.0//EN
CALSCALE:GREGORIAN
METHOD:PUBLISH
X-ORIGINAL-URL:https://conexionlaboralsurestepr.org
X-WR-CALDESC:Events for Conexión Laboral Sureste
REFRESH-INTERVAL;VALUE=DURATION:PT1H
X-Robots-Tag:noindex
X-PUBLISHED-TTL:PT1H
BEGIN:VTIMEZONE
TZID:America/Puerto_Rico
BEGIN:STANDARD
TZOFFSETFROM:-0400
TZOFFSETTO:-0400
TZNAME:AST
DTSTART:20290101T000000
END:STANDARD
END:VTIMEZONE
BEGIN:VEVENT
DTSTART;TZID=America/Puerto_Rico:20300107T080000
DTEND;TZID=America/Puerto_Rico:20300107T120000
DTSTAMP:20260424T222000
CREATED:20251103T184249Z
LAST-MODIFIED:20251204T204710Z
UID:10003393-1894003200-1894017600@conexionlaboralsurestepr.org
SUMMARY:Visita Socio | Título I | Administración de Rehabilitación Vocacional
DESCRIPTION:Programa de Adiestramiento y Empleo Rehabilitación Vocacional
URL:https://conexionlaboralsurestepr.org/event/vista-socio-titulo-i-administracion-de-rehabilitacion-vocacional/2030-01-07/
CATEGORIES:Socios
END:VEVENT
BEGIN:VEVENT
DTSTART;TZID=America/Puerto_Rico:20300107T080000
DTEND;TZID=America/Puerto_Rico:20300107T163000
DTSTAMP:20260424T222000
CREATED:20251031T153427Z
LAST-MODIFIED:20251031T173748Z
UID:10001093-1894003200-1894033800@conexionlaboralsurestepr.org
SUMMARY:Visita Socio | Título I - B
DESCRIPTION:Programa Jóvenes\, Adultos y Desplazados
URL:https://conexionlaboralsurestepr.org/event/visita-socios-titulo-i-b/2030-01-07/
CATEGORIES:Socios
END:VEVENT
BEGIN:VEVENT
DTSTART;TZID=America/Puerto_Rico:20300107T080000
DTEND;TZID=America/Puerto_Rico:20300107T163000
DTSTAMP:20260424T222000
CREATED:20251031T173045Z
LAST-MODIFIED:20251204T204704Z
UID:10002919-1894003200-1894033800@conexionlaboralsurestepr.org
SUMMARY:Visita Socio | Departamento del Trabajo y Recursos Humanos (DTRH)
DESCRIPTION:Programa Veteranos (Capítulo 41 Título 38 del Código de EU)\nServicio de Empleo\, Programa Agrícola y Programa RESEA\nPrograma Seguro por Desempleo
URL:https://conexionlaboralsurestepr.org/event/vista-socio-departamento-del-trabajo-y-recursos-humanos-dtrh/2030-01-07/
CATEGORIES:Socios
END:VEVENT
BEGIN:VEVENT
DTSTART;TZID=America/Puerto_Rico:20300107T080000
DTEND;TZID=America/Puerto_Rico:20300107T163000
DTSTAMP:20260424T222000
CREATED:20251103T185220Z
LAST-MODIFIED:20251204T204656Z
UID:10005429-1894003200-1894033800@conexionlaboralsurestepr.org
SUMMARY:Visita Socio | One Stop Careers Center of PR
DESCRIPTION:Programa de Reintegración de Ex-Ofensores bajo Second Change Act
URL:https://conexionlaboralsurestepr.org/event/vista-socio-one-stop-careers-center-of-pr/2030-01-07/
CATEGORIES:Socios
END:VEVENT
BEGIN:VEVENT
DTSTART;TZID=America/Puerto_Rico:20300108T080000
DTEND;TZID=America/Puerto_Rico:20300108T163000
DTSTAMP:20260424T222000
CREATED:20251031T153427Z
LAST-MODIFIED:20251031T173748Z
UID:10001094-1894089600-1894120200@conexionlaboralsurestepr.org
SUMMARY:Visita Socio | Título I - B
DESCRIPTION:Programa Jóvenes\, Adultos y Desplazados
URL:https://conexionlaboralsurestepr.org/event/visita-socios-titulo-i-b/2030-01-08/
CATEGORIES:Socios
END:VEVENT
BEGIN:VEVENT
DTSTART;TZID=America/Puerto_Rico:20300108T080000
DTEND;TZID=America/Puerto_Rico:20300108T163000
DTSTAMP:20260424T222000
CREATED:20251031T173045Z
LAST-MODIFIED:20251204T204704Z
UID:10002920-1894089600-1894120200@conexionlaboralsurestepr.org
SUMMARY:Visita Socio | Departamento del Trabajo y Recursos Humanos (DTRH)
DESCRIPTION:Programa Veteranos (Capítulo 41 Título 38 del Código de EU)\nServicio de Empleo\, Programa Agrícola y Programa RESEA\nPrograma Seguro por Desempleo
URL:https://conexionlaboralsurestepr.org/event/vista-socio-departamento-del-trabajo-y-recursos-humanos-dtrh/2030-01-08/
CATEGORIES:Socios
END:VEVENT
BEGIN:VEVENT
DTSTART;TZID=America/Puerto_Rico:20300108T080000
DTEND;TZID=America/Puerto_Rico:20300108T163000
DTSTAMP:20260424T222000
CREATED:20251103T185220Z
LAST-MODIFIED:20251204T204656Z
UID:10005430-1894089600-1894120200@conexionlaboralsurestepr.org
SUMMARY:Visita Socio | One Stop Careers Center of PR
DESCRIPTION:Programa de Reintegración de Ex-Ofensores bajo Second Change Act
URL:https://conexionlaboralsurestepr.org/event/vista-socio-one-stop-careers-center-of-pr/2030-01-08/
CATEGORIES:Socios
END:VEVENT
BEGIN:VEVENT
DTSTART;TZID=America/Puerto_Rico:20300109T080000
DTEND;TZID=America/Puerto_Rico:20300109T120000
DTSTAMP:20260424T222000
CREATED:20251103T185047Z
LAST-MODIFIED:20251204T204622Z
UID:10004024-1894176000-1894190400@conexionlaboralsurestepr.org
SUMMARY:Visita Socio | Título IV - "Social Security Act" Departamento de la Familia
DESCRIPTION:Programa TANF (Temporary Assistance for Needy Families)
URL:https://conexionlaboralsurestepr.org/event/vista-socio-titulo-iv-social-security-act-departamento-de-la-familia/2030-01-09/
CATEGORIES:Socios
END:VEVENT
BEGIN:VEVENT
DTSTART;TZID=America/Puerto_Rico:20300109T080000
DTEND;TZID=America/Puerto_Rico:20300109T163000
DTSTAMP:20260424T222000
CREATED:20251031T153427Z
LAST-MODIFIED:20251031T173748Z
UID:10001095-1894176000-1894206600@conexionlaboralsurestepr.org
SUMMARY:Visita Socio | Título I - B
DESCRIPTION:Programa Jóvenes\, Adultos y Desplazados
URL:https://conexionlaboralsurestepr.org/event/visita-socios-titulo-i-b/2030-01-09/
CATEGORIES:Socios
END:VEVENT
BEGIN:VEVENT
DTSTART;TZID=America/Puerto_Rico:20300109T080000
DTEND;TZID=America/Puerto_Rico:20300109T163000
DTSTAMP:20260424T222000
CREATED:20251031T173045Z
LAST-MODIFIED:20251204T204704Z
UID:10002921-1894176000-1894206600@conexionlaboralsurestepr.org
SUMMARY:Visita Socio | Departamento del Trabajo y Recursos Humanos (DTRH)
DESCRIPTION:Programa Veteranos (Capítulo 41 Título 38 del Código de EU)\nServicio de Empleo\, Programa Agrícola y Programa RESEA\nPrograma Seguro por Desempleo
URL:https://conexionlaboralsurestepr.org/event/vista-socio-departamento-del-trabajo-y-recursos-humanos-dtrh/2030-01-09/
CATEGORIES:Socios
END:VEVENT
BEGIN:VEVENT
DTSTART;TZID=America/Puerto_Rico:20300109T080000
DTEND;TZID=America/Puerto_Rico:20300109T163000
DTSTAMP:20260424T222000
CREATED:20251103T185220Z
LAST-MODIFIED:20251204T204656Z
UID:10005431-1894176000-1894206600@conexionlaboralsurestepr.org
SUMMARY:Visita Socio | One Stop Careers Center of PR
DESCRIPTION:Programa de Reintegración de Ex-Ofensores bajo Second Change Act
URL:https://conexionlaboralsurestepr.org/event/vista-socio-one-stop-careers-center-of-pr/2030-01-09/
CATEGORIES:Socios
END:VEVENT
BEGIN:VEVENT
DTSTART;TZID=America/Puerto_Rico:20300110T080000
DTEND;TZID=America/Puerto_Rico:20300110T163000
DTSTAMP:20260424T222000
CREATED:20251031T153427Z
LAST-MODIFIED:20251031T173748Z
UID:10001096-1894262400-1894293000@conexionlaboralsurestepr.org
SUMMARY:Visita Socio | Título I - B
DESCRIPTION:Programa Jóvenes\, Adultos y Desplazados
URL:https://conexionlaboralsurestepr.org/event/visita-socios-titulo-i-b/2030-01-10/
CATEGORIES:Socios
END:VEVENT
BEGIN:VEVENT
DTSTART;TZID=America/Puerto_Rico:20300110T080000
DTEND;TZID=America/Puerto_Rico:20300110T163000
DTSTAMP:20260424T222000
CREATED:20251031T173045Z
LAST-MODIFIED:20251204T204704Z
UID:10002922-1894262400-1894293000@conexionlaboralsurestepr.org
SUMMARY:Visita Socio | Departamento del Trabajo y Recursos Humanos (DTRH)
DESCRIPTION:Programa Veteranos (Capítulo 41 Título 38 del Código de EU)\nServicio de Empleo\, Programa Agrícola y Programa RESEA\nPrograma Seguro por Desempleo
URL:https://conexionlaboralsurestepr.org/event/vista-socio-departamento-del-trabajo-y-recursos-humanos-dtrh/2030-01-10/
CATEGORIES:Socios
END:VEVENT
BEGIN:VEVENT
DTSTART;TZID=America/Puerto_Rico:20300110T080000
DTEND;TZID=America/Puerto_Rico:20300110T163000
DTSTAMP:20260424T222000
CREATED:20251103T184914Z
LAST-MODIFIED:20251204T204647Z
UID:10003754-1894262400-1894293000@conexionlaboralsurestepr.org
SUMMARY:Visita Socio | Título II - Departamento de Educación
DESCRIPTION:Programa de Educación y Literacia de Adultos
URL:https://conexionlaboralsurestepr.org/event/vista-socio-titulo-ii-departamento-de-educacion/2030-01-10/
CATEGORIES:Socios
END:VEVENT
BEGIN:VEVENT
DTSTART;TZID=America/Puerto_Rico:20300110T080000
DTEND;TZID=America/Puerto_Rico:20300110T163000
DTSTAMP:20260424T222000
CREATED:20251103T185220Z
LAST-MODIFIED:20251204T204656Z
UID:10005432-1894262400-1894293000@conexionlaboralsurestepr.org
SUMMARY:Visita Socio | One Stop Careers Center of PR
DESCRIPTION:Programa de Reintegración de Ex-Ofensores bajo Second Change Act
URL:https://conexionlaboralsurestepr.org/event/vista-socio-one-stop-careers-center-of-pr/2030-01-10/
CATEGORIES:Socios
END:VEVENT
BEGIN:VEVENT
DTSTART;TZID=America/Puerto_Rico:20300111T080000
DTEND;TZID=America/Puerto_Rico:20300111T163000
DTSTAMP:20260424T222000
CREATED:20251031T153427Z
LAST-MODIFIED:20251031T173748Z
UID:10001606-1894348800-1894379400@conexionlaboralsurestepr.org
SUMMARY:Visita Socio | Título I - B
DESCRIPTION:Programa Jóvenes\, Adultos y Desplazados
URL:https://conexionlaboralsurestepr.org/event/visita-socios-titulo-i-b/2030-01-11/
CATEGORIES:Socios
END:VEVENT
BEGIN:VEVENT
DTSTART;TZID=America/Puerto_Rico:20300111T080000
DTEND;TZID=America/Puerto_Rico:20300111T163000
DTSTAMP:20260424T222000
CREATED:20251031T173045Z
LAST-MODIFIED:20251204T204704Z
UID:10002923-1894348800-1894379400@conexionlaboralsurestepr.org
SUMMARY:Visita Socio | Departamento del Trabajo y Recursos Humanos (DTRH)
DESCRIPTION:Programa Veteranos (Capítulo 41 Título 38 del Código de EU)\nServicio de Empleo\, Programa Agrícola y Programa RESEA\nPrograma Seguro por Desempleo
URL:https://conexionlaboralsurestepr.org/event/vista-socio-departamento-del-trabajo-y-recursos-humanos-dtrh/2030-01-11/
CATEGORIES:Socios
END:VEVENT
BEGIN:VEVENT
DTSTART;TZID=America/Puerto_Rico:20300111T080000
DTEND;TZID=America/Puerto_Rico:20300111T163000
DTSTAMP:20260424T222000
CREATED:20251103T185220Z
LAST-MODIFIED:20251204T204656Z
UID:10005433-1894348800-1894379400@conexionlaboralsurestepr.org
SUMMARY:Visita Socio | One Stop Careers Center of PR
DESCRIPTION:Programa de Reintegración de Ex-Ofensores bajo Second Change Act
URL:https://conexionlaboralsurestepr.org/event/vista-socio-one-stop-careers-center-of-pr/2030-01-11/
CATEGORIES:Socios
END:VEVENT
BEGIN:VEVENT
DTSTART;TZID=America/Puerto_Rico:20300113T080000
DTEND;TZID=America/Puerto_Rico:20300113T163000
DTSTAMP:20260424T222000
CREATED:20251103T185220Z
LAST-MODIFIED:20251204T204656Z
UID:10005434-1894521600-1894552200@conexionlaboralsurestepr.org
SUMMARY:Visita Socio | One Stop Careers Center of PR
DESCRIPTION:Programa de Reintegración de Ex-Ofensores bajo Second Change Act
URL:https://conexionlaboralsurestepr.org/event/vista-socio-one-stop-careers-center-of-pr/2030-01-13/
CATEGORIES:Socios
END:VEVENT
END:VCALENDAR