BEGIN:VCALENDAR
VERSION:2.0
PRODID:-//Conexión Laboral Sureste - ECPv6.15.20//NONSGML v1.0//EN
CALSCALE:GREGORIAN
METHOD:PUBLISH
X-WR-CALNAME:Conexión Laboral Sureste
X-ORIGINAL-URL:https://conexionlaboralsurestepr.org
X-WR-CALDESC:Events for Conexión Laboral Sureste
REFRESH-INTERVAL;VALUE=DURATION:PT1H
X-Robots-Tag:noindex
X-PUBLISHED-TTL:PT1H
BEGIN:VTIMEZONE
TZID:America/Puerto_Rico
BEGIN:STANDARD
TZOFFSETFROM:-0400
TZOFFSETTO:-0400
TZNAME:AST
DTSTART:20240101T000000
END:STANDARD
END:VTIMEZONE
BEGIN:VEVENT
DTSTART;TZID=America/Puerto_Rico:20251110T080000
DTEND;TZID=America/Puerto_Rico:20251110T163000
DTSTAMP:20260420T031345
CREATED:20251031T153427Z
LAST-MODIFIED:20251031T173748Z
UID:10000008-1762761600-1762792200@conexionlaboralsurestepr.org
SUMMARY:Visita Socio | Título I - B
DESCRIPTION:Programa Jóvenes\, Adultos y Desplazados
URL:https://conexionlaboralsurestepr.org/event/visita-socios-titulo-i-b/2025-11-10/
LOCATION:Las Piedras
CATEGORIES:Socios
END:VEVENT
BEGIN:VEVENT
DTSTART;TZID=America/Puerto_Rico:20251110T080000
DTEND;TZID=America/Puerto_Rico:20251110T163000
DTSTAMP:20260420T031345
CREATED:20251031T173045Z
LAST-MODIFIED:20251204T204704Z
UID:10001834-1762761600-1762792200@conexionlaboralsurestepr.org
SUMMARY:Visita Socio | Departamento del Trabajo y Recursos Humanos (DTRH)
DESCRIPTION:Programa Veteranos (Capítulo 41 Título 38 del Código de EU)\nServicio de Empleo\, Programa Agrícola y Programa RESEA\nPrograma Seguro por Desempleo
URL:https://conexionlaboralsurestepr.org/event/vista-socio-departamento-del-trabajo-y-recursos-humanos-dtrh/2025-11-10/
LOCATION:Las Piedras
CATEGORIES:Socios
END:VEVENT
BEGIN:VEVENT
DTSTART;TZID=America/Puerto_Rico:20251110T080000
DTEND;TZID=America/Puerto_Rico:20251110T163000
DTSTAMP:20260420T031345
CREATED:20251103T185220Z
LAST-MODIFIED:20251204T204656Z
UID:10004127-1762761600-1762792200@conexionlaboralsurestepr.org
SUMMARY:Visita Socio | One Stop Careers Center of PR
DESCRIPTION:Programa de Reintegración de Ex-Ofensores bajo Second Change Act
URL:https://conexionlaboralsurestepr.org/event/vista-socio-one-stop-careers-center-of-pr/2025-11-10/
LOCATION:Las Piedras
CATEGORIES:Socios
END:VEVENT
BEGIN:VEVENT
DTSTART;TZID=America/Puerto_Rico:20251111T080000
DTEND;TZID=America/Puerto_Rico:20251111T163000
DTSTAMP:20260420T031345
CREATED:20251031T153427Z
LAST-MODIFIED:20251031T173748Z
UID:10000009-1762848000-1762878600@conexionlaboralsurestepr.org
SUMMARY:Visita Socio | Título I - B
DESCRIPTION:Programa Jóvenes\, Adultos y Desplazados
URL:https://conexionlaboralsurestepr.org/event/visita-socios-titulo-i-b/2025-11-11/
LOCATION:Las Piedras
CATEGORIES:Socios
END:VEVENT
BEGIN:VEVENT
DTSTART;TZID=America/Puerto_Rico:20251111T080000
DTEND;TZID=America/Puerto_Rico:20251111T163000
DTSTAMP:20260420T031345
CREATED:20251031T173045Z
LAST-MODIFIED:20251204T204704Z
UID:10001835-1762848000-1762878600@conexionlaboralsurestepr.org
SUMMARY:Visita Socio | Departamento del Trabajo y Recursos Humanos (DTRH)
DESCRIPTION:Programa Veteranos (Capítulo 41 Título 38 del Código de EU)\nServicio de Empleo\, Programa Agrícola y Programa RESEA\nPrograma Seguro por Desempleo
URL:https://conexionlaboralsurestepr.org/event/vista-socio-departamento-del-trabajo-y-recursos-humanos-dtrh/2025-11-11/
LOCATION:Las Piedras
CATEGORIES:Socios
END:VEVENT
BEGIN:VEVENT
DTSTART;TZID=America/Puerto_Rico:20251111T080000
DTEND;TZID=America/Puerto_Rico:20251111T163000
DTSTAMP:20260420T031345
CREATED:20251103T185220Z
LAST-MODIFIED:20251204T204656Z
UID:10004128-1762848000-1762878600@conexionlaboralsurestepr.org
SUMMARY:Visita Socio | One Stop Careers Center of PR
DESCRIPTION:Programa de Reintegración de Ex-Ofensores bajo Second Change Act
URL:https://conexionlaboralsurestepr.org/event/vista-socio-one-stop-careers-center-of-pr/2025-11-11/
LOCATION:Las Piedras
CATEGORIES:Socios
END:VEVENT
BEGIN:VEVENT
DTSTART;TZID=America/Puerto_Rico:20251112T080000
DTEND;TZID=America/Puerto_Rico:20251112T120000
DTSTAMP:20260420T031345
CREATED:20251103T185047Z
LAST-MODIFIED:20251204T204622Z
UID:10003807-1762934400-1762948800@conexionlaboralsurestepr.org
SUMMARY:Visita Socio | Título IV - "Social Security Act" Departamento de la Familia
DESCRIPTION:Programa TANF (Temporary Assistance for Needy Families)
URL:https://conexionlaboralsurestepr.org/event/vista-socio-titulo-iv-social-security-act-departamento-de-la-familia/2025-11-12/
LOCATION:Las Piedras
CATEGORIES:Socios
END:VEVENT
BEGIN:VEVENT
DTSTART;TZID=America/Puerto_Rico:20251112T080000
DTEND;TZID=America/Puerto_Rico:20251112T163000
DTSTAMP:20260420T031345
CREATED:20251031T153427Z
LAST-MODIFIED:20251031T173748Z
UID:10000010-1762934400-1762965000@conexionlaboralsurestepr.org
SUMMARY:Visita Socio | Título I - B
DESCRIPTION:Programa Jóvenes\, Adultos y Desplazados
URL:https://conexionlaboralsurestepr.org/event/visita-socios-titulo-i-b/2025-11-12/
LOCATION:Las Piedras
CATEGORIES:Socios
END:VEVENT
BEGIN:VEVENT
DTSTART;TZID=America/Puerto_Rico:20251112T080000
DTEND;TZID=America/Puerto_Rico:20251112T163000
DTSTAMP:20260420T031345
CREATED:20251031T173045Z
LAST-MODIFIED:20251204T204704Z
UID:10001836-1762934400-1762965000@conexionlaboralsurestepr.org
SUMMARY:Visita Socio | Departamento del Trabajo y Recursos Humanos (DTRH)
DESCRIPTION:Programa Veteranos (Capítulo 41 Título 38 del Código de EU)\nServicio de Empleo\, Programa Agrícola y Programa RESEA\nPrograma Seguro por Desempleo
URL:https://conexionlaboralsurestepr.org/event/vista-socio-departamento-del-trabajo-y-recursos-humanos-dtrh/2025-11-12/
LOCATION:Las Piedras
CATEGORIES:Socios
END:VEVENT
BEGIN:VEVENT
DTSTART;TZID=America/Puerto_Rico:20251112T080000
DTEND;TZID=America/Puerto_Rico:20251112T163000
DTSTAMP:20260420T031345
CREATED:20251103T185220Z
LAST-MODIFIED:20251204T204656Z
UID:10004129-1762934400-1762965000@conexionlaboralsurestepr.org
SUMMARY:Visita Socio | One Stop Careers Center of PR
DESCRIPTION:Programa de Reintegración de Ex-Ofensores bajo Second Change Act
URL:https://conexionlaboralsurestepr.org/event/vista-socio-one-stop-careers-center-of-pr/2025-11-12/
LOCATION:Las Piedras
CATEGORIES:Socios
END:VEVENT
BEGIN:VEVENT
DTSTART;TZID=America/Puerto_Rico:20251113T080000
DTEND;TZID=America/Puerto_Rico:20251113T163000
DTSTAMP:20260420T031345
CREATED:20251031T153427Z
LAST-MODIFIED:20251031T173748Z
UID:10000011-1763020800-1763051400@conexionlaboralsurestepr.org
SUMMARY:Visita Socio | Título I - B
DESCRIPTION:Programa Jóvenes\, Adultos y Desplazados
URL:https://conexionlaboralsurestepr.org/event/visita-socios-titulo-i-b/2025-11-13/
LOCATION:Las Piedras
CATEGORIES:Socios
END:VEVENT
BEGIN:VEVENT
DTSTART;TZID=America/Puerto_Rico:20251113T080000
DTEND;TZID=America/Puerto_Rico:20251113T163000
DTSTAMP:20260420T031345
CREATED:20251031T173045Z
LAST-MODIFIED:20251204T204704Z
UID:10001837-1763020800-1763051400@conexionlaboralsurestepr.org
SUMMARY:Visita Socio | Departamento del Trabajo y Recursos Humanos (DTRH)
DESCRIPTION:Programa Veteranos (Capítulo 41 Título 38 del Código de EU)\nServicio de Empleo\, Programa Agrícola y Programa RESEA\nPrograma Seguro por Desempleo
URL:https://conexionlaboralsurestepr.org/event/vista-socio-departamento-del-trabajo-y-recursos-humanos-dtrh/2025-11-13/
LOCATION:Las Piedras
CATEGORIES:Socios
END:VEVENT
BEGIN:VEVENT
DTSTART;TZID=America/Puerto_Rico:20251113T080000
DTEND;TZID=America/Puerto_Rico:20251113T163000
DTSTAMP:20260420T031345
CREATED:20251103T184914Z
LAST-MODIFIED:20251204T204647Z
UID:10003537-1763020800-1763051400@conexionlaboralsurestepr.org
SUMMARY:Visita Socio | Título II - Departamento de Educación
DESCRIPTION:Programa de Educación y Literacia de Adultos
URL:https://conexionlaboralsurestepr.org/event/vista-socio-titulo-ii-departamento-de-educacion/2025-11-13/
LOCATION:Las Piedras
CATEGORIES:Socios
END:VEVENT
BEGIN:VEVENT
DTSTART;TZID=America/Puerto_Rico:20251113T080000
DTEND;TZID=America/Puerto_Rico:20251113T163000
DTSTAMP:20260420T031345
CREATED:20251103T185220Z
LAST-MODIFIED:20251204T204656Z
UID:10004130-1763020800-1763051400@conexionlaboralsurestepr.org
SUMMARY:Visita Socio | One Stop Careers Center of PR
DESCRIPTION:Programa de Reintegración de Ex-Ofensores bajo Second Change Act
URL:https://conexionlaboralsurestepr.org/event/vista-socio-one-stop-careers-center-of-pr/2025-11-13/
LOCATION:Las Piedras
CATEGORIES:Socios
END:VEVENT
BEGIN:VEVENT
DTSTART;TZID=America/Puerto_Rico:20251114T080000
DTEND;TZID=America/Puerto_Rico:20251114T163000
DTSTAMP:20260420T031345
CREATED:20251031T153427Z
LAST-MODIFIED:20251031T173748Z
UID:10001658-1763107200-1763137800@conexionlaboralsurestepr.org
SUMMARY:Visita Socio | Título I - B
DESCRIPTION:Programa Jóvenes\, Adultos y Desplazados
URL:https://conexionlaboralsurestepr.org/event/visita-socios-titulo-i-b/2025-11-14/
LOCATION:Las Piedras
CATEGORIES:Socios
END:VEVENT
BEGIN:VEVENT
DTSTART;TZID=America/Puerto_Rico:20251114T080000
DTEND;TZID=America/Puerto_Rico:20251114T163000
DTSTAMP:20260420T031345
CREATED:20251031T173045Z
LAST-MODIFIED:20251204T204704Z
UID:10001838-1763107200-1763137800@conexionlaboralsurestepr.org
SUMMARY:Visita Socio | Departamento del Trabajo y Recursos Humanos (DTRH)
DESCRIPTION:Programa Veteranos (Capítulo 41 Título 38 del Código de EU)\nServicio de Empleo\, Programa Agrícola y Programa RESEA\nPrograma Seguro por Desempleo
URL:https://conexionlaboralsurestepr.org/event/vista-socio-departamento-del-trabajo-y-recursos-humanos-dtrh/2025-11-14/
LOCATION:Las Piedras
CATEGORIES:Socios
END:VEVENT
BEGIN:VEVENT
DTSTART;TZID=America/Puerto_Rico:20251114T080000
DTEND;TZID=America/Puerto_Rico:20251114T163000
DTSTAMP:20260420T031345
CREATED:20251103T185220Z
LAST-MODIFIED:20251204T204656Z
UID:10004131-1763107200-1763137800@conexionlaboralsurestepr.org
SUMMARY:Visita Socio | One Stop Careers Center of PR
DESCRIPTION:Programa de Reintegración de Ex-Ofensores bajo Second Change Act
URL:https://conexionlaboralsurestepr.org/event/vista-socio-one-stop-careers-center-of-pr/2025-11-14/
LOCATION:Las Piedras
CATEGORIES:Socios
END:VEVENT
BEGIN:VEVENT
DTSTART;TZID=America/Puerto_Rico:20251114T090000
DTEND;TZID=America/Puerto_Rico:20251114T120000
DTSTAMP:20260420T031345
CREATED:20251030T163618Z
LAST-MODIFIED:20251031T152932Z
UID:10000001-1763110800-1763121600@conexionlaboralsurestepr.org
SUMMARY:Conexión Laboral en tu Pueblo
DESCRIPTION:Yabucoa
URL:https://conexionlaboralsurestepr.org/event/conexion-laboral-en-tu-pueblo/
LOCATION:Las Piedras
CATEGORIES:Eventos
ATTACH;FMTTYPE=image/jpeg:https://conexionlaboralsurestepr.org/wp-content/uploads/2025/10/Yabucoa-14-de-noviembre-scaled.jpg
END:VEVENT
BEGIN:VEVENT
DTSTART;TZID=America/Puerto_Rico:20251116T080000
DTEND;TZID=America/Puerto_Rico:20251116T163000
DTSTAMP:20260420T031345
CREATED:20251103T185220Z
LAST-MODIFIED:20251204T204656Z
UID:10004132-1763280000-1763310600@conexionlaboralsurestepr.org
SUMMARY:Visita Socio | One Stop Careers Center of PR
DESCRIPTION:Programa de Reintegración de Ex-Ofensores bajo Second Change Act
URL:https://conexionlaboralsurestepr.org/event/vista-socio-one-stop-careers-center-of-pr/2025-11-16/
LOCATION:Las Piedras
CATEGORIES:Socios
END:VEVENT
BEGIN:VEVENT
DTSTART;TZID=America/Puerto_Rico:20251117T080000
DTEND;TZID=America/Puerto_Rico:20251117T163000
DTSTAMP:20260420T031345
CREATED:20251031T153427Z
LAST-MODIFIED:20251031T173748Z
UID:10000013-1763366400-1763397000@conexionlaboralsurestepr.org
SUMMARY:Visita Socio | Título I - B
DESCRIPTION:Programa Jóvenes\, Adultos y Desplazados
URL:https://conexionlaboralsurestepr.org/event/visita-socios-titulo-i-b/2025-11-17/
LOCATION:Las Piedras
CATEGORIES:Socios
END:VEVENT
BEGIN:VEVENT
DTSTART;TZID=America/Puerto_Rico:20251117T080000
DTEND;TZID=America/Puerto_Rico:20251117T163000
DTSTAMP:20260420T031345
CREATED:20251031T173045Z
LAST-MODIFIED:20251204T204704Z
UID:10001839-1763366400-1763397000@conexionlaboralsurestepr.org
SUMMARY:Visita Socio | Departamento del Trabajo y Recursos Humanos (DTRH)
DESCRIPTION:Programa Veteranos (Capítulo 41 Título 38 del Código de EU)\nServicio de Empleo\, Programa Agrícola y Programa RESEA\nPrograma Seguro por Desempleo
URL:https://conexionlaboralsurestepr.org/event/vista-socio-departamento-del-trabajo-y-recursos-humanos-dtrh/2025-11-17/
LOCATION:Las Piedras
CATEGORIES:Socios
END:VEVENT
BEGIN:VEVENT
DTSTART;TZID=America/Puerto_Rico:20251117T080000
DTEND;TZID=America/Puerto_Rico:20251117T163000
DTSTAMP:20260420T031345
CREATED:20251103T185220Z
LAST-MODIFIED:20251204T204656Z
UID:10004133-1763366400-1763397000@conexionlaboralsurestepr.org
SUMMARY:Visita Socio | One Stop Careers Center of PR
DESCRIPTION:Programa de Reintegración de Ex-Ofensores bajo Second Change Act
URL:https://conexionlaboralsurestepr.org/event/vista-socio-one-stop-careers-center-of-pr/2025-11-17/
LOCATION:Las Piedras
CATEGORIES:Socios
END:VEVENT
BEGIN:VEVENT
DTSTART;TZID=America/Puerto_Rico:20251118T080000
DTEND;TZID=America/Puerto_Rico:20251118T163000
DTSTAMP:20260420T031345
CREATED:20251031T153427Z
LAST-MODIFIED:20251031T173748Z
UID:10000014-1763452800-1763483400@conexionlaboralsurestepr.org
SUMMARY:Visita Socio | Título I - B
DESCRIPTION:Programa Jóvenes\, Adultos y Desplazados
URL:https://conexionlaboralsurestepr.org/event/visita-socios-titulo-i-b/2025-11-18/
LOCATION:Las Piedras
CATEGORIES:Socios
END:VEVENT
BEGIN:VEVENT
DTSTART;TZID=America/Puerto_Rico:20251118T080000
DTEND;TZID=America/Puerto_Rico:20251118T163000
DTSTAMP:20260420T031345
CREATED:20251031T173045Z
LAST-MODIFIED:20251204T204704Z
UID:10001840-1763452800-1763483400@conexionlaboralsurestepr.org
SUMMARY:Visita Socio | Departamento del Trabajo y Recursos Humanos (DTRH)
DESCRIPTION:Programa Veteranos (Capítulo 41 Título 38 del Código de EU)\nServicio de Empleo\, Programa Agrícola y Programa RESEA\nPrograma Seguro por Desempleo
URL:https://conexionlaboralsurestepr.org/event/vista-socio-departamento-del-trabajo-y-recursos-humanos-dtrh/2025-11-18/
LOCATION:Las Piedras
CATEGORIES:Socios
END:VEVENT
BEGIN:VEVENT
DTSTART;TZID=America/Puerto_Rico:20251118T080000
DTEND;TZID=America/Puerto_Rico:20251118T163000
DTSTAMP:20260420T031345
CREATED:20251103T185220Z
LAST-MODIFIED:20251204T204656Z
UID:10004134-1763452800-1763483400@conexionlaboralsurestepr.org
SUMMARY:Visita Socio | One Stop Careers Center of PR
DESCRIPTION:Programa de Reintegración de Ex-Ofensores bajo Second Change Act
URL:https://conexionlaboralsurestepr.org/event/vista-socio-one-stop-careers-center-of-pr/2025-11-18/
LOCATION:Las Piedras
CATEGORIES:Socios
END:VEVENT
BEGIN:VEVENT
DTSTART;TZID=America/Puerto_Rico:20251119T080000
DTEND;TZID=America/Puerto_Rico:20251119T120000
DTSTAMP:20260420T031345
CREATED:20251103T185047Z
LAST-MODIFIED:20251204T204622Z
UID:10003808-1763539200-1763553600@conexionlaboralsurestepr.org
SUMMARY:Visita Socio | Título IV - "Social Security Act" Departamento de la Familia
DESCRIPTION:Programa TANF (Temporary Assistance for Needy Families)
URL:https://conexionlaboralsurestepr.org/event/vista-socio-titulo-iv-social-security-act-departamento-de-la-familia/2025-11-19/
LOCATION:Las Piedras
CATEGORIES:Socios
END:VEVENT
BEGIN:VEVENT
DTSTART;TZID=America/Puerto_Rico:20251119T080000
DTEND;TZID=America/Puerto_Rico:20251119T163000
DTSTAMP:20260420T031345
CREATED:20251031T153427Z
LAST-MODIFIED:20251031T173748Z
UID:10000015-1763539200-1763569800@conexionlaboralsurestepr.org
SUMMARY:Visita Socio | Título I - B
DESCRIPTION:Programa Jóvenes\, Adultos y Desplazados
URL:https://conexionlaboralsurestepr.org/event/visita-socios-titulo-i-b/2025-11-19/
LOCATION:Las Piedras
CATEGORIES:Socios
END:VEVENT
BEGIN:VEVENT
DTSTART;TZID=America/Puerto_Rico:20251119T080000
DTEND;TZID=America/Puerto_Rico:20251119T163000
DTSTAMP:20260420T031345
CREATED:20251031T173045Z
LAST-MODIFIED:20251204T204704Z
UID:10001841-1763539200-1763569800@conexionlaboralsurestepr.org
SUMMARY:Visita Socio | Departamento del Trabajo y Recursos Humanos (DTRH)
DESCRIPTION:Programa Veteranos (Capítulo 41 Título 38 del Código de EU)\nServicio de Empleo\, Programa Agrícola y Programa RESEA\nPrograma Seguro por Desempleo
URL:https://conexionlaboralsurestepr.org/event/vista-socio-departamento-del-trabajo-y-recursos-humanos-dtrh/2025-11-19/
LOCATION:Las Piedras
CATEGORIES:Socios
END:VEVENT
BEGIN:VEVENT
DTSTART;TZID=America/Puerto_Rico:20251119T080000
DTEND;TZID=America/Puerto_Rico:20251119T163000
DTSTAMP:20260420T031345
CREATED:20251103T185220Z
LAST-MODIFIED:20251204T204656Z
UID:10004135-1763539200-1763569800@conexionlaboralsurestepr.org
SUMMARY:Visita Socio | One Stop Careers Center of PR
DESCRIPTION:Programa de Reintegración de Ex-Ofensores bajo Second Change Act
URL:https://conexionlaboralsurestepr.org/event/vista-socio-one-stop-careers-center-of-pr/2025-11-19/
LOCATION:Las Piedras
CATEGORIES:Socios
END:VEVENT
BEGIN:VEVENT
DTSTART;TZID=America/Puerto_Rico:20251120T080000
DTEND;TZID=America/Puerto_Rico:20251120T163000
DTSTAMP:20260420T031345
CREATED:20251031T153427Z
LAST-MODIFIED:20251031T173748Z
UID:10000016-1763625600-1763656200@conexionlaboralsurestepr.org
SUMMARY:Visita Socio | Título I - B
DESCRIPTION:Programa Jóvenes\, Adultos y Desplazados
URL:https://conexionlaboralsurestepr.org/event/visita-socios-titulo-i-b/2025-11-20/
LOCATION:Las Piedras
CATEGORIES:Socios
END:VEVENT
END:VCALENDAR