BEGIN:VCALENDAR
VERSION:2.0
PRODID:-//Conexión Laboral Sureste - ECPv6.15.20//NONSGML v1.0//EN
CALSCALE:GREGORIAN
METHOD:PUBLISH
X-WR-CALNAME:Conexión Laboral Sureste
X-ORIGINAL-URL:https://conexionlaboralsurestepr.org
X-WR-CALDESC:Events for Conexión Laboral Sureste
REFRESH-INTERVAL;VALUE=DURATION:PT1H
X-Robots-Tag:noindex
X-PUBLISHED-TTL:PT1H
BEGIN:VTIMEZONE
TZID:America/Puerto_Rico
BEGIN:STANDARD
TZOFFSETFROM:-0400
TZOFFSETTO:-0400
TZNAME:AST
DTSTART:20250101T000000
END:STANDARD
END:VTIMEZONE
BEGIN:VEVENT
DTSTART;TZID=America/Puerto_Rico:20261019T080000
DTEND;TZID=America/Puerto_Rico:20261019T163000
DTSTAMP:20260419T182736
CREATED:20251031T153427Z
LAST-MODIFIED:20251031T173748Z
UID:10003178-1792396800-1792427400@conexionlaboralsurestepr.org
SUMMARY:Visita Socio | Título I - B
DESCRIPTION:Programa Jóvenes\, Adultos y Desplazados
URL:https://conexionlaboralsurestepr.org/event/visita-socios-titulo-i-b/2026-10-19/
LOCATION:Las Piedras
CATEGORIES:Socios
END:VEVENT
BEGIN:VEVENT
DTSTART;TZID=America/Puerto_Rico:20261019T080000
DTEND;TZID=America/Puerto_Rico:20261019T163000
DTSTAMP:20260419T182736
CREATED:20251031T173045Z
LAST-MODIFIED:20251204T204704Z
UID:10002079-1792396800-1792427400@conexionlaboralsurestepr.org
SUMMARY:Visita Socio | Departamento del Trabajo y Recursos Humanos (DTRH)
DESCRIPTION:Programa Veteranos (Capítulo 41 Título 38 del Código de EU)\nServicio de Empleo\, Programa Agrícola y Programa RESEA\nPrograma Seguro por Desempleo
URL:https://conexionlaboralsurestepr.org/event/vista-socio-departamento-del-trabajo-y-recursos-humanos-dtrh/2026-10-19/
LOCATION:Las Piedras
CATEGORIES:Socios
END:VEVENT
BEGIN:VEVENT
DTSTART;TZID=America/Puerto_Rico:20261019T080000
DTEND;TZID=America/Puerto_Rico:20261019T163000
DTSTAMP:20260419T182736
CREATED:20251103T185220Z
LAST-MODIFIED:20251204T204656Z
UID:10004421-1792396800-1792427400@conexionlaboralsurestepr.org
SUMMARY:Visita Socio | One Stop Careers Center of PR
DESCRIPTION:Programa de Reintegración de Ex-Ofensores bajo Second Change Act
URL:https://conexionlaboralsurestepr.org/event/vista-socio-one-stop-careers-center-of-pr/2026-10-19/
LOCATION:Las Piedras
CATEGORIES:Socios
END:VEVENT
BEGIN:VEVENT
DTSTART;TZID=America/Puerto_Rico:20261020T080000
DTEND;TZID=America/Puerto_Rico:20261020T163000
DTSTAMP:20260419T182736
CREATED:20251031T153427Z
LAST-MODIFIED:20251031T173748Z
UID:10003179-1792483200-1792513800@conexionlaboralsurestepr.org
SUMMARY:Visita Socio | Título I - B
DESCRIPTION:Programa Jóvenes\, Adultos y Desplazados
URL:https://conexionlaboralsurestepr.org/event/visita-socios-titulo-i-b/2026-10-20/
LOCATION:Las Piedras
CATEGORIES:Socios
END:VEVENT
BEGIN:VEVENT
DTSTART;TZID=America/Puerto_Rico:20261020T080000
DTEND;TZID=America/Puerto_Rico:20261020T163000
DTSTAMP:20260419T182736
CREATED:20251031T173045Z
LAST-MODIFIED:20251204T204704Z
UID:10002080-1792483200-1792513800@conexionlaboralsurestepr.org
SUMMARY:Visita Socio | Departamento del Trabajo y Recursos Humanos (DTRH)
DESCRIPTION:Programa Veteranos (Capítulo 41 Título 38 del Código de EU)\nServicio de Empleo\, Programa Agrícola y Programa RESEA\nPrograma Seguro por Desempleo
URL:https://conexionlaboralsurestepr.org/event/vista-socio-departamento-del-trabajo-y-recursos-humanos-dtrh/2026-10-20/
LOCATION:Las Piedras
CATEGORIES:Socios
END:VEVENT
BEGIN:VEVENT
DTSTART;TZID=America/Puerto_Rico:20261020T080000
DTEND;TZID=America/Puerto_Rico:20261020T163000
DTSTAMP:20260419T182736
CREATED:20251103T185220Z
LAST-MODIFIED:20251204T204656Z
UID:10004422-1792483200-1792513800@conexionlaboralsurestepr.org
SUMMARY:Visita Socio | One Stop Careers Center of PR
DESCRIPTION:Programa de Reintegración de Ex-Ofensores bajo Second Change Act
URL:https://conexionlaboralsurestepr.org/event/vista-socio-one-stop-careers-center-of-pr/2026-10-20/
LOCATION:Las Piedras
CATEGORIES:Socios
END:VEVENT
BEGIN:VEVENT
DTSTART;TZID=America/Puerto_Rico:20261021T080000
DTEND;TZID=America/Puerto_Rico:20261021T120000
DTSTAMP:20260419T182736
CREATED:20251103T185047Z
LAST-MODIFIED:20251204T204622Z
UID:10003856-1792569600-1792584000@conexionlaboralsurestepr.org
SUMMARY:Visita Socio | Título IV - "Social Security Act" Departamento de la Familia
DESCRIPTION:Programa TANF (Temporary Assistance for Needy Families)
URL:https://conexionlaboralsurestepr.org/event/vista-socio-titulo-iv-social-security-act-departamento-de-la-familia/2026-10-21/
LOCATION:Las Piedras
CATEGORIES:Socios
END:VEVENT
BEGIN:VEVENT
DTSTART;TZID=America/Puerto_Rico:20261021T080000
DTEND;TZID=America/Puerto_Rico:20261021T163000
DTSTAMP:20260419T182736
CREATED:20251031T153427Z
LAST-MODIFIED:20251031T173748Z
UID:10003180-1792569600-1792600200@conexionlaboralsurestepr.org
SUMMARY:Visita Socio | Título I - B
DESCRIPTION:Programa Jóvenes\, Adultos y Desplazados
URL:https://conexionlaboralsurestepr.org/event/visita-socios-titulo-i-b/2026-10-21/
LOCATION:Las Piedras
CATEGORIES:Socios
END:VEVENT
BEGIN:VEVENT
DTSTART;TZID=America/Puerto_Rico:20261021T080000
DTEND;TZID=America/Puerto_Rico:20261021T163000
DTSTAMP:20260419T182736
CREATED:20251031T173045Z
LAST-MODIFIED:20251204T204704Z
UID:10002081-1792569600-1792600200@conexionlaboralsurestepr.org
SUMMARY:Visita Socio | Departamento del Trabajo y Recursos Humanos (DTRH)
DESCRIPTION:Programa Veteranos (Capítulo 41 Título 38 del Código de EU)\nServicio de Empleo\, Programa Agrícola y Programa RESEA\nPrograma Seguro por Desempleo
URL:https://conexionlaboralsurestepr.org/event/vista-socio-departamento-del-trabajo-y-recursos-humanos-dtrh/2026-10-21/
LOCATION:Las Piedras
CATEGORIES:Socios
END:VEVENT
BEGIN:VEVENT
DTSTART;TZID=America/Puerto_Rico:20261021T080000
DTEND;TZID=America/Puerto_Rico:20261021T163000
DTSTAMP:20260419T182736
CREATED:20251103T185220Z
LAST-MODIFIED:20251204T204656Z
UID:10004423-1792569600-1792600200@conexionlaboralsurestepr.org
SUMMARY:Visita Socio | One Stop Careers Center of PR
DESCRIPTION:Programa de Reintegración de Ex-Ofensores bajo Second Change Act
URL:https://conexionlaboralsurestepr.org/event/vista-socio-one-stop-careers-center-of-pr/2026-10-21/
LOCATION:Las Piedras
CATEGORIES:Socios
END:VEVENT
BEGIN:VEVENT
DTSTART;TZID=America/Puerto_Rico:20261022T080000
DTEND;TZID=America/Puerto_Rico:20261022T163000
DTSTAMP:20260419T182736
CREATED:20251031T153427Z
LAST-MODIFIED:20251031T173748Z
UID:10003181-1792656000-1792686600@conexionlaboralsurestepr.org
SUMMARY:Visita Socio | Título I - B
DESCRIPTION:Programa Jóvenes\, Adultos y Desplazados
URL:https://conexionlaboralsurestepr.org/event/visita-socios-titulo-i-b/2026-10-22/
LOCATION:Las Piedras
CATEGORIES:Socios
END:VEVENT
BEGIN:VEVENT
DTSTART;TZID=America/Puerto_Rico:20261022T080000
DTEND;TZID=America/Puerto_Rico:20261022T163000
DTSTAMP:20260419T182736
CREATED:20251031T173045Z
LAST-MODIFIED:20251204T204704Z
UID:10002082-1792656000-1792686600@conexionlaboralsurestepr.org
SUMMARY:Visita Socio | Departamento del Trabajo y Recursos Humanos (DTRH)
DESCRIPTION:Programa Veteranos (Capítulo 41 Título 38 del Código de EU)\nServicio de Empleo\, Programa Agrícola y Programa RESEA\nPrograma Seguro por Desempleo
URL:https://conexionlaboralsurestepr.org/event/vista-socio-departamento-del-trabajo-y-recursos-humanos-dtrh/2026-10-22/
LOCATION:Las Piedras
CATEGORIES:Socios
END:VEVENT
BEGIN:VEVENT
DTSTART;TZID=America/Puerto_Rico:20261022T080000
DTEND;TZID=America/Puerto_Rico:20261022T163000
DTSTAMP:20260419T182736
CREATED:20251103T184914Z
LAST-MODIFIED:20251204T204647Z
UID:10003586-1792656000-1792686600@conexionlaboralsurestepr.org
SUMMARY:Visita Socio | Título II - Departamento de Educación
DESCRIPTION:Programa de Educación y Literacia de Adultos
URL:https://conexionlaboralsurestepr.org/event/vista-socio-titulo-ii-departamento-de-educacion/2026-10-22/
LOCATION:Las Piedras
CATEGORIES:Socios
END:VEVENT
BEGIN:VEVENT
DTSTART;TZID=America/Puerto_Rico:20261022T080000
DTEND;TZID=America/Puerto_Rico:20261022T163000
DTSTAMP:20260419T182736
CREATED:20251103T185220Z
LAST-MODIFIED:20251204T204656Z
UID:10004424-1792656000-1792686600@conexionlaboralsurestepr.org
SUMMARY:Visita Socio | One Stop Careers Center of PR
DESCRIPTION:Programa de Reintegración de Ex-Ofensores bajo Second Change Act
URL:https://conexionlaboralsurestepr.org/event/vista-socio-one-stop-careers-center-of-pr/2026-10-22/
LOCATION:Las Piedras
CATEGORIES:Socios
END:VEVENT
BEGIN:VEVENT
DTSTART;TZID=America/Puerto_Rico:20261023T080000
DTEND;TZID=America/Puerto_Rico:20261023T163000
DTSTAMP:20260419T182736
CREATED:20251031T153427Z
LAST-MODIFIED:20251031T173748Z
UID:10003182-1792742400-1792773000@conexionlaboralsurestepr.org
SUMMARY:Visita Socio | Título I - B
DESCRIPTION:Programa Jóvenes\, Adultos y Desplazados
URL:https://conexionlaboralsurestepr.org/event/visita-socios-titulo-i-b/2026-10-23/
LOCATION:Las Piedras
CATEGORIES:Socios
END:VEVENT
BEGIN:VEVENT
DTSTART;TZID=America/Puerto_Rico:20261023T080000
DTEND;TZID=America/Puerto_Rico:20261023T163000
DTSTAMP:20260419T182736
CREATED:20251031T173045Z
LAST-MODIFIED:20251204T204704Z
UID:10002083-1792742400-1792773000@conexionlaboralsurestepr.org
SUMMARY:Visita Socio | Departamento del Trabajo y Recursos Humanos (DTRH)
DESCRIPTION:Programa Veteranos (Capítulo 41 Título 38 del Código de EU)\nServicio de Empleo\, Programa Agrícola y Programa RESEA\nPrograma Seguro por Desempleo
URL:https://conexionlaboralsurestepr.org/event/vista-socio-departamento-del-trabajo-y-recursos-humanos-dtrh/2026-10-23/
LOCATION:Las Piedras
CATEGORIES:Socios
END:VEVENT
BEGIN:VEVENT
DTSTART;TZID=America/Puerto_Rico:20261023T080000
DTEND;TZID=America/Puerto_Rico:20261023T163000
DTSTAMP:20260419T182736
CREATED:20251103T185220Z
LAST-MODIFIED:20251204T204656Z
UID:10004425-1792742400-1792773000@conexionlaboralsurestepr.org
SUMMARY:Visita Socio | One Stop Careers Center of PR
DESCRIPTION:Programa de Reintegración de Ex-Ofensores bajo Second Change Act
URL:https://conexionlaboralsurestepr.org/event/vista-socio-one-stop-careers-center-of-pr/2026-10-23/
LOCATION:Las Piedras
CATEGORIES:Socios
END:VEVENT
BEGIN:VEVENT
DTSTART;TZID=America/Puerto_Rico:20261025T080000
DTEND;TZID=America/Puerto_Rico:20261025T163000
DTSTAMP:20260419T182736
CREATED:20251103T185220Z
LAST-MODIFIED:20251204T204656Z
UID:10004426-1792915200-1792945800@conexionlaboralsurestepr.org
SUMMARY:Visita Socio | One Stop Careers Center of PR
DESCRIPTION:Programa de Reintegración de Ex-Ofensores bajo Second Change Act
URL:https://conexionlaboralsurestepr.org/event/vista-socio-one-stop-careers-center-of-pr/2026-10-25/
LOCATION:Las Piedras
CATEGORIES:Socios
END:VEVENT
BEGIN:VEVENT
DTSTART;TZID=America/Puerto_Rico:20261026T080000
DTEND;TZID=America/Puerto_Rico:20261026T163000
DTSTAMP:20260419T182736
CREATED:20251031T173045Z
LAST-MODIFIED:20251204T204704Z
UID:10002084-1793001600-1793032200@conexionlaboralsurestepr.org
SUMMARY:Visita Socio | Departamento del Trabajo y Recursos Humanos (DTRH)
DESCRIPTION:Programa Veteranos (Capítulo 41 Título 38 del Código de EU)\nServicio de Empleo\, Programa Agrícola y Programa RESEA\nPrograma Seguro por Desempleo
URL:https://conexionlaboralsurestepr.org/event/vista-socio-departamento-del-trabajo-y-recursos-humanos-dtrh/2026-10-26/
LOCATION:Las Piedras
CATEGORIES:Socios
END:VEVENT
BEGIN:VEVENT
DTSTART;TZID=America/Puerto_Rico:20261026T080000
DTEND;TZID=America/Puerto_Rico:20261026T163000
DTSTAMP:20260419T182736
CREATED:20251103T185220Z
LAST-MODIFIED:20251204T204656Z
UID:10004427-1793001600-1793032200@conexionlaboralsurestepr.org
SUMMARY:Visita Socio | One Stop Careers Center of PR
DESCRIPTION:Programa de Reintegración de Ex-Ofensores bajo Second Change Act
URL:https://conexionlaboralsurestepr.org/event/vista-socio-one-stop-careers-center-of-pr/2026-10-26/
LOCATION:Las Piedras
CATEGORIES:Socios
END:VEVENT
BEGIN:VEVENT
DTSTART;TZID=America/Puerto_Rico:20261027T080000
DTEND;TZID=America/Puerto_Rico:20261027T163000
DTSTAMP:20260419T182736
CREATED:20251031T173045Z
LAST-MODIFIED:20251204T204704Z
UID:10002085-1793088000-1793118600@conexionlaboralsurestepr.org
SUMMARY:Visita Socio | Departamento del Trabajo y Recursos Humanos (DTRH)
DESCRIPTION:Programa Veteranos (Capítulo 41 Título 38 del Código de EU)\nServicio de Empleo\, Programa Agrícola y Programa RESEA\nPrograma Seguro por Desempleo
URL:https://conexionlaboralsurestepr.org/event/vista-socio-departamento-del-trabajo-y-recursos-humanos-dtrh/2026-10-27/
LOCATION:Las Piedras
CATEGORIES:Socios
END:VEVENT
BEGIN:VEVENT
DTSTART;TZID=America/Puerto_Rico:20261027T080000
DTEND;TZID=America/Puerto_Rico:20261027T163000
DTSTAMP:20260419T182736
CREATED:20251103T185220Z
LAST-MODIFIED:20251204T204656Z
UID:10004428-1793088000-1793118600@conexionlaboralsurestepr.org
SUMMARY:Visita Socio | One Stop Careers Center of PR
DESCRIPTION:Programa de Reintegración de Ex-Ofensores bajo Second Change Act
URL:https://conexionlaboralsurestepr.org/event/vista-socio-one-stop-careers-center-of-pr/2026-10-27/
LOCATION:Las Piedras
CATEGORIES:Socios
END:VEVENT
BEGIN:VEVENT
DTSTART;TZID=America/Puerto_Rico:20261028T080000
DTEND;TZID=America/Puerto_Rico:20261028T120000
DTSTAMP:20260419T182736
CREATED:20251103T185047Z
LAST-MODIFIED:20251204T204622Z
UID:10003857-1793174400-1793188800@conexionlaboralsurestepr.org
SUMMARY:Visita Socio | Título IV - "Social Security Act" Departamento de la Familia
DESCRIPTION:Programa TANF (Temporary Assistance for Needy Families)
URL:https://conexionlaboralsurestepr.org/event/vista-socio-titulo-iv-social-security-act-departamento-de-la-familia/2026-10-28/
LOCATION:Las Piedras
CATEGORIES:Socios
END:VEVENT
BEGIN:VEVENT
DTSTART;TZID=America/Puerto_Rico:20261028T080000
DTEND;TZID=America/Puerto_Rico:20261028T163000
DTSTAMP:20260419T182737
CREATED:20251031T173045Z
LAST-MODIFIED:20251204T204704Z
UID:10002086-1793174400-1793205000@conexionlaboralsurestepr.org
SUMMARY:Visita Socio | Departamento del Trabajo y Recursos Humanos (DTRH)
DESCRIPTION:Programa Veteranos (Capítulo 41 Título 38 del Código de EU)\nServicio de Empleo\, Programa Agrícola y Programa RESEA\nPrograma Seguro por Desempleo
URL:https://conexionlaboralsurestepr.org/event/vista-socio-departamento-del-trabajo-y-recursos-humanos-dtrh/2026-10-28/
LOCATION:Las Piedras
CATEGORIES:Socios
END:VEVENT
BEGIN:VEVENT
DTSTART;TZID=America/Puerto_Rico:20261028T080000
DTEND;TZID=America/Puerto_Rico:20261028T163000
DTSTAMP:20260419T182737
CREATED:20251103T185220Z
LAST-MODIFIED:20251204T204656Z
UID:10004429-1793174400-1793205000@conexionlaboralsurestepr.org
SUMMARY:Visita Socio | One Stop Careers Center of PR
DESCRIPTION:Programa de Reintegración de Ex-Ofensores bajo Second Change Act
URL:https://conexionlaboralsurestepr.org/event/vista-socio-one-stop-careers-center-of-pr/2026-10-28/
LOCATION:Las Piedras
CATEGORIES:Socios
END:VEVENT
BEGIN:VEVENT
DTSTART;TZID=America/Puerto_Rico:20261029T080000
DTEND;TZID=America/Puerto_Rico:20261029T163000
DTSTAMP:20260419T182737
CREATED:20251031T173045Z
LAST-MODIFIED:20251204T204704Z
UID:10002087-1793260800-1793291400@conexionlaboralsurestepr.org
SUMMARY:Visita Socio | Departamento del Trabajo y Recursos Humanos (DTRH)
DESCRIPTION:Programa Veteranos (Capítulo 41 Título 38 del Código de EU)\nServicio de Empleo\, Programa Agrícola y Programa RESEA\nPrograma Seguro por Desempleo
URL:https://conexionlaboralsurestepr.org/event/vista-socio-departamento-del-trabajo-y-recursos-humanos-dtrh/2026-10-29/
LOCATION:Las Piedras
CATEGORIES:Socios
END:VEVENT
BEGIN:VEVENT
DTSTART;TZID=America/Puerto_Rico:20261029T080000
DTEND;TZID=America/Puerto_Rico:20261029T163000
DTSTAMP:20260419T182737
CREATED:20251103T184914Z
LAST-MODIFIED:20251204T204647Z
UID:10003587-1793260800-1793291400@conexionlaboralsurestepr.org
SUMMARY:Visita Socio | Título II - Departamento de Educación
DESCRIPTION:Programa de Educación y Literacia de Adultos
URL:https://conexionlaboralsurestepr.org/event/vista-socio-titulo-ii-departamento-de-educacion/2026-10-29/
LOCATION:Las Piedras
CATEGORIES:Socios
END:VEVENT
BEGIN:VEVENT
DTSTART;TZID=America/Puerto_Rico:20261029T080000
DTEND;TZID=America/Puerto_Rico:20261029T163000
DTSTAMP:20260419T182737
CREATED:20251103T185220Z
LAST-MODIFIED:20251204T204656Z
UID:10004430-1793260800-1793291400@conexionlaboralsurestepr.org
SUMMARY:Visita Socio | One Stop Careers Center of PR
DESCRIPTION:Programa de Reintegración de Ex-Ofensores bajo Second Change Act
URL:https://conexionlaboralsurestepr.org/event/vista-socio-one-stop-careers-center-of-pr/2026-10-29/
LOCATION:Las Piedras
CATEGORIES:Socios
END:VEVENT
BEGIN:VEVENT
DTSTART;TZID=America/Puerto_Rico:20261030T080000
DTEND;TZID=America/Puerto_Rico:20261030T163000
DTSTAMP:20260419T182737
CREATED:20251031T173045Z
LAST-MODIFIED:20251204T204704Z
UID:10002088-1793347200-1793377800@conexionlaboralsurestepr.org
SUMMARY:Visita Socio | Departamento del Trabajo y Recursos Humanos (DTRH)
DESCRIPTION:Programa Veteranos (Capítulo 41 Título 38 del Código de EU)\nServicio de Empleo\, Programa Agrícola y Programa RESEA\nPrograma Seguro por Desempleo
URL:https://conexionlaboralsurestepr.org/event/vista-socio-departamento-del-trabajo-y-recursos-humanos-dtrh/2026-10-30/
LOCATION:Las Piedras
CATEGORIES:Socios
END:VEVENT
BEGIN:VEVENT
DTSTART;TZID=America/Puerto_Rico:20261030T080000
DTEND;TZID=America/Puerto_Rico:20261030T163000
DTSTAMP:20260419T182737
CREATED:20251103T185220Z
LAST-MODIFIED:20251204T204656Z
UID:10004431-1793347200-1793377800@conexionlaboralsurestepr.org
SUMMARY:Visita Socio | One Stop Careers Center of PR
DESCRIPTION:Programa de Reintegración de Ex-Ofensores bajo Second Change Act
URL:https://conexionlaboralsurestepr.org/event/vista-socio-one-stop-careers-center-of-pr/2026-10-30/
LOCATION:Las Piedras
CATEGORIES:Socios
END:VEVENT
END:VCALENDAR