BEGIN:VCALENDAR
VERSION:2.0
PRODID:-//Conexión Laboral Sureste - ECPv6.15.20//NONSGML v1.0//EN
CALSCALE:GREGORIAN
METHOD:PUBLISH
X-WR-CALNAME:Conexión Laboral Sureste
X-ORIGINAL-URL:https://conexionlaboralsurestepr.org
X-WR-CALDESC:Events for Conexión Laboral Sureste
REFRESH-INTERVAL;VALUE=DURATION:PT1H
X-Robots-Tag:noindex
X-PUBLISHED-TTL:PT1H
BEGIN:VTIMEZONE
TZID:America/Puerto_Rico
BEGIN:STANDARD
TZOFFSETFROM:-0400
TZOFFSETTO:-0400
TZNAME:AST
DTSTART:20260101T000000
END:STANDARD
END:VTIMEZONE
BEGIN:VEVENT
DTSTART;TZID=America/Puerto_Rico:20271018T080000
DTEND;TZID=America/Puerto_Rico:20271018T163000
DTSTAMP:20260420T221942
CREATED:20251031T173045Z
LAST-MODIFIED:20251204T204704Z
UID:10002339-1823846400-1823877000@conexionlaboralsurestepr.org
SUMMARY:Visita Socio | Departamento del Trabajo y Recursos Humanos (DTRH)
DESCRIPTION:Programa Veteranos (Capítulo 41 Título 38 del Código de EU)\nServicio de Empleo\, Programa Agrícola y Programa RESEA\nPrograma Seguro por Desempleo
URL:https://conexionlaboralsurestepr.org/event/vista-socio-departamento-del-trabajo-y-recursos-humanos-dtrh/2027-10-18/
LOCATION:Las Piedras
CATEGORIES:Socios
END:VEVENT
BEGIN:VEVENT
DTSTART;TZID=America/Puerto_Rico:20271018T080000
DTEND;TZID=America/Puerto_Rico:20271018T163000
DTSTAMP:20260420T221942
CREATED:20251103T185220Z
LAST-MODIFIED:20251204T204656Z
UID:10004733-1823846400-1823877000@conexionlaboralsurestepr.org
SUMMARY:Visita Socio | One Stop Careers Center of PR
DESCRIPTION:Programa de Reintegración de Ex-Ofensores bajo Second Change Act
URL:https://conexionlaboralsurestepr.org/event/vista-socio-one-stop-careers-center-of-pr/2027-10-18/
LOCATION:Las Piedras
CATEGORIES:Socios
END:VEVENT
BEGIN:VEVENT
DTSTART;TZID=America/Puerto_Rico:20271019T080000
DTEND;TZID=America/Puerto_Rico:20271019T163000
DTSTAMP:20260420T221942
CREATED:20251031T173045Z
LAST-MODIFIED:20251204T204704Z
UID:10002340-1823932800-1823963400@conexionlaboralsurestepr.org
SUMMARY:Visita Socio | Departamento del Trabajo y Recursos Humanos (DTRH)
DESCRIPTION:Programa Veteranos (Capítulo 41 Título 38 del Código de EU)\nServicio de Empleo\, Programa Agrícola y Programa RESEA\nPrograma Seguro por Desempleo
URL:https://conexionlaboralsurestepr.org/event/vista-socio-departamento-del-trabajo-y-recursos-humanos-dtrh/2027-10-19/
LOCATION:Las Piedras
CATEGORIES:Socios
END:VEVENT
BEGIN:VEVENT
DTSTART;TZID=America/Puerto_Rico:20271019T080000
DTEND;TZID=America/Puerto_Rico:20271019T163000
DTSTAMP:20260420T221942
CREATED:20251103T185220Z
LAST-MODIFIED:20251204T204656Z
UID:10004734-1823932800-1823963400@conexionlaboralsurestepr.org
SUMMARY:Visita Socio | One Stop Careers Center of PR
DESCRIPTION:Programa de Reintegración de Ex-Ofensores bajo Second Change Act
URL:https://conexionlaboralsurestepr.org/event/vista-socio-one-stop-careers-center-of-pr/2027-10-19/
LOCATION:Las Piedras
CATEGORIES:Socios
END:VEVENT
BEGIN:VEVENT
DTSTART;TZID=America/Puerto_Rico:20271020T080000
DTEND;TZID=America/Puerto_Rico:20271020T120000
DTSTAMP:20260420T221942
CREATED:20251103T185047Z
LAST-MODIFIED:20251204T204622Z
UID:10003908-1824019200-1824033600@conexionlaboralsurestepr.org
SUMMARY:Visita Socio | Título IV - "Social Security Act" Departamento de la Familia
DESCRIPTION:Programa TANF (Temporary Assistance for Needy Families)
URL:https://conexionlaboralsurestepr.org/event/vista-socio-titulo-iv-social-security-act-departamento-de-la-familia/2027-10-20/
LOCATION:Las Piedras
CATEGORIES:Socios
END:VEVENT
BEGIN:VEVENT
DTSTART;TZID=America/Puerto_Rico:20271020T080000
DTEND;TZID=America/Puerto_Rico:20271020T163000
DTSTAMP:20260420T221942
CREATED:20251031T173045Z
LAST-MODIFIED:20251204T204704Z
UID:10002341-1824019200-1824049800@conexionlaboralsurestepr.org
SUMMARY:Visita Socio | Departamento del Trabajo y Recursos Humanos (DTRH)
DESCRIPTION:Programa Veteranos (Capítulo 41 Título 38 del Código de EU)\nServicio de Empleo\, Programa Agrícola y Programa RESEA\nPrograma Seguro por Desempleo
URL:https://conexionlaboralsurestepr.org/event/vista-socio-departamento-del-trabajo-y-recursos-humanos-dtrh/2027-10-20/
LOCATION:Las Piedras
CATEGORIES:Socios
END:VEVENT
BEGIN:VEVENT
DTSTART;TZID=America/Puerto_Rico:20271020T080000
DTEND;TZID=America/Puerto_Rico:20271020T163000
DTSTAMP:20260420T221942
CREATED:20251103T185220Z
LAST-MODIFIED:20251204T204656Z
UID:10004735-1824019200-1824049800@conexionlaboralsurestepr.org
SUMMARY:Visita Socio | One Stop Careers Center of PR
DESCRIPTION:Programa de Reintegración de Ex-Ofensores bajo Second Change Act
URL:https://conexionlaboralsurestepr.org/event/vista-socio-one-stop-careers-center-of-pr/2027-10-20/
LOCATION:Las Piedras
CATEGORIES:Socios
END:VEVENT
BEGIN:VEVENT
DTSTART;TZID=America/Puerto_Rico:20271021T080000
DTEND;TZID=America/Puerto_Rico:20271021T163000
DTSTAMP:20260420T221942
CREATED:20251031T173045Z
LAST-MODIFIED:20251204T204704Z
UID:10002342-1824105600-1824136200@conexionlaboralsurestepr.org
SUMMARY:Visita Socio | Departamento del Trabajo y Recursos Humanos (DTRH)
DESCRIPTION:Programa Veteranos (Capítulo 41 Título 38 del Código de EU)\nServicio de Empleo\, Programa Agrícola y Programa RESEA\nPrograma Seguro por Desempleo
URL:https://conexionlaboralsurestepr.org/event/vista-socio-departamento-del-trabajo-y-recursos-humanos-dtrh/2027-10-21/
LOCATION:Las Piedras
CATEGORIES:Socios
END:VEVENT
BEGIN:VEVENT
DTSTART;TZID=America/Puerto_Rico:20271021T080000
DTEND;TZID=America/Puerto_Rico:20271021T163000
DTSTAMP:20260420T221942
CREATED:20251103T184914Z
LAST-MODIFIED:20251204T204647Z
UID:10003638-1824105600-1824136200@conexionlaboralsurestepr.org
SUMMARY:Visita Socio | Título II - Departamento de Educación
DESCRIPTION:Programa de Educación y Literacia de Adultos
URL:https://conexionlaboralsurestepr.org/event/vista-socio-titulo-ii-departamento-de-educacion/2027-10-21/
LOCATION:Las Piedras
CATEGORIES:Socios
END:VEVENT
BEGIN:VEVENT
DTSTART;TZID=America/Puerto_Rico:20271021T080000
DTEND;TZID=America/Puerto_Rico:20271021T163000
DTSTAMP:20260420T221942
CREATED:20251103T185220Z
LAST-MODIFIED:20251204T204656Z
UID:10004736-1824105600-1824136200@conexionlaboralsurestepr.org
SUMMARY:Visita Socio | One Stop Careers Center of PR
DESCRIPTION:Programa de Reintegración de Ex-Ofensores bajo Second Change Act
URL:https://conexionlaboralsurestepr.org/event/vista-socio-one-stop-careers-center-of-pr/2027-10-21/
LOCATION:Las Piedras
CATEGORIES:Socios
END:VEVENT
BEGIN:VEVENT
DTSTART;TZID=America/Puerto_Rico:20271022T080000
DTEND;TZID=America/Puerto_Rico:20271022T163000
DTSTAMP:20260420T221942
CREATED:20251031T153427Z
LAST-MODIFIED:20251031T173748Z
UID:10001490-1824192000-1824222600@conexionlaboralsurestepr.org
SUMMARY:Visita Socio | Título I - B
DESCRIPTION:Programa Jóvenes\, Adultos y Desplazados
URL:https://conexionlaboralsurestepr.org/event/visita-socios-titulo-i-b/2027-10-22/
LOCATION:Las Piedras
CATEGORIES:Socios
END:VEVENT
BEGIN:VEVENT
DTSTART;TZID=America/Puerto_Rico:20271022T080000
DTEND;TZID=America/Puerto_Rico:20271022T163000
DTSTAMP:20260420T221942
CREATED:20251031T173045Z
LAST-MODIFIED:20251204T204704Z
UID:10002343-1824192000-1824222600@conexionlaboralsurestepr.org
SUMMARY:Visita Socio | Departamento del Trabajo y Recursos Humanos (DTRH)
DESCRIPTION:Programa Veteranos (Capítulo 41 Título 38 del Código de EU)\nServicio de Empleo\, Programa Agrícola y Programa RESEA\nPrograma Seguro por Desempleo
URL:https://conexionlaboralsurestepr.org/event/vista-socio-departamento-del-trabajo-y-recursos-humanos-dtrh/2027-10-22/
LOCATION:Las Piedras
CATEGORIES:Socios
END:VEVENT
BEGIN:VEVENT
DTSTART;TZID=America/Puerto_Rico:20271022T080000
DTEND;TZID=America/Puerto_Rico:20271022T163000
DTSTAMP:20260420T221942
CREATED:20251103T185220Z
LAST-MODIFIED:20251204T204656Z
UID:10004737-1824192000-1824222600@conexionlaboralsurestepr.org
SUMMARY:Visita Socio | One Stop Careers Center of PR
DESCRIPTION:Programa de Reintegración de Ex-Ofensores bajo Second Change Act
URL:https://conexionlaboralsurestepr.org/event/vista-socio-one-stop-careers-center-of-pr/2027-10-22/
LOCATION:Las Piedras
CATEGORIES:Socios
END:VEVENT
BEGIN:VEVENT
DTSTART;TZID=America/Puerto_Rico:20271024T080000
DTEND;TZID=America/Puerto_Rico:20271024T163000
DTSTAMP:20260420T221942
CREATED:20251103T185220Z
LAST-MODIFIED:20251204T204656Z
UID:10004738-1824364800-1824395400@conexionlaboralsurestepr.org
SUMMARY:Visita Socio | One Stop Careers Center of PR
DESCRIPTION:Programa de Reintegración de Ex-Ofensores bajo Second Change Act
URL:https://conexionlaboralsurestepr.org/event/vista-socio-one-stop-careers-center-of-pr/2027-10-24/
LOCATION:Las Piedras
CATEGORIES:Socios
END:VEVENT
BEGIN:VEVENT
DTSTART;TZID=America/Puerto_Rico:20271025T080000
DTEND;TZID=America/Puerto_Rico:20271025T163000
DTSTAMP:20260420T221942
CREATED:20251031T173045Z
LAST-MODIFIED:20251204T204704Z
UID:10002344-1824451200-1824481800@conexionlaboralsurestepr.org
SUMMARY:Visita Socio | Departamento del Trabajo y Recursos Humanos (DTRH)
DESCRIPTION:Programa Veteranos (Capítulo 41 Título 38 del Código de EU)\nServicio de Empleo\, Programa Agrícola y Programa RESEA\nPrograma Seguro por Desempleo
URL:https://conexionlaboralsurestepr.org/event/vista-socio-departamento-del-trabajo-y-recursos-humanos-dtrh/2027-10-25/
LOCATION:Las Piedras
CATEGORIES:Socios
END:VEVENT
BEGIN:VEVENT
DTSTART;TZID=America/Puerto_Rico:20271025T080000
DTEND;TZID=America/Puerto_Rico:20271025T163000
DTSTAMP:20260420T221943
CREATED:20251103T185220Z
LAST-MODIFIED:20251204T204656Z
UID:10004739-1824451200-1824481800@conexionlaboralsurestepr.org
SUMMARY:Visita Socio | One Stop Careers Center of PR
DESCRIPTION:Programa de Reintegración de Ex-Ofensores bajo Second Change Act
URL:https://conexionlaboralsurestepr.org/event/vista-socio-one-stop-careers-center-of-pr/2027-10-25/
LOCATION:Las Piedras
CATEGORIES:Socios
END:VEVENT
BEGIN:VEVENT
DTSTART;TZID=America/Puerto_Rico:20271026T080000
DTEND;TZID=America/Puerto_Rico:20271026T163000
DTSTAMP:20260420T221943
CREATED:20251031T173045Z
LAST-MODIFIED:20251204T204704Z
UID:10002345-1824537600-1824568200@conexionlaboralsurestepr.org
SUMMARY:Visita Socio | Departamento del Trabajo y Recursos Humanos (DTRH)
DESCRIPTION:Programa Veteranos (Capítulo 41 Título 38 del Código de EU)\nServicio de Empleo\, Programa Agrícola y Programa RESEA\nPrograma Seguro por Desempleo
URL:https://conexionlaboralsurestepr.org/event/vista-socio-departamento-del-trabajo-y-recursos-humanos-dtrh/2027-10-26/
LOCATION:Las Piedras
CATEGORIES:Socios
END:VEVENT
BEGIN:VEVENT
DTSTART;TZID=America/Puerto_Rico:20271026T080000
DTEND;TZID=America/Puerto_Rico:20271026T163000
DTSTAMP:20260420T221943
CREATED:20251103T185220Z
LAST-MODIFIED:20251204T204656Z
UID:10004740-1824537600-1824568200@conexionlaboralsurestepr.org
SUMMARY:Visita Socio | One Stop Careers Center of PR
DESCRIPTION:Programa de Reintegración de Ex-Ofensores bajo Second Change Act
URL:https://conexionlaboralsurestepr.org/event/vista-socio-one-stop-careers-center-of-pr/2027-10-26/
LOCATION:Las Piedras
CATEGORIES:Socios
END:VEVENT
BEGIN:VEVENT
DTSTART;TZID=America/Puerto_Rico:20271027T080000
DTEND;TZID=America/Puerto_Rico:20271027T120000
DTSTAMP:20260420T221943
CREATED:20251103T185047Z
LAST-MODIFIED:20251204T204622Z
UID:10003909-1824624000-1824638400@conexionlaboralsurestepr.org
SUMMARY:Visita Socio | Título IV - "Social Security Act" Departamento de la Familia
DESCRIPTION:Programa TANF (Temporary Assistance for Needy Families)
URL:https://conexionlaboralsurestepr.org/event/vista-socio-titulo-iv-social-security-act-departamento-de-la-familia/2027-10-27/
LOCATION:Las Piedras
CATEGORIES:Socios
END:VEVENT
BEGIN:VEVENT
DTSTART;TZID=America/Puerto_Rico:20271027T080000
DTEND;TZID=America/Puerto_Rico:20271027T163000
DTSTAMP:20260420T221943
CREATED:20251031T173045Z
LAST-MODIFIED:20251204T204704Z
UID:10002346-1824624000-1824654600@conexionlaboralsurestepr.org
SUMMARY:Visita Socio | Departamento del Trabajo y Recursos Humanos (DTRH)
DESCRIPTION:Programa Veteranos (Capítulo 41 Título 38 del Código de EU)\nServicio de Empleo\, Programa Agrícola y Programa RESEA\nPrograma Seguro por Desempleo
URL:https://conexionlaboralsurestepr.org/event/vista-socio-departamento-del-trabajo-y-recursos-humanos-dtrh/2027-10-27/
LOCATION:Las Piedras
CATEGORIES:Socios
END:VEVENT
BEGIN:VEVENT
DTSTART;TZID=America/Puerto_Rico:20271027T080000
DTEND;TZID=America/Puerto_Rico:20271027T163000
DTSTAMP:20260420T221943
CREATED:20251103T185220Z
LAST-MODIFIED:20251204T204656Z
UID:10004741-1824624000-1824654600@conexionlaboralsurestepr.org
SUMMARY:Visita Socio | One Stop Careers Center of PR
DESCRIPTION:Programa de Reintegración de Ex-Ofensores bajo Second Change Act
URL:https://conexionlaboralsurestepr.org/event/vista-socio-one-stop-careers-center-of-pr/2027-10-27/
LOCATION:Las Piedras
CATEGORIES:Socios
END:VEVENT
BEGIN:VEVENT
DTSTART;TZID=America/Puerto_Rico:20271028T080000
DTEND;TZID=America/Puerto_Rico:20271028T163000
DTSTAMP:20260420T221943
CREATED:20251031T173045Z
LAST-MODIFIED:20251204T204704Z
UID:10002347-1824710400-1824741000@conexionlaboralsurestepr.org
SUMMARY:Visita Socio | Departamento del Trabajo y Recursos Humanos (DTRH)
DESCRIPTION:Programa Veteranos (Capítulo 41 Título 38 del Código de EU)\nServicio de Empleo\, Programa Agrícola y Programa RESEA\nPrograma Seguro por Desempleo
URL:https://conexionlaboralsurestepr.org/event/vista-socio-departamento-del-trabajo-y-recursos-humanos-dtrh/2027-10-28/
LOCATION:Las Piedras
CATEGORIES:Socios
END:VEVENT
BEGIN:VEVENT
DTSTART;TZID=America/Puerto_Rico:20271028T080000
DTEND;TZID=America/Puerto_Rico:20271028T163000
DTSTAMP:20260420T221943
CREATED:20251103T184914Z
LAST-MODIFIED:20251204T204647Z
UID:10003639-1824710400-1824741000@conexionlaboralsurestepr.org
SUMMARY:Visita Socio | Título II - Departamento de Educación
DESCRIPTION:Programa de Educación y Literacia de Adultos
URL:https://conexionlaboralsurestepr.org/event/vista-socio-titulo-ii-departamento-de-educacion/2027-10-28/
LOCATION:Las Piedras
CATEGORIES:Socios
END:VEVENT
BEGIN:VEVENT
DTSTART;TZID=America/Puerto_Rico:20271028T080000
DTEND;TZID=America/Puerto_Rico:20271028T163000
DTSTAMP:20260420T221943
CREATED:20251103T185220Z
LAST-MODIFIED:20251204T204656Z
UID:10004742-1824710400-1824741000@conexionlaboralsurestepr.org
SUMMARY:Visita Socio | One Stop Careers Center of PR
DESCRIPTION:Programa de Reintegración de Ex-Ofensores bajo Second Change Act
URL:https://conexionlaboralsurestepr.org/event/vista-socio-one-stop-careers-center-of-pr/2027-10-28/
LOCATION:Las Piedras
CATEGORIES:Socios
END:VEVENT
BEGIN:VEVENT
DTSTART;TZID=America/Puerto_Rico:20271029T080000
DTEND;TZID=America/Puerto_Rico:20271029T163000
DTSTAMP:20260420T221943
CREATED:20251031T153427Z
LAST-MODIFIED:20251031T173748Z
UID:10001491-1824796800-1824827400@conexionlaboralsurestepr.org
SUMMARY:Visita Socio | Título I - B
DESCRIPTION:Programa Jóvenes\, Adultos y Desplazados
URL:https://conexionlaboralsurestepr.org/event/visita-socios-titulo-i-b/2027-10-29/
LOCATION:Las Piedras
CATEGORIES:Socios
END:VEVENT
BEGIN:VEVENT
DTSTART;TZID=America/Puerto_Rico:20271029T080000
DTEND;TZID=America/Puerto_Rico:20271029T163000
DTSTAMP:20260420T221943
CREATED:20251031T173045Z
LAST-MODIFIED:20251204T204704Z
UID:10002348-1824796800-1824827400@conexionlaboralsurestepr.org
SUMMARY:Visita Socio | Departamento del Trabajo y Recursos Humanos (DTRH)
DESCRIPTION:Programa Veteranos (Capítulo 41 Título 38 del Código de EU)\nServicio de Empleo\, Programa Agrícola y Programa RESEA\nPrograma Seguro por Desempleo
URL:https://conexionlaboralsurestepr.org/event/vista-socio-departamento-del-trabajo-y-recursos-humanos-dtrh/2027-10-29/
LOCATION:Las Piedras
CATEGORIES:Socios
END:VEVENT
BEGIN:VEVENT
DTSTART;TZID=America/Puerto_Rico:20271029T080000
DTEND;TZID=America/Puerto_Rico:20271029T163000
DTSTAMP:20260420T221943
CREATED:20251103T185220Z
LAST-MODIFIED:20251204T204656Z
UID:10004743-1824796800-1824827400@conexionlaboralsurestepr.org
SUMMARY:Visita Socio | One Stop Careers Center of PR
DESCRIPTION:Programa de Reintegración de Ex-Ofensores bajo Second Change Act
URL:https://conexionlaboralsurestepr.org/event/vista-socio-one-stop-careers-center-of-pr/2027-10-29/
LOCATION:Las Piedras
CATEGORIES:Socios
END:VEVENT
BEGIN:VEVENT
DTSTART;TZID=America/Puerto_Rico:20271031T080000
DTEND;TZID=America/Puerto_Rico:20271031T163000
DTSTAMP:20260420T221943
CREATED:20251103T185220Z
LAST-MODIFIED:20251204T204656Z
UID:10004744-1824969600-1825000200@conexionlaboralsurestepr.org
SUMMARY:Visita Socio | One Stop Careers Center of PR
DESCRIPTION:Programa de Reintegración de Ex-Ofensores bajo Second Change Act
URL:https://conexionlaboralsurestepr.org/event/vista-socio-one-stop-careers-center-of-pr/2027-10-31/
LOCATION:Las Piedras
CATEGORIES:Socios
END:VEVENT
BEGIN:VEVENT
DTSTART;TZID=America/Puerto_Rico:20271101T080000
DTEND;TZID=America/Puerto_Rico:20271101T120000
DTSTAMP:20260420T221943
CREATED:20251103T184249Z
LAST-MODIFIED:20251204T204710Z
UID:10003367-1825056000-1825070400@conexionlaboralsurestepr.org
SUMMARY:Visita Socio | Título I | Administración de Rehabilitación Vocacional
DESCRIPTION:Programa de Adiestramiento y Empleo Rehabilitación Vocacional
URL:https://conexionlaboralsurestepr.org/event/vista-socio-titulo-i-administracion-de-rehabilitacion-vocacional/2027-11-01/
LOCATION:Las Piedras
CATEGORIES:Socios
END:VEVENT
BEGIN:VEVENT
DTSTART;TZID=America/Puerto_Rico:20271101T080000
DTEND;TZID=America/Puerto_Rico:20271101T163000
DTSTAMP:20260420T221943
CREATED:20251031T173045Z
LAST-MODIFIED:20251204T204704Z
UID:10002349-1825056000-1825086600@conexionlaboralsurestepr.org
SUMMARY:Visita Socio | Departamento del Trabajo y Recursos Humanos (DTRH)
DESCRIPTION:Programa Veteranos (Capítulo 41 Título 38 del Código de EU)\nServicio de Empleo\, Programa Agrícola y Programa RESEA\nPrograma Seguro por Desempleo
URL:https://conexionlaboralsurestepr.org/event/vista-socio-departamento-del-trabajo-y-recursos-humanos-dtrh/2027-11-01/
LOCATION:Las Piedras
CATEGORIES:Socios
END:VEVENT
END:VCALENDAR