BEGIN:VCALENDAR
VERSION:2.0
PRODID:-//Conexión Laboral Sureste - ECPv6.15.20//NONSGML v1.0//EN
CALSCALE:GREGORIAN
METHOD:PUBLISH
X-WR-CALNAME:Conexión Laboral Sureste
X-ORIGINAL-URL:https://conexionlaboralsurestepr.org
X-WR-CALDESC:Events for Conexión Laboral Sureste
REFRESH-INTERVAL;VALUE=DURATION:PT1H
X-Robots-Tag:noindex
X-PUBLISHED-TTL:PT1H
BEGIN:VTIMEZONE
TZID:America/Puerto_Rico
BEGIN:STANDARD
TZOFFSETFROM:-0400
TZOFFSETTO:-0400
TZNAME:AST
DTSTART:20260101T000000
END:STANDARD
END:VTIMEZONE
BEGIN:VEVENT
DTSTART;TZID=America/Puerto_Rico:20271101T080000
DTEND;TZID=America/Puerto_Rico:20271101T120000
DTSTAMP:20260420T221956
CREATED:20251103T184249Z
LAST-MODIFIED:20251204T204710Z
UID:10003367-1825056000-1825070400@conexionlaboralsurestepr.org
SUMMARY:Visita Socio | Título I | Administración de Rehabilitación Vocacional
DESCRIPTION:Programa de Adiestramiento y Empleo Rehabilitación Vocacional
URL:https://conexionlaboralsurestepr.org/event/vista-socio-titulo-i-administracion-de-rehabilitacion-vocacional/2027-11-01/
LOCATION:Las Piedras
CATEGORIES:Socios
END:VEVENT
BEGIN:VEVENT
DTSTART;TZID=America/Puerto_Rico:20271101T080000
DTEND;TZID=America/Puerto_Rico:20271101T163000
DTSTAMP:20260420T221956
CREATED:20251031T173045Z
LAST-MODIFIED:20251204T204704Z
UID:10002349-1825056000-1825086600@conexionlaboralsurestepr.org
SUMMARY:Visita Socio | Departamento del Trabajo y Recursos Humanos (DTRH)
DESCRIPTION:Programa Veteranos (Capítulo 41 Título 38 del Código de EU)\nServicio de Empleo\, Programa Agrícola y Programa RESEA\nPrograma Seguro por Desempleo
URL:https://conexionlaboralsurestepr.org/event/vista-socio-departamento-del-trabajo-y-recursos-humanos-dtrh/2027-11-01/
LOCATION:Las Piedras
CATEGORIES:Socios
END:VEVENT
BEGIN:VEVENT
DTSTART;TZID=America/Puerto_Rico:20271101T080000
DTEND;TZID=America/Puerto_Rico:20271101T163000
DTSTAMP:20260420T221956
CREATED:20251103T185220Z
LAST-MODIFIED:20251204T204656Z
UID:10004745-1825056000-1825086600@conexionlaboralsurestepr.org
SUMMARY:Visita Socio | One Stop Careers Center of PR
DESCRIPTION:Programa de Reintegración de Ex-Ofensores bajo Second Change Act
URL:https://conexionlaboralsurestepr.org/event/vista-socio-one-stop-careers-center-of-pr/2027-11-01/
LOCATION:Las Piedras
CATEGORIES:Socios
END:VEVENT
BEGIN:VEVENT
DTSTART;TZID=America/Puerto_Rico:20271102T080000
DTEND;TZID=America/Puerto_Rico:20271102T120000
DTSTAMP:20260420T221956
CREATED:20251103T184454Z
LAST-MODIFIED:20251204T204641Z
UID:10003429-1825142400-1825156800@conexionlaboralsurestepr.org
SUMMARY:Visita Socio | PathStone Corporation (Rural)
DESCRIPTION:Programa para Trabajadores Agrícolas Migrantes y Estacionales.\nPrograma Youth Build
URL:https://conexionlaboralsurestepr.org/event/vista-socio-pathstone-corporation-rural/2027-11-02/
LOCATION:Las Piedras
CATEGORIES:Socios
END:VEVENT
BEGIN:VEVENT
DTSTART;TZID=America/Puerto_Rico:20271102T080000
DTEND;TZID=America/Puerto_Rico:20271102T120000
DTSTAMP:20260420T221956
CREATED:20251103T184621Z
LAST-MODIFIED:20251204T204632Z
UID:10003491-1825142400-1825156800@conexionlaboralsurestepr.org
SUMMARY:Visita Socio | Título V - Old American Act
DESCRIPTION:Senior Community Services Employment Programs
URL:https://conexionlaboralsurestepr.org/event/vista-socio-titulo-v-old-american-act/2027-11-02/
LOCATION:Las Piedras
CATEGORIES:Socios
END:VEVENT
BEGIN:VEVENT
DTSTART;TZID=America/Puerto_Rico:20271102T080000
DTEND;TZID=America/Puerto_Rico:20271102T163000
DTSTAMP:20260420T221956
CREATED:20251031T173045Z
LAST-MODIFIED:20251204T204704Z
UID:10002350-1825142400-1825173000@conexionlaboralsurestepr.org
SUMMARY:Visita Socio | Departamento del Trabajo y Recursos Humanos (DTRH)
DESCRIPTION:Programa Veteranos (Capítulo 41 Título 38 del Código de EU)\nServicio de Empleo\, Programa Agrícola y Programa RESEA\nPrograma Seguro por Desempleo
URL:https://conexionlaboralsurestepr.org/event/vista-socio-departamento-del-trabajo-y-recursos-humanos-dtrh/2027-11-02/
LOCATION:Las Piedras
CATEGORIES:Socios
END:VEVENT
BEGIN:VEVENT
DTSTART;TZID=America/Puerto_Rico:20271102T080000
DTEND;TZID=America/Puerto_Rico:20271102T163000
DTSTAMP:20260420T221956
CREATED:20251103T185220Z
LAST-MODIFIED:20251204T204656Z
UID:10004746-1825142400-1825173000@conexionlaboralsurestepr.org
SUMMARY:Visita Socio | One Stop Careers Center of PR
DESCRIPTION:Programa de Reintegración de Ex-Ofensores bajo Second Change Act
URL:https://conexionlaboralsurestepr.org/event/vista-socio-one-stop-careers-center-of-pr/2027-11-02/
LOCATION:Las Piedras
CATEGORIES:Socios
END:VEVENT
BEGIN:VEVENT
DTSTART;TZID=America/Puerto_Rico:20271103T080000
DTEND;TZID=America/Puerto_Rico:20271103T120000
DTSTAMP:20260420T221956
CREATED:20251103T185047Z
LAST-MODIFIED:20251204T204622Z
UID:10003910-1825228800-1825243200@conexionlaboralsurestepr.org
SUMMARY:Visita Socio | Título IV - "Social Security Act" Departamento de la Familia
DESCRIPTION:Programa TANF (Temporary Assistance for Needy Families)
URL:https://conexionlaboralsurestepr.org/event/vista-socio-titulo-iv-social-security-act-departamento-de-la-familia/2027-11-03/
LOCATION:Las Piedras
CATEGORIES:Socios
END:VEVENT
BEGIN:VEVENT
DTSTART;TZID=America/Puerto_Rico:20271103T080000
DTEND;TZID=America/Puerto_Rico:20271103T163000
DTSTAMP:20260420T221956
CREATED:20251031T173045Z
LAST-MODIFIED:20251204T204704Z
UID:10002351-1825228800-1825259400@conexionlaboralsurestepr.org
SUMMARY:Visita Socio | Departamento del Trabajo y Recursos Humanos (DTRH)
DESCRIPTION:Programa Veteranos (Capítulo 41 Título 38 del Código de EU)\nServicio de Empleo\, Programa Agrícola y Programa RESEA\nPrograma Seguro por Desempleo
URL:https://conexionlaboralsurestepr.org/event/vista-socio-departamento-del-trabajo-y-recursos-humanos-dtrh/2027-11-03/
LOCATION:Las Piedras
CATEGORIES:Socios
END:VEVENT
BEGIN:VEVENT
DTSTART;TZID=America/Puerto_Rico:20271103T080000
DTEND;TZID=America/Puerto_Rico:20271103T163000
DTSTAMP:20260420T221956
CREATED:20251103T185220Z
LAST-MODIFIED:20251204T204656Z
UID:10004747-1825228800-1825259400@conexionlaboralsurestepr.org
SUMMARY:Visita Socio | One Stop Careers Center of PR
DESCRIPTION:Programa de Reintegración de Ex-Ofensores bajo Second Change Act
URL:https://conexionlaboralsurestepr.org/event/vista-socio-one-stop-careers-center-of-pr/2027-11-03/
LOCATION:Las Piedras
CATEGORIES:Socios
END:VEVENT
BEGIN:VEVENT
DTSTART;TZID=America/Puerto_Rico:20271104T080000
DTEND;TZID=America/Puerto_Rico:20271104T163000
DTSTAMP:20260420T221956
CREATED:20251031T173045Z
LAST-MODIFIED:20251204T204704Z
UID:10002352-1825315200-1825345800@conexionlaboralsurestepr.org
SUMMARY:Visita Socio | Departamento del Trabajo y Recursos Humanos (DTRH)
DESCRIPTION:Programa Veteranos (Capítulo 41 Título 38 del Código de EU)\nServicio de Empleo\, Programa Agrícola y Programa RESEA\nPrograma Seguro por Desempleo
URL:https://conexionlaboralsurestepr.org/event/vista-socio-departamento-del-trabajo-y-recursos-humanos-dtrh/2027-11-04/
LOCATION:Las Piedras
CATEGORIES:Socios
END:VEVENT
BEGIN:VEVENT
DTSTART;TZID=America/Puerto_Rico:20271104T080000
DTEND;TZID=America/Puerto_Rico:20271104T163000
DTSTAMP:20260420T221956
CREATED:20251103T184914Z
LAST-MODIFIED:20251204T204647Z
UID:10003640-1825315200-1825345800@conexionlaboralsurestepr.org
SUMMARY:Visita Socio | Título II - Departamento de Educación
DESCRIPTION:Programa de Educación y Literacia de Adultos
URL:https://conexionlaboralsurestepr.org/event/vista-socio-titulo-ii-departamento-de-educacion/2027-11-04/
LOCATION:Las Piedras
CATEGORIES:Socios
END:VEVENT
BEGIN:VEVENT
DTSTART;TZID=America/Puerto_Rico:20271104T080000
DTEND;TZID=America/Puerto_Rico:20271104T163000
DTSTAMP:20260420T221956
CREATED:20251103T185220Z
LAST-MODIFIED:20251204T204656Z
UID:10004748-1825315200-1825345800@conexionlaboralsurestepr.org
SUMMARY:Visita Socio | One Stop Careers Center of PR
DESCRIPTION:Programa de Reintegración de Ex-Ofensores bajo Second Change Act
URL:https://conexionlaboralsurestepr.org/event/vista-socio-one-stop-careers-center-of-pr/2027-11-04/
LOCATION:Las Piedras
CATEGORIES:Socios
END:VEVENT
BEGIN:VEVENT
DTSTART;TZID=America/Puerto_Rico:20271105T080000
DTEND;TZID=America/Puerto_Rico:20271105T163000
DTSTAMP:20260420T221956
CREATED:20251031T153427Z
LAST-MODIFIED:20251031T173748Z
UID:10001492-1825401600-1825432200@conexionlaboralsurestepr.org
SUMMARY:Visita Socio | Título I - B
DESCRIPTION:Programa Jóvenes\, Adultos y Desplazados
URL:https://conexionlaboralsurestepr.org/event/visita-socios-titulo-i-b/2027-11-05/
LOCATION:Las Piedras
CATEGORIES:Socios
END:VEVENT
BEGIN:VEVENT
DTSTART;TZID=America/Puerto_Rico:20271105T080000
DTEND;TZID=America/Puerto_Rico:20271105T163000
DTSTAMP:20260420T221956
CREATED:20251031T173045Z
LAST-MODIFIED:20251204T204704Z
UID:10002353-1825401600-1825432200@conexionlaboralsurestepr.org
SUMMARY:Visita Socio | Departamento del Trabajo y Recursos Humanos (DTRH)
DESCRIPTION:Programa Veteranos (Capítulo 41 Título 38 del Código de EU)\nServicio de Empleo\, Programa Agrícola y Programa RESEA\nPrograma Seguro por Desempleo
URL:https://conexionlaboralsurestepr.org/event/vista-socio-departamento-del-trabajo-y-recursos-humanos-dtrh/2027-11-05/
LOCATION:Las Piedras
CATEGORIES:Socios
END:VEVENT
BEGIN:VEVENT
DTSTART;TZID=America/Puerto_Rico:20271105T080000
DTEND;TZID=America/Puerto_Rico:20271105T163000
DTSTAMP:20260420T221956
CREATED:20251103T185220Z
LAST-MODIFIED:20251204T204656Z
UID:10004749-1825401600-1825432200@conexionlaboralsurestepr.org
SUMMARY:Visita Socio | One Stop Careers Center of PR
DESCRIPTION:Programa de Reintegración de Ex-Ofensores bajo Second Change Act
URL:https://conexionlaboralsurestepr.org/event/vista-socio-one-stop-careers-center-of-pr/2027-11-05/
LOCATION:Las Piedras
CATEGORIES:Socios
END:VEVENT
BEGIN:VEVENT
DTSTART;TZID=America/Puerto_Rico:20271107T080000
DTEND;TZID=America/Puerto_Rico:20271107T163000
DTSTAMP:20260420T221956
CREATED:20251103T185220Z
LAST-MODIFIED:20251204T204656Z
UID:10004750-1825574400-1825605000@conexionlaboralsurestepr.org
SUMMARY:Visita Socio | One Stop Careers Center of PR
DESCRIPTION:Programa de Reintegración de Ex-Ofensores bajo Second Change Act
URL:https://conexionlaboralsurestepr.org/event/vista-socio-one-stop-careers-center-of-pr/2027-11-07/
LOCATION:Las Piedras
CATEGORIES:Socios
END:VEVENT
BEGIN:VEVENT
DTSTART;TZID=America/Puerto_Rico:20271108T080000
DTEND;TZID=America/Puerto_Rico:20271108T163000
DTSTAMP:20260420T221956
CREATED:20251031T173045Z
LAST-MODIFIED:20251204T204704Z
UID:10002354-1825660800-1825691400@conexionlaboralsurestepr.org
SUMMARY:Visita Socio | Departamento del Trabajo y Recursos Humanos (DTRH)
DESCRIPTION:Programa Veteranos (Capítulo 41 Título 38 del Código de EU)\nServicio de Empleo\, Programa Agrícola y Programa RESEA\nPrograma Seguro por Desempleo
URL:https://conexionlaboralsurestepr.org/event/vista-socio-departamento-del-trabajo-y-recursos-humanos-dtrh/2027-11-08/
LOCATION:Las Piedras
CATEGORIES:Socios
END:VEVENT
BEGIN:VEVENT
DTSTART;TZID=America/Puerto_Rico:20271108T080000
DTEND;TZID=America/Puerto_Rico:20271108T163000
DTSTAMP:20260420T221956
CREATED:20251103T185220Z
LAST-MODIFIED:20251204T204656Z
UID:10004751-1825660800-1825691400@conexionlaboralsurestepr.org
SUMMARY:Visita Socio | One Stop Careers Center of PR
DESCRIPTION:Programa de Reintegración de Ex-Ofensores bajo Second Change Act
URL:https://conexionlaboralsurestepr.org/event/vista-socio-one-stop-careers-center-of-pr/2027-11-08/
LOCATION:Las Piedras
CATEGORIES:Socios
END:VEVENT
BEGIN:VEVENT
DTSTART;TZID=America/Puerto_Rico:20271109T080000
DTEND;TZID=America/Puerto_Rico:20271109T163000
DTSTAMP:20260420T221956
CREATED:20251031T173045Z
LAST-MODIFIED:20251204T204704Z
UID:10002355-1825747200-1825777800@conexionlaboralsurestepr.org
SUMMARY:Visita Socio | Departamento del Trabajo y Recursos Humanos (DTRH)
DESCRIPTION:Programa Veteranos (Capítulo 41 Título 38 del Código de EU)\nServicio de Empleo\, Programa Agrícola y Programa RESEA\nPrograma Seguro por Desempleo
URL:https://conexionlaboralsurestepr.org/event/vista-socio-departamento-del-trabajo-y-recursos-humanos-dtrh/2027-11-09/
LOCATION:Las Piedras
CATEGORIES:Socios
END:VEVENT
BEGIN:VEVENT
DTSTART;TZID=America/Puerto_Rico:20271109T080000
DTEND;TZID=America/Puerto_Rico:20271109T163000
DTSTAMP:20260420T221956
CREATED:20251103T185220Z
LAST-MODIFIED:20251204T204656Z
UID:10004752-1825747200-1825777800@conexionlaboralsurestepr.org
SUMMARY:Visita Socio | One Stop Careers Center of PR
DESCRIPTION:Programa de Reintegración de Ex-Ofensores bajo Second Change Act
URL:https://conexionlaboralsurestepr.org/event/vista-socio-one-stop-careers-center-of-pr/2027-11-09/
LOCATION:Las Piedras
CATEGORIES:Socios
END:VEVENT
BEGIN:VEVENT
DTSTART;TZID=America/Puerto_Rico:20271110T080000
DTEND;TZID=America/Puerto_Rico:20271110T120000
DTSTAMP:20260420T221956
CREATED:20251103T185047Z
LAST-MODIFIED:20251204T204622Z
UID:10003911-1825833600-1825848000@conexionlaboralsurestepr.org
SUMMARY:Visita Socio | Título IV - "Social Security Act" Departamento de la Familia
DESCRIPTION:Programa TANF (Temporary Assistance for Needy Families)
URL:https://conexionlaboralsurestepr.org/event/vista-socio-titulo-iv-social-security-act-departamento-de-la-familia/2027-11-10/
LOCATION:Las Piedras
CATEGORIES:Socios
END:VEVENT
BEGIN:VEVENT
DTSTART;TZID=America/Puerto_Rico:20271110T080000
DTEND;TZID=America/Puerto_Rico:20271110T163000
DTSTAMP:20260420T221956
CREATED:20251031T173045Z
LAST-MODIFIED:20251204T204704Z
UID:10002356-1825833600-1825864200@conexionlaboralsurestepr.org
SUMMARY:Visita Socio | Departamento del Trabajo y Recursos Humanos (DTRH)
DESCRIPTION:Programa Veteranos (Capítulo 41 Título 38 del Código de EU)\nServicio de Empleo\, Programa Agrícola y Programa RESEA\nPrograma Seguro por Desempleo
URL:https://conexionlaboralsurestepr.org/event/vista-socio-departamento-del-trabajo-y-recursos-humanos-dtrh/2027-11-10/
LOCATION:Las Piedras
CATEGORIES:Socios
END:VEVENT
BEGIN:VEVENT
DTSTART;TZID=America/Puerto_Rico:20271110T080000
DTEND;TZID=America/Puerto_Rico:20271110T163000
DTSTAMP:20260420T221956
CREATED:20251103T185220Z
LAST-MODIFIED:20251204T204656Z
UID:10004753-1825833600-1825864200@conexionlaboralsurestepr.org
SUMMARY:Visita Socio | One Stop Careers Center of PR
DESCRIPTION:Programa de Reintegración de Ex-Ofensores bajo Second Change Act
URL:https://conexionlaboralsurestepr.org/event/vista-socio-one-stop-careers-center-of-pr/2027-11-10/
LOCATION:Las Piedras
CATEGORIES:Socios
END:VEVENT
BEGIN:VEVENT
DTSTART;TZID=America/Puerto_Rico:20271111T080000
DTEND;TZID=America/Puerto_Rico:20271111T163000
DTSTAMP:20260420T221956
CREATED:20251031T173045Z
LAST-MODIFIED:20251204T204704Z
UID:10002357-1825920000-1825950600@conexionlaboralsurestepr.org
SUMMARY:Visita Socio | Departamento del Trabajo y Recursos Humanos (DTRH)
DESCRIPTION:Programa Veteranos (Capítulo 41 Título 38 del Código de EU)\nServicio de Empleo\, Programa Agrícola y Programa RESEA\nPrograma Seguro por Desempleo
URL:https://conexionlaboralsurestepr.org/event/vista-socio-departamento-del-trabajo-y-recursos-humanos-dtrh/2027-11-11/
LOCATION:Las Piedras
CATEGORIES:Socios
END:VEVENT
BEGIN:VEVENT
DTSTART;TZID=America/Puerto_Rico:20271111T080000
DTEND;TZID=America/Puerto_Rico:20271111T163000
DTSTAMP:20260420T221956
CREATED:20251103T184914Z
LAST-MODIFIED:20251204T204647Z
UID:10003641-1825920000-1825950600@conexionlaboralsurestepr.org
SUMMARY:Visita Socio | Título II - Departamento de Educación
DESCRIPTION:Programa de Educación y Literacia de Adultos
URL:https://conexionlaboralsurestepr.org/event/vista-socio-titulo-ii-departamento-de-educacion/2027-11-11/
LOCATION:Las Piedras
CATEGORIES:Socios
END:VEVENT
BEGIN:VEVENT
DTSTART;TZID=America/Puerto_Rico:20271111T080000
DTEND;TZID=America/Puerto_Rico:20271111T163000
DTSTAMP:20260420T221956
CREATED:20251103T185220Z
LAST-MODIFIED:20251204T204656Z
UID:10004754-1825920000-1825950600@conexionlaboralsurestepr.org
SUMMARY:Visita Socio | One Stop Careers Center of PR
DESCRIPTION:Programa de Reintegración de Ex-Ofensores bajo Second Change Act
URL:https://conexionlaboralsurestepr.org/event/vista-socio-one-stop-careers-center-of-pr/2027-11-11/
LOCATION:Las Piedras
CATEGORIES:Socios
END:VEVENT
BEGIN:VEVENT
DTSTART;TZID=America/Puerto_Rico:20271112T080000
DTEND;TZID=America/Puerto_Rico:20271112T163000
DTSTAMP:20260420T221956
CREATED:20251031T153427Z
LAST-MODIFIED:20251031T173748Z
UID:10001493-1826006400-1826037000@conexionlaboralsurestepr.org
SUMMARY:Visita Socio | Título I - B
DESCRIPTION:Programa Jóvenes\, Adultos y Desplazados
URL:https://conexionlaboralsurestepr.org/event/visita-socios-titulo-i-b/2027-11-12/
LOCATION:Las Piedras
CATEGORIES:Socios
END:VEVENT
BEGIN:VEVENT
DTSTART;TZID=America/Puerto_Rico:20271112T080000
DTEND;TZID=America/Puerto_Rico:20271112T163000
DTSTAMP:20260420T221956
CREATED:20251031T173045Z
LAST-MODIFIED:20251204T204704Z
UID:10002358-1826006400-1826037000@conexionlaboralsurestepr.org
SUMMARY:Visita Socio | Departamento del Trabajo y Recursos Humanos (DTRH)
DESCRIPTION:Programa Veteranos (Capítulo 41 Título 38 del Código de EU)\nServicio de Empleo\, Programa Agrícola y Programa RESEA\nPrograma Seguro por Desempleo
URL:https://conexionlaboralsurestepr.org/event/vista-socio-departamento-del-trabajo-y-recursos-humanos-dtrh/2027-11-12/
LOCATION:Las Piedras
CATEGORIES:Socios
END:VEVENT
BEGIN:VEVENT
DTSTART;TZID=America/Puerto_Rico:20271112T080000
DTEND;TZID=America/Puerto_Rico:20271112T163000
DTSTAMP:20260420T221956
CREATED:20251103T185220Z
LAST-MODIFIED:20251204T204656Z
UID:10004755-1826006400-1826037000@conexionlaboralsurestepr.org
SUMMARY:Visita Socio | One Stop Careers Center of PR
DESCRIPTION:Programa de Reintegración de Ex-Ofensores bajo Second Change Act
URL:https://conexionlaboralsurestepr.org/event/vista-socio-one-stop-careers-center-of-pr/2027-11-12/
LOCATION:Las Piedras
CATEGORIES:Socios
END:VEVENT
END:VCALENDAR