BEGIN:VCALENDAR
VERSION:2.0
PRODID:-//Conexión Laboral Sureste - ECPv6.15.20//NONSGML v1.0//EN
CALSCALE:GREGORIAN
METHOD:PUBLISH
X-ORIGINAL-URL:https://conexionlaboralsurestepr.org
X-WR-CALDESC:Events for Conexión Laboral Sureste
REFRESH-INTERVAL;VALUE=DURATION:PT1H
X-Robots-Tag:noindex
X-PUBLISHED-TTL:PT1H
BEGIN:VTIMEZONE
TZID:America/Puerto_Rico
BEGIN:STANDARD
TZOFFSETFROM:-0400
TZOFFSETTO:-0400
TZNAME:AST
DTSTART:20240101T000000
END:STANDARD
END:VTIMEZONE
BEGIN:VEVENT
DTSTART;TZID=America/Puerto_Rico:20251020T080000
DTEND;TZID=America/Puerto_Rico:20251020T163000
DTSTAMP:20260424T133952
CREATED:20251031T153427Z
LAST-MODIFIED:20251031T173748Z
UID:10001335-1760947200-1760977800@conexionlaboralsurestepr.org
SUMMARY:Visita Socio | Título I - B
DESCRIPTION:Programa Jóvenes\, Adultos y Desplazados
URL:https://conexionlaboralsurestepr.org/event/visita-socios-titulo-i-b/2025-10-20/
LOCATION:Las Piedras
CATEGORIES:Socios
END:VEVENT
BEGIN:VEVENT
DTSTART;TZID=America/Puerto_Rico:20251020T080000
DTEND;TZID=America/Puerto_Rico:20251020T163000
DTSTAMP:20260424T133952
CREATED:20251031T173045Z
LAST-MODIFIED:20251204T204704Z
UID:10001819-1760947200-1760977800@conexionlaboralsurestepr.org
SUMMARY:Visita Socio | Departamento del Trabajo y Recursos Humanos (DTRH)
DESCRIPTION:Programa Veteranos (Capítulo 41 Título 38 del Código de EU)\nServicio de Empleo\, Programa Agrícola y Programa RESEA\nPrograma Seguro por Desempleo
URL:https://conexionlaboralsurestepr.org/event/vista-socio-departamento-del-trabajo-y-recursos-humanos-dtrh/2025-10-20/
LOCATION:Las Piedras
CATEGORIES:Socios
END:VEVENT
BEGIN:VEVENT
DTSTART;TZID=America/Puerto_Rico:20251020T080000
DTEND;TZID=America/Puerto_Rico:20251020T163000
DTSTAMP:20260424T133952
CREATED:20251103T185220Z
LAST-MODIFIED:20251204T204656Z
UID:10004109-1760947200-1760977800@conexionlaboralsurestepr.org
SUMMARY:Visita Socio | One Stop Careers Center of PR
DESCRIPTION:Programa de Reintegración de Ex-Ofensores bajo Second Change Act
URL:https://conexionlaboralsurestepr.org/event/vista-socio-one-stop-careers-center-of-pr/2025-10-20/
LOCATION:Las Piedras
CATEGORIES:Socios
END:VEVENT
BEGIN:VEVENT
DTSTART;TZID=America/Puerto_Rico:20251021T080000
DTEND;TZID=America/Puerto_Rico:20251021T163000
DTSTAMP:20260424T133952
CREATED:20251031T153427Z
LAST-MODIFIED:20251031T173748Z
UID:10001336-1761033600-1761064200@conexionlaboralsurestepr.org
SUMMARY:Visita Socio | Título I - B
DESCRIPTION:Programa Jóvenes\, Adultos y Desplazados
URL:https://conexionlaboralsurestepr.org/event/visita-socios-titulo-i-b/2025-10-21/
LOCATION:Las Piedras
CATEGORIES:Socios
END:VEVENT
BEGIN:VEVENT
DTSTART;TZID=America/Puerto_Rico:20251021T080000
DTEND;TZID=America/Puerto_Rico:20251021T163000
DTSTAMP:20260424T133952
CREATED:20251031T173045Z
LAST-MODIFIED:20251204T204704Z
UID:10001820-1761033600-1761064200@conexionlaboralsurestepr.org
SUMMARY:Visita Socio | Departamento del Trabajo y Recursos Humanos (DTRH)
DESCRIPTION:Programa Veteranos (Capítulo 41 Título 38 del Código de EU)\nServicio de Empleo\, Programa Agrícola y Programa RESEA\nPrograma Seguro por Desempleo
URL:https://conexionlaboralsurestepr.org/event/vista-socio-departamento-del-trabajo-y-recursos-humanos-dtrh/2025-10-21/
LOCATION:Las Piedras
CATEGORIES:Socios
END:VEVENT
BEGIN:VEVENT
DTSTART;TZID=America/Puerto_Rico:20251021T080000
DTEND;TZID=America/Puerto_Rico:20251021T163000
DTSTAMP:20260424T133952
CREATED:20251103T185220Z
LAST-MODIFIED:20251204T204656Z
UID:10004110-1761033600-1761064200@conexionlaboralsurestepr.org
SUMMARY:Visita Socio | One Stop Careers Center of PR
DESCRIPTION:Programa de Reintegración de Ex-Ofensores bajo Second Change Act
URL:https://conexionlaboralsurestepr.org/event/vista-socio-one-stop-careers-center-of-pr/2025-10-21/
LOCATION:Las Piedras
CATEGORIES:Socios
END:VEVENT
BEGIN:VEVENT
DTSTART;TZID=America/Puerto_Rico:20251022T080000
DTEND;TZID=America/Puerto_Rico:20251022T120000
DTSTAMP:20260424T133952
CREATED:20251103T185047Z
LAST-MODIFIED:20251204T204622Z
UID:10003804-1761120000-1761134400@conexionlaboralsurestepr.org
SUMMARY:Visita Socio | Título IV - "Social Security Act" Departamento de la Familia
DESCRIPTION:Programa TANF (Temporary Assistance for Needy Families)
URL:https://conexionlaboralsurestepr.org/event/vista-socio-titulo-iv-social-security-act-departamento-de-la-familia/2025-10-22/
LOCATION:Las Piedras
CATEGORIES:Socios
END:VEVENT
BEGIN:VEVENT
DTSTART;TZID=America/Puerto_Rico:20251022T080000
DTEND;TZID=America/Puerto_Rico:20251022T163000
DTSTAMP:20260424T133952
CREATED:20251031T153427Z
LAST-MODIFIED:20251031T173748Z
UID:10001337-1761120000-1761150600@conexionlaboralsurestepr.org
SUMMARY:Visita Socio | Título I - B
DESCRIPTION:Programa Jóvenes\, Adultos y Desplazados
URL:https://conexionlaboralsurestepr.org/event/visita-socios-titulo-i-b/2025-10-22/
LOCATION:Las Piedras
CATEGORIES:Socios
END:VEVENT
BEGIN:VEVENT
DTSTART;TZID=America/Puerto_Rico:20251022T080000
DTEND;TZID=America/Puerto_Rico:20251022T163000
DTSTAMP:20260424T133952
CREATED:20251031T173045Z
LAST-MODIFIED:20251204T204704Z
UID:10001821-1761120000-1761150600@conexionlaboralsurestepr.org
SUMMARY:Visita Socio | Departamento del Trabajo y Recursos Humanos (DTRH)
DESCRIPTION:Programa Veteranos (Capítulo 41 Título 38 del Código de EU)\nServicio de Empleo\, Programa Agrícola y Programa RESEA\nPrograma Seguro por Desempleo
URL:https://conexionlaboralsurestepr.org/event/vista-socio-departamento-del-trabajo-y-recursos-humanos-dtrh/2025-10-22/
LOCATION:Las Piedras
CATEGORIES:Socios
END:VEVENT
BEGIN:VEVENT
DTSTART;TZID=America/Puerto_Rico:20251022T080000
DTEND;TZID=America/Puerto_Rico:20251022T163000
DTSTAMP:20260424T133952
CREATED:20251103T185220Z
LAST-MODIFIED:20251204T204656Z
UID:10004111-1761120000-1761150600@conexionlaboralsurestepr.org
SUMMARY:Visita Socio | One Stop Careers Center of PR
DESCRIPTION:Programa de Reintegración de Ex-Ofensores bajo Second Change Act
URL:https://conexionlaboralsurestepr.org/event/vista-socio-one-stop-careers-center-of-pr/2025-10-22/
LOCATION:Las Piedras
CATEGORIES:Socios
END:VEVENT
BEGIN:VEVENT
DTSTART;TZID=America/Puerto_Rico:20251023T080000
DTEND;TZID=America/Puerto_Rico:20251023T163000
DTSTAMP:20260424T133952
CREATED:20251031T153427Z
LAST-MODIFIED:20251031T173748Z
UID:10001338-1761206400-1761237000@conexionlaboralsurestepr.org
SUMMARY:Visita Socio | Título I - B
DESCRIPTION:Programa Jóvenes\, Adultos y Desplazados
URL:https://conexionlaboralsurestepr.org/event/visita-socios-titulo-i-b/2025-10-23/
LOCATION:Las Piedras
CATEGORIES:Socios
END:VEVENT
BEGIN:VEVENT
DTSTART;TZID=America/Puerto_Rico:20251023T080000
DTEND;TZID=America/Puerto_Rico:20251023T163000
DTSTAMP:20260424T133952
CREATED:20251031T173045Z
LAST-MODIFIED:20251204T204704Z
UID:10001822-1761206400-1761237000@conexionlaboralsurestepr.org
SUMMARY:Visita Socio | Departamento del Trabajo y Recursos Humanos (DTRH)
DESCRIPTION:Programa Veteranos (Capítulo 41 Título 38 del Código de EU)\nServicio de Empleo\, Programa Agrícola y Programa RESEA\nPrograma Seguro por Desempleo
URL:https://conexionlaboralsurestepr.org/event/vista-socio-departamento-del-trabajo-y-recursos-humanos-dtrh/2025-10-23/
LOCATION:Las Piedras
CATEGORIES:Socios
END:VEVENT
BEGIN:VEVENT
DTSTART;TZID=America/Puerto_Rico:20251023T080000
DTEND;TZID=America/Puerto_Rico:20251023T163000
DTSTAMP:20260424T133952
CREATED:20251103T184914Z
LAST-MODIFIED:20251204T204647Z
UID:10003534-1761206400-1761237000@conexionlaboralsurestepr.org
SUMMARY:Visita Socio | Título II - Departamento de Educación
DESCRIPTION:Programa de Educación y Literacia de Adultos
URL:https://conexionlaboralsurestepr.org/event/vista-socio-titulo-ii-departamento-de-educacion/2025-10-23/
LOCATION:Las Piedras
CATEGORIES:Socios
END:VEVENT
BEGIN:VEVENT
DTSTART;TZID=America/Puerto_Rico:20251023T080000
DTEND;TZID=America/Puerto_Rico:20251023T163000
DTSTAMP:20260424T133952
CREATED:20251103T185220Z
LAST-MODIFIED:20251204T204656Z
UID:10004112-1761206400-1761237000@conexionlaboralsurestepr.org
SUMMARY:Visita Socio | One Stop Careers Center of PR
DESCRIPTION:Programa de Reintegración de Ex-Ofensores bajo Second Change Act
URL:https://conexionlaboralsurestepr.org/event/vista-socio-one-stop-careers-center-of-pr/2025-10-23/
LOCATION:Las Piedras
CATEGORIES:Socios
END:VEVENT
BEGIN:VEVENT
DTSTART;TZID=America/Puerto_Rico:20251024T080000
DTEND;TZID=America/Puerto_Rico:20251024T163000
DTSTAMP:20260424T133952
CREATED:20251031T153427Z
LAST-MODIFIED:20251031T173748Z
UID:10001655-1761292800-1761323400@conexionlaboralsurestepr.org
SUMMARY:Visita Socio | Título I - B
DESCRIPTION:Programa Jóvenes\, Adultos y Desplazados
URL:https://conexionlaboralsurestepr.org/event/visita-socios-titulo-i-b/2025-10-24/
LOCATION:Las Piedras
CATEGORIES:Socios
END:VEVENT
BEGIN:VEVENT
DTSTART;TZID=America/Puerto_Rico:20251024T080000
DTEND;TZID=America/Puerto_Rico:20251024T163000
DTSTAMP:20260424T133952
CREATED:20251031T173045Z
LAST-MODIFIED:20251204T204704Z
UID:10001823-1761292800-1761323400@conexionlaboralsurestepr.org
SUMMARY:Visita Socio | Departamento del Trabajo y Recursos Humanos (DTRH)
DESCRIPTION:Programa Veteranos (Capítulo 41 Título 38 del Código de EU)\nServicio de Empleo\, Programa Agrícola y Programa RESEA\nPrograma Seguro por Desempleo
URL:https://conexionlaboralsurestepr.org/event/vista-socio-departamento-del-trabajo-y-recursos-humanos-dtrh/2025-10-24/
LOCATION:Las Piedras
CATEGORIES:Socios
END:VEVENT
BEGIN:VEVENT
DTSTART;TZID=America/Puerto_Rico:20251024T080000
DTEND;TZID=America/Puerto_Rico:20251024T163000
DTSTAMP:20260424T133952
CREATED:20251103T185220Z
LAST-MODIFIED:20251204T204656Z
UID:10004113-1761292800-1761323400@conexionlaboralsurestepr.org
SUMMARY:Visita Socio | One Stop Careers Center of PR
DESCRIPTION:Programa de Reintegración de Ex-Ofensores bajo Second Change Act
URL:https://conexionlaboralsurestepr.org/event/vista-socio-one-stop-careers-center-of-pr/2025-10-24/
LOCATION:Las Piedras
CATEGORIES:Socios
END:VEVENT
BEGIN:VEVENT
DTSTART;TZID=America/Puerto_Rico:20251026T080000
DTEND;TZID=America/Puerto_Rico:20251026T163000
DTSTAMP:20260424T133952
CREATED:20251103T185220Z
LAST-MODIFIED:20251204T204656Z
UID:10004114-1761465600-1761496200@conexionlaboralsurestepr.org
SUMMARY:Visita Socio | One Stop Careers Center of PR
DESCRIPTION:Programa de Reintegración de Ex-Ofensores bajo Second Change Act
URL:https://conexionlaboralsurestepr.org/event/vista-socio-one-stop-careers-center-of-pr/2025-10-26/
LOCATION:Las Piedras
CATEGORIES:Socios
END:VEVENT
BEGIN:VEVENT
DTSTART;TZID=America/Puerto_Rico:20251027T080000
DTEND;TZID=America/Puerto_Rico:20251027T163000
DTSTAMP:20260424T133952
CREATED:20251031T153427Z
LAST-MODIFIED:20251031T173748Z
UID:10001339-1761552000-1761582600@conexionlaboralsurestepr.org
SUMMARY:Visita Socio | Título I - B
DESCRIPTION:Programa Jóvenes\, Adultos y Desplazados
URL:https://conexionlaboralsurestepr.org/event/visita-socios-titulo-i-b/2025-10-27/
LOCATION:Las Piedras
CATEGORIES:Socios
END:VEVENT
BEGIN:VEVENT
DTSTART;TZID=America/Puerto_Rico:20251027T080000
DTEND;TZID=America/Puerto_Rico:20251027T163000
DTSTAMP:20260424T133952
CREATED:20251031T173045Z
LAST-MODIFIED:20251204T204704Z
UID:10001824-1761552000-1761582600@conexionlaboralsurestepr.org
SUMMARY:Visita Socio | Departamento del Trabajo y Recursos Humanos (DTRH)
DESCRIPTION:Programa Veteranos (Capítulo 41 Título 38 del Código de EU)\nServicio de Empleo\, Programa Agrícola y Programa RESEA\nPrograma Seguro por Desempleo
URL:https://conexionlaboralsurestepr.org/event/vista-socio-departamento-del-trabajo-y-recursos-humanos-dtrh/2025-10-27/
LOCATION:Las Piedras
CATEGORIES:Socios
END:VEVENT
BEGIN:VEVENT
DTSTART;TZID=America/Puerto_Rico:20251027T080000
DTEND;TZID=America/Puerto_Rico:20251027T163000
DTSTAMP:20260424T133952
CREATED:20251103T185220Z
LAST-MODIFIED:20251204T204656Z
UID:10004115-1761552000-1761582600@conexionlaboralsurestepr.org
SUMMARY:Visita Socio | One Stop Careers Center of PR
DESCRIPTION:Programa de Reintegración de Ex-Ofensores bajo Second Change Act
URL:https://conexionlaboralsurestepr.org/event/vista-socio-one-stop-careers-center-of-pr/2025-10-27/
LOCATION:Las Piedras
CATEGORIES:Socios
END:VEVENT
BEGIN:VEVENT
DTSTART;TZID=America/Puerto_Rico:20251028T080000
DTEND;TZID=America/Puerto_Rico:20251028T163000
DTSTAMP:20260424T133952
CREATED:20251031T153427Z
LAST-MODIFIED:20251031T173748Z
UID:10001340-1761638400-1761669000@conexionlaboralsurestepr.org
SUMMARY:Visita Socio | Título I - B
DESCRIPTION:Programa Jóvenes\, Adultos y Desplazados
URL:https://conexionlaboralsurestepr.org/event/visita-socios-titulo-i-b/2025-10-28/
LOCATION:Las Piedras
CATEGORIES:Socios
END:VEVENT
BEGIN:VEVENT
DTSTART;TZID=America/Puerto_Rico:20251028T080000
DTEND;TZID=America/Puerto_Rico:20251028T163000
DTSTAMP:20260424T133952
CREATED:20251031T173045Z
LAST-MODIFIED:20251204T204704Z
UID:10001825-1761638400-1761669000@conexionlaboralsurestepr.org
SUMMARY:Visita Socio | Departamento del Trabajo y Recursos Humanos (DTRH)
DESCRIPTION:Programa Veteranos (Capítulo 41 Título 38 del Código de EU)\nServicio de Empleo\, Programa Agrícola y Programa RESEA\nPrograma Seguro por Desempleo
URL:https://conexionlaboralsurestepr.org/event/vista-socio-departamento-del-trabajo-y-recursos-humanos-dtrh/2025-10-28/
LOCATION:Las Piedras
CATEGORIES:Socios
END:VEVENT
BEGIN:VEVENT
DTSTART;TZID=America/Puerto_Rico:20251028T080000
DTEND;TZID=America/Puerto_Rico:20251028T163000
DTSTAMP:20260424T133952
CREATED:20251103T185220Z
LAST-MODIFIED:20251204T204656Z
UID:10004116-1761638400-1761669000@conexionlaboralsurestepr.org
SUMMARY:Visita Socio | One Stop Careers Center of PR
DESCRIPTION:Programa de Reintegración de Ex-Ofensores bajo Second Change Act
URL:https://conexionlaboralsurestepr.org/event/vista-socio-one-stop-careers-center-of-pr/2025-10-28/
LOCATION:Las Piedras
CATEGORIES:Socios
END:VEVENT
BEGIN:VEVENT
DTSTART;TZID=America/Puerto_Rico:20251028T090000
DTEND;TZID=America/Puerto_Rico:20251028T120000
DTSTAMP:20260424T133952
CREATED:20251031T174643Z
LAST-MODIFIED:20251031T174800Z
UID:10003340-1761642000-1761652800@conexionlaboralsurestepr.org
SUMMARY:Conexión Laboral en tu Pueblo
DESCRIPTION:Maunabo
URL:https://conexionlaboralsurestepr.org/event/conexion-laboral-en-tu-pueblo-3/
LOCATION:Las Piedras
CATEGORIES:Eventos
ATTACH;FMTTYPE=image/jpeg:https://conexionlaboralsurestepr.org/wp-content/uploads/2025/10/Maunabo-28-de-octubre--scaled.jpg
END:VEVENT
BEGIN:VEVENT
DTSTART;TZID=America/Puerto_Rico:20251029T080000
DTEND;TZID=America/Puerto_Rico:20251029T120000
DTSTAMP:20260424T133952
CREATED:20251103T185047Z
LAST-MODIFIED:20251204T204622Z
UID:10003805-1761724800-1761739200@conexionlaboralsurestepr.org
SUMMARY:Visita Socio | Título IV - "Social Security Act" Departamento de la Familia
DESCRIPTION:Programa TANF (Temporary Assistance for Needy Families)
URL:https://conexionlaboralsurestepr.org/event/vista-socio-titulo-iv-social-security-act-departamento-de-la-familia/2025-10-29/
LOCATION:Las Piedras
CATEGORIES:Socios
END:VEVENT
BEGIN:VEVENT
DTSTART;TZID=America/Puerto_Rico:20251029T080000
DTEND;TZID=America/Puerto_Rico:20251029T163000
DTSTAMP:20260424T133952
CREATED:20251031T153427Z
LAST-MODIFIED:20251031T173748Z
UID:10001341-1761724800-1761755400@conexionlaboralsurestepr.org
SUMMARY:Visita Socio | Título I - B
DESCRIPTION:Programa Jóvenes\, Adultos y Desplazados
URL:https://conexionlaboralsurestepr.org/event/visita-socios-titulo-i-b/2025-10-29/
LOCATION:Las Piedras
CATEGORIES:Socios
END:VEVENT
BEGIN:VEVENT
DTSTART;TZID=America/Puerto_Rico:20251029T080000
DTEND;TZID=America/Puerto_Rico:20251029T163000
DTSTAMP:20260424T133952
CREATED:20251031T173045Z
LAST-MODIFIED:20251204T204704Z
UID:10001826-1761724800-1761755400@conexionlaboralsurestepr.org
SUMMARY:Visita Socio | Departamento del Trabajo y Recursos Humanos (DTRH)
DESCRIPTION:Programa Veteranos (Capítulo 41 Título 38 del Código de EU)\nServicio de Empleo\, Programa Agrícola y Programa RESEA\nPrograma Seguro por Desempleo
URL:https://conexionlaboralsurestepr.org/event/vista-socio-departamento-del-trabajo-y-recursos-humanos-dtrh/2025-10-29/
LOCATION:Las Piedras
CATEGORIES:Socios
END:VEVENT
BEGIN:VEVENT
DTSTART;TZID=America/Puerto_Rico:20251029T080000
DTEND;TZID=America/Puerto_Rico:20251029T163000
DTSTAMP:20260424T133952
CREATED:20251103T185220Z
LAST-MODIFIED:20251204T204656Z
UID:10004117-1761724800-1761755400@conexionlaboralsurestepr.org
SUMMARY:Visita Socio | One Stop Careers Center of PR
DESCRIPTION:Programa de Reintegración de Ex-Ofensores bajo Second Change Act
URL:https://conexionlaboralsurestepr.org/event/vista-socio-one-stop-careers-center-of-pr/2025-10-29/
LOCATION:Las Piedras
CATEGORIES:Socios
END:VEVENT
BEGIN:VEVENT
DTSTART;TZID=America/Puerto_Rico:20251029T090000
DTEND;TZID=America/Puerto_Rico:20251029T120000
DTSTAMP:20260424T133952
CREATED:20251031T174425Z
LAST-MODIFIED:20251031T174425Z
UID:10003339-1761728400-1761739200@conexionlaboralsurestepr.org
SUMMARY:Conexión Laboral en tu Pueblo
DESCRIPTION:Las Piedras
URL:https://conexionlaboralsurestepr.org/event/conexion-laboral-en-tu-pueblo-2/
LOCATION:Las Piedras
CATEGORIES:Eventos
ATTACH;FMTTYPE=image/jpeg:https://conexionlaboralsurestepr.org/wp-content/uploads/2025/10/Las-Piedras-29-de-octubre-scaled.jpg
END:VEVENT
END:VCALENDAR