BEGIN:VCALENDAR
VERSION:2.0
PRODID:-//Conexión Laboral Sureste - ECPv6.15.20//NONSGML v1.0//EN
CALSCALE:GREGORIAN
METHOD:PUBLISH
X-ORIGINAL-URL:https://conexionlaboralsurestepr.org
X-WR-CALDESC:Events for Conexión Laboral Sureste
REFRESH-INTERVAL;VALUE=DURATION:PT1H
X-Robots-Tag:noindex
X-PUBLISHED-TTL:PT1H
BEGIN:VTIMEZONE
TZID:America/Puerto_Rico
BEGIN:STANDARD
TZOFFSETFROM:-0400
TZOFFSETTO:-0400
TZNAME:AST
DTSTART:20260101T000000
END:STANDARD
END:VTIMEZONE
BEGIN:VEVENT
DTSTART;TZID=America/Puerto_Rico:20270111T080000
DTEND;TZID=America/Puerto_Rico:20270111T163000
DTSTAMP:20260419T210848
CREATED:20251031T153427Z
LAST-MODIFIED:20251031T173748Z
UID:10000313-1799654400-1799685000@conexionlaboralsurestepr.org
SUMMARY:Visita Socio | Título I - B
DESCRIPTION:Programa Jóvenes\, Adultos y Desplazados
URL:https://conexionlaboralsurestepr.org/event/visita-socios-titulo-i-b/2027-01-11/
LOCATION:Las Piedras
CATEGORIES:Socios
END:VEVENT
BEGIN:VEVENT
DTSTART;TZID=America/Puerto_Rico:20270111T080000
DTEND;TZID=America/Puerto_Rico:20270111T163000
DTSTAMP:20260419T210848
CREATED:20251031T173045Z
LAST-MODIFIED:20251204T204704Z
UID:10002139-1799654400-1799685000@conexionlaboralsurestepr.org
SUMMARY:Visita Socio | Departamento del Trabajo y Recursos Humanos (DTRH)
DESCRIPTION:Programa Veteranos (Capítulo 41 Título 38 del Código de EU)\nServicio de Empleo\, Programa Agrícola y Programa RESEA\nPrograma Seguro por Desempleo
URL:https://conexionlaboralsurestepr.org/event/vista-socio-departamento-del-trabajo-y-recursos-humanos-dtrh/2027-01-11/
LOCATION:Las Piedras
CATEGORIES:Socios
END:VEVENT
BEGIN:VEVENT
DTSTART;TZID=America/Puerto_Rico:20270111T080000
DTEND;TZID=America/Puerto_Rico:20270111T163000
DTSTAMP:20260419T210848
CREATED:20251103T185220Z
LAST-MODIFIED:20251204T204656Z
UID:10004493-1799654400-1799685000@conexionlaboralsurestepr.org
SUMMARY:Visita Socio | One Stop Careers Center of PR
DESCRIPTION:Programa de Reintegración de Ex-Ofensores bajo Second Change Act
URL:https://conexionlaboralsurestepr.org/event/vista-socio-one-stop-careers-center-of-pr/2027-01-11/
LOCATION:Las Piedras
CATEGORIES:Socios
END:VEVENT
BEGIN:VEVENT
DTSTART;TZID=America/Puerto_Rico:20270112T080000
DTEND;TZID=America/Puerto_Rico:20270112T163000
DTSTAMP:20260419T210848
CREATED:20251031T153427Z
LAST-MODIFIED:20251031T173748Z
UID:10000314-1799740800-1799771400@conexionlaboralsurestepr.org
SUMMARY:Visita Socio | Título I - B
DESCRIPTION:Programa Jóvenes\, Adultos y Desplazados
URL:https://conexionlaboralsurestepr.org/event/visita-socios-titulo-i-b/2027-01-12/
LOCATION:Las Piedras
CATEGORIES:Socios
END:VEVENT
BEGIN:VEVENT
DTSTART;TZID=America/Puerto_Rico:20270112T080000
DTEND;TZID=America/Puerto_Rico:20270112T163000
DTSTAMP:20260419T210848
CREATED:20251031T173045Z
LAST-MODIFIED:20251204T204704Z
UID:10002140-1799740800-1799771400@conexionlaboralsurestepr.org
SUMMARY:Visita Socio | Departamento del Trabajo y Recursos Humanos (DTRH)
DESCRIPTION:Programa Veteranos (Capítulo 41 Título 38 del Código de EU)\nServicio de Empleo\, Programa Agrícola y Programa RESEA\nPrograma Seguro por Desempleo
URL:https://conexionlaboralsurestepr.org/event/vista-socio-departamento-del-trabajo-y-recursos-humanos-dtrh/2027-01-12/
LOCATION:Las Piedras
CATEGORIES:Socios
END:VEVENT
BEGIN:VEVENT
DTSTART;TZID=America/Puerto_Rico:20270112T080000
DTEND;TZID=America/Puerto_Rico:20270112T163000
DTSTAMP:20260419T210848
CREATED:20251103T185220Z
LAST-MODIFIED:20251204T204656Z
UID:10004494-1799740800-1799771400@conexionlaboralsurestepr.org
SUMMARY:Visita Socio | One Stop Careers Center of PR
DESCRIPTION:Programa de Reintegración de Ex-Ofensores bajo Second Change Act
URL:https://conexionlaboralsurestepr.org/event/vista-socio-one-stop-careers-center-of-pr/2027-01-12/
LOCATION:Las Piedras
CATEGORIES:Socios
END:VEVENT
BEGIN:VEVENT
DTSTART;TZID=America/Puerto_Rico:20270113T080000
DTEND;TZID=America/Puerto_Rico:20270113T120000
DTSTAMP:20260419T210848
CREATED:20251103T185047Z
LAST-MODIFIED:20251204T204622Z
UID:10003868-1799827200-1799841600@conexionlaboralsurestepr.org
SUMMARY:Visita Socio | Título IV - "Social Security Act" Departamento de la Familia
DESCRIPTION:Programa TANF (Temporary Assistance for Needy Families)
URL:https://conexionlaboralsurestepr.org/event/vista-socio-titulo-iv-social-security-act-departamento-de-la-familia/2027-01-13/
LOCATION:Las Piedras
CATEGORIES:Socios
END:VEVENT
BEGIN:VEVENT
DTSTART;TZID=America/Puerto_Rico:20270113T080000
DTEND;TZID=America/Puerto_Rico:20270113T163000
DTSTAMP:20260419T210848
CREATED:20251031T153427Z
LAST-MODIFIED:20251031T173748Z
UID:10000315-1799827200-1799857800@conexionlaboralsurestepr.org
SUMMARY:Visita Socio | Título I - B
DESCRIPTION:Programa Jóvenes\, Adultos y Desplazados
URL:https://conexionlaboralsurestepr.org/event/visita-socios-titulo-i-b/2027-01-13/
LOCATION:Las Piedras
CATEGORIES:Socios
END:VEVENT
BEGIN:VEVENT
DTSTART;TZID=America/Puerto_Rico:20270113T080000
DTEND;TZID=America/Puerto_Rico:20270113T163000
DTSTAMP:20260419T210848
CREATED:20251031T173045Z
LAST-MODIFIED:20251204T204704Z
UID:10002141-1799827200-1799857800@conexionlaboralsurestepr.org
SUMMARY:Visita Socio | Departamento del Trabajo y Recursos Humanos (DTRH)
DESCRIPTION:Programa Veteranos (Capítulo 41 Título 38 del Código de EU)\nServicio de Empleo\, Programa Agrícola y Programa RESEA\nPrograma Seguro por Desempleo
URL:https://conexionlaboralsurestepr.org/event/vista-socio-departamento-del-trabajo-y-recursos-humanos-dtrh/2027-01-13/
LOCATION:Las Piedras
CATEGORIES:Socios
END:VEVENT
BEGIN:VEVENT
DTSTART;TZID=America/Puerto_Rico:20270113T080000
DTEND;TZID=America/Puerto_Rico:20270113T163000
DTSTAMP:20260419T210848
CREATED:20251103T185220Z
LAST-MODIFIED:20251204T204656Z
UID:10004495-1799827200-1799857800@conexionlaboralsurestepr.org
SUMMARY:Visita Socio | One Stop Careers Center of PR
DESCRIPTION:Programa de Reintegración de Ex-Ofensores bajo Second Change Act
URL:https://conexionlaboralsurestepr.org/event/vista-socio-one-stop-careers-center-of-pr/2027-01-13/
LOCATION:Las Piedras
CATEGORIES:Socios
END:VEVENT
BEGIN:VEVENT
DTSTART;TZID=America/Puerto_Rico:20270114T080000
DTEND;TZID=America/Puerto_Rico:20270114T163000
DTSTAMP:20260419T210848
CREATED:20251031T153427Z
LAST-MODIFIED:20251031T173748Z
UID:10000316-1799913600-1799944200@conexionlaboralsurestepr.org
SUMMARY:Visita Socio | Título I - B
DESCRIPTION:Programa Jóvenes\, Adultos y Desplazados
URL:https://conexionlaboralsurestepr.org/event/visita-socios-titulo-i-b/2027-01-14/
LOCATION:Las Piedras
CATEGORIES:Socios
END:VEVENT
BEGIN:VEVENT
DTSTART;TZID=America/Puerto_Rico:20270114T080000
DTEND;TZID=America/Puerto_Rico:20270114T163000
DTSTAMP:20260419T210848
CREATED:20251031T173045Z
LAST-MODIFIED:20251204T204704Z
UID:10002142-1799913600-1799944200@conexionlaboralsurestepr.org
SUMMARY:Visita Socio | Departamento del Trabajo y Recursos Humanos (DTRH)
DESCRIPTION:Programa Veteranos (Capítulo 41 Título 38 del Código de EU)\nServicio de Empleo\, Programa Agrícola y Programa RESEA\nPrograma Seguro por Desempleo
URL:https://conexionlaboralsurestepr.org/event/vista-socio-departamento-del-trabajo-y-recursos-humanos-dtrh/2027-01-14/
LOCATION:Las Piedras
CATEGORIES:Socios
END:VEVENT
BEGIN:VEVENT
DTSTART;TZID=America/Puerto_Rico:20270114T080000
DTEND;TZID=America/Puerto_Rico:20270114T163000
DTSTAMP:20260419T210848
CREATED:20251103T184914Z
LAST-MODIFIED:20251204T204647Z
UID:10003598-1799913600-1799944200@conexionlaboralsurestepr.org
SUMMARY:Visita Socio | Título II - Departamento de Educación
DESCRIPTION:Programa de Educación y Literacia de Adultos
URL:https://conexionlaboralsurestepr.org/event/vista-socio-titulo-ii-departamento-de-educacion/2027-01-14/
LOCATION:Las Piedras
CATEGORIES:Socios
END:VEVENT
BEGIN:VEVENT
DTSTART;TZID=America/Puerto_Rico:20270114T080000
DTEND;TZID=America/Puerto_Rico:20270114T163000
DTSTAMP:20260419T210848
CREATED:20251103T185220Z
LAST-MODIFIED:20251204T204656Z
UID:10004496-1799913600-1799944200@conexionlaboralsurestepr.org
SUMMARY:Visita Socio | One Stop Careers Center of PR
DESCRIPTION:Programa de Reintegración de Ex-Ofensores bajo Second Change Act
URL:https://conexionlaboralsurestepr.org/event/vista-socio-one-stop-careers-center-of-pr/2027-01-14/
LOCATION:Las Piedras
CATEGORIES:Socios
END:VEVENT
BEGIN:VEVENT
DTSTART;TZID=America/Puerto_Rico:20270115T080000
DTEND;TZID=America/Puerto_Rico:20270115T163000
DTSTAMP:20260419T210848
CREATED:20251031T153427Z
LAST-MODIFIED:20251031T173748Z
UID:10001450-1800000000-1800030600@conexionlaboralsurestepr.org
SUMMARY:Visita Socio | Título I - B
DESCRIPTION:Programa Jóvenes\, Adultos y Desplazados
URL:https://conexionlaboralsurestepr.org/event/visita-socios-titulo-i-b/2027-01-15/
LOCATION:Las Piedras
CATEGORIES:Socios
END:VEVENT
BEGIN:VEVENT
DTSTART;TZID=America/Puerto_Rico:20270115T080000
DTEND;TZID=America/Puerto_Rico:20270115T163000
DTSTAMP:20260419T210848
CREATED:20251031T173045Z
LAST-MODIFIED:20251204T204704Z
UID:10002143-1800000000-1800030600@conexionlaboralsurestepr.org
SUMMARY:Visita Socio | Departamento del Trabajo y Recursos Humanos (DTRH)
DESCRIPTION:Programa Veteranos (Capítulo 41 Título 38 del Código de EU)\nServicio de Empleo\, Programa Agrícola y Programa RESEA\nPrograma Seguro por Desempleo
URL:https://conexionlaboralsurestepr.org/event/vista-socio-departamento-del-trabajo-y-recursos-humanos-dtrh/2027-01-15/
LOCATION:Las Piedras
CATEGORIES:Socios
END:VEVENT
BEGIN:VEVENT
DTSTART;TZID=America/Puerto_Rico:20270115T080000
DTEND;TZID=America/Puerto_Rico:20270115T163000
DTSTAMP:20260419T210848
CREATED:20251103T185220Z
LAST-MODIFIED:20251204T204656Z
UID:10004497-1800000000-1800030600@conexionlaboralsurestepr.org
SUMMARY:Visita Socio | One Stop Careers Center of PR
DESCRIPTION:Programa de Reintegración de Ex-Ofensores bajo Second Change Act
URL:https://conexionlaboralsurestepr.org/event/vista-socio-one-stop-careers-center-of-pr/2027-01-15/
LOCATION:Las Piedras
CATEGORIES:Socios
END:VEVENT
BEGIN:VEVENT
DTSTART;TZID=America/Puerto_Rico:20270117T080000
DTEND;TZID=America/Puerto_Rico:20270117T163000
DTSTAMP:20260419T210848
CREATED:20251103T185220Z
LAST-MODIFIED:20251204T204656Z
UID:10004498-1800172800-1800203400@conexionlaboralsurestepr.org
SUMMARY:Visita Socio | One Stop Careers Center of PR
DESCRIPTION:Programa de Reintegración de Ex-Ofensores bajo Second Change Act
URL:https://conexionlaboralsurestepr.org/event/vista-socio-one-stop-careers-center-of-pr/2027-01-17/
LOCATION:Las Piedras
CATEGORIES:Socios
END:VEVENT
BEGIN:VEVENT
DTSTART;TZID=America/Puerto_Rico:20270118T080000
DTEND;TZID=America/Puerto_Rico:20270118T163000
DTSTAMP:20260419T210848
CREATED:20251031T153427Z
LAST-MODIFIED:20251031T173748Z
UID:10000318-1800259200-1800289800@conexionlaboralsurestepr.org
SUMMARY:Visita Socio | Título I - B
DESCRIPTION:Programa Jóvenes\, Adultos y Desplazados
URL:https://conexionlaboralsurestepr.org/event/visita-socios-titulo-i-b/2027-01-18/
LOCATION:Las Piedras
CATEGORIES:Socios
END:VEVENT
BEGIN:VEVENT
DTSTART;TZID=America/Puerto_Rico:20270118T080000
DTEND;TZID=America/Puerto_Rico:20270118T163000
DTSTAMP:20260419T210848
CREATED:20251031T173045Z
LAST-MODIFIED:20251204T204704Z
UID:10002144-1800259200-1800289800@conexionlaboralsurestepr.org
SUMMARY:Visita Socio | Departamento del Trabajo y Recursos Humanos (DTRH)
DESCRIPTION:Programa Veteranos (Capítulo 41 Título 38 del Código de EU)\nServicio de Empleo\, Programa Agrícola y Programa RESEA\nPrograma Seguro por Desempleo
URL:https://conexionlaboralsurestepr.org/event/vista-socio-departamento-del-trabajo-y-recursos-humanos-dtrh/2027-01-18/
LOCATION:Las Piedras
CATEGORIES:Socios
END:VEVENT
BEGIN:VEVENT
DTSTART;TZID=America/Puerto_Rico:20270118T080000
DTEND;TZID=America/Puerto_Rico:20270118T163000
DTSTAMP:20260419T210848
CREATED:20251103T185220Z
LAST-MODIFIED:20251204T204656Z
UID:10004499-1800259200-1800289800@conexionlaboralsurestepr.org
SUMMARY:Visita Socio | One Stop Careers Center of PR
DESCRIPTION:Programa de Reintegración de Ex-Ofensores bajo Second Change Act
URL:https://conexionlaboralsurestepr.org/event/vista-socio-one-stop-careers-center-of-pr/2027-01-18/
LOCATION:Las Piedras
CATEGORIES:Socios
END:VEVENT
BEGIN:VEVENT
DTSTART;TZID=America/Puerto_Rico:20270119T080000
DTEND;TZID=America/Puerto_Rico:20270119T163000
DTSTAMP:20260419T210848
CREATED:20251031T153427Z
LAST-MODIFIED:20251031T173748Z
UID:10000319-1800345600-1800376200@conexionlaboralsurestepr.org
SUMMARY:Visita Socio | Título I - B
DESCRIPTION:Programa Jóvenes\, Adultos y Desplazados
URL:https://conexionlaboralsurestepr.org/event/visita-socios-titulo-i-b/2027-01-19/
LOCATION:Las Piedras
CATEGORIES:Socios
END:VEVENT
BEGIN:VEVENT
DTSTART;TZID=America/Puerto_Rico:20270119T080000
DTEND;TZID=America/Puerto_Rico:20270119T163000
DTSTAMP:20260419T210848
CREATED:20251031T173045Z
LAST-MODIFIED:20251204T204704Z
UID:10002145-1800345600-1800376200@conexionlaboralsurestepr.org
SUMMARY:Visita Socio | Departamento del Trabajo y Recursos Humanos (DTRH)
DESCRIPTION:Programa Veteranos (Capítulo 41 Título 38 del Código de EU)\nServicio de Empleo\, Programa Agrícola y Programa RESEA\nPrograma Seguro por Desempleo
URL:https://conexionlaboralsurestepr.org/event/vista-socio-departamento-del-trabajo-y-recursos-humanos-dtrh/2027-01-19/
LOCATION:Las Piedras
CATEGORIES:Socios
END:VEVENT
BEGIN:VEVENT
DTSTART;TZID=America/Puerto_Rico:20270119T080000
DTEND;TZID=America/Puerto_Rico:20270119T163000
DTSTAMP:20260419T210848
CREATED:20251103T185220Z
LAST-MODIFIED:20251204T204656Z
UID:10004500-1800345600-1800376200@conexionlaboralsurestepr.org
SUMMARY:Visita Socio | One Stop Careers Center of PR
DESCRIPTION:Programa de Reintegración de Ex-Ofensores bajo Second Change Act
URL:https://conexionlaboralsurestepr.org/event/vista-socio-one-stop-careers-center-of-pr/2027-01-19/
LOCATION:Las Piedras
CATEGORIES:Socios
END:VEVENT
BEGIN:VEVENT
DTSTART;TZID=America/Puerto_Rico:20270120T080000
DTEND;TZID=America/Puerto_Rico:20270120T120000
DTSTAMP:20260419T210848
CREATED:20251103T185047Z
LAST-MODIFIED:20251204T204622Z
UID:10003869-1800432000-1800446400@conexionlaboralsurestepr.org
SUMMARY:Visita Socio | Título IV - "Social Security Act" Departamento de la Familia
DESCRIPTION:Programa TANF (Temporary Assistance for Needy Families)
URL:https://conexionlaboralsurestepr.org/event/vista-socio-titulo-iv-social-security-act-departamento-de-la-familia/2027-01-20/
LOCATION:Las Piedras
CATEGORIES:Socios
END:VEVENT
BEGIN:VEVENT
DTSTART;TZID=America/Puerto_Rico:20270120T080000
DTEND;TZID=America/Puerto_Rico:20270120T163000
DTSTAMP:20260419T210848
CREATED:20251031T153427Z
LAST-MODIFIED:20251031T173748Z
UID:10000320-1800432000-1800462600@conexionlaboralsurestepr.org
SUMMARY:Visita Socio | Título I - B
DESCRIPTION:Programa Jóvenes\, Adultos y Desplazados
URL:https://conexionlaboralsurestepr.org/event/visita-socios-titulo-i-b/2027-01-20/
LOCATION:Las Piedras
CATEGORIES:Socios
END:VEVENT
BEGIN:VEVENT
DTSTART;TZID=America/Puerto_Rico:20270120T080000
DTEND;TZID=America/Puerto_Rico:20270120T163000
DTSTAMP:20260419T210848
CREATED:20251031T173045Z
LAST-MODIFIED:20251204T204704Z
UID:10002146-1800432000-1800462600@conexionlaboralsurestepr.org
SUMMARY:Visita Socio | Departamento del Trabajo y Recursos Humanos (DTRH)
DESCRIPTION:Programa Veteranos (Capítulo 41 Título 38 del Código de EU)\nServicio de Empleo\, Programa Agrícola y Programa RESEA\nPrograma Seguro por Desempleo
URL:https://conexionlaboralsurestepr.org/event/vista-socio-departamento-del-trabajo-y-recursos-humanos-dtrh/2027-01-20/
LOCATION:Las Piedras
CATEGORIES:Socios
END:VEVENT
BEGIN:VEVENT
DTSTART;TZID=America/Puerto_Rico:20270120T080000
DTEND;TZID=America/Puerto_Rico:20270120T163000
DTSTAMP:20260419T210848
CREATED:20251103T185220Z
LAST-MODIFIED:20251204T204656Z
UID:10004501-1800432000-1800462600@conexionlaboralsurestepr.org
SUMMARY:Visita Socio | One Stop Careers Center of PR
DESCRIPTION:Programa de Reintegración de Ex-Ofensores bajo Second Change Act
URL:https://conexionlaboralsurestepr.org/event/vista-socio-one-stop-careers-center-of-pr/2027-01-20/
LOCATION:Las Piedras
CATEGORIES:Socios
END:VEVENT
BEGIN:VEVENT
DTSTART;TZID=America/Puerto_Rico:20270121T080000
DTEND;TZID=America/Puerto_Rico:20270121T163000
DTSTAMP:20260419T210848
CREATED:20251031T153427Z
LAST-MODIFIED:20251031T173748Z
UID:10000321-1800518400-1800549000@conexionlaboralsurestepr.org
SUMMARY:Visita Socio | Título I - B
DESCRIPTION:Programa Jóvenes\, Adultos y Desplazados
URL:https://conexionlaboralsurestepr.org/event/visita-socios-titulo-i-b/2027-01-21/
LOCATION:Las Piedras
CATEGORIES:Socios
END:VEVENT
BEGIN:VEVENT
DTSTART;TZID=America/Puerto_Rico:20270121T080000
DTEND;TZID=America/Puerto_Rico:20270121T163000
DTSTAMP:20260419T210848
CREATED:20251031T173045Z
LAST-MODIFIED:20251204T204704Z
UID:10002147-1800518400-1800549000@conexionlaboralsurestepr.org
SUMMARY:Visita Socio | Departamento del Trabajo y Recursos Humanos (DTRH)
DESCRIPTION:Programa Veteranos (Capítulo 41 Título 38 del Código de EU)\nServicio de Empleo\, Programa Agrícola y Programa RESEA\nPrograma Seguro por Desempleo
URL:https://conexionlaboralsurestepr.org/event/vista-socio-departamento-del-trabajo-y-recursos-humanos-dtrh/2027-01-21/
LOCATION:Las Piedras
CATEGORIES:Socios
END:VEVENT
END:VCALENDAR