BEGIN:VCALENDAR
VERSION:2.0
PRODID:-//Conexión Laboral Sureste - ECPv6.15.20//NONSGML v1.0//EN
CALSCALE:GREGORIAN
METHOD:PUBLISH
X-ORIGINAL-URL:https://conexionlaboralsurestepr.org
X-WR-CALDESC:Events for Conexión Laboral Sureste
REFRESH-INTERVAL;VALUE=DURATION:PT1H
X-Robots-Tag:noindex
X-PUBLISHED-TTL:PT1H
BEGIN:VTIMEZONE
TZID:America/Puerto_Rico
BEGIN:STANDARD
TZOFFSETFROM:-0400
TZOFFSETTO:-0400
TZNAME:AST
DTSTART:20260101T000000
END:STANDARD
END:VTIMEZONE
BEGIN:VEVENT
DTSTART;TZID=America/Puerto_Rico:20270419T080000
DTEND;TZID=America/Puerto_Rico:20270419T163000
DTSTAMP:20260420T031351
CREATED:20251031T153427Z
LAST-MODIFIED:20251031T173748Z
UID:10000383-1808121600-1808152200@conexionlaboralsurestepr.org
SUMMARY:Visita Socio | Título I - B
DESCRIPTION:Programa Jóvenes\, Adultos y Desplazados
URL:https://conexionlaboralsurestepr.org/event/visita-socios-titulo-i-b/2027-04-19/
LOCATION:Las Piedras
CATEGORIES:Socios
END:VEVENT
BEGIN:VEVENT
DTSTART;TZID=America/Puerto_Rico:20270419T080000
DTEND;TZID=America/Puerto_Rico:20270419T163000
DTSTAMP:20260420T031351
CREATED:20251031T173045Z
LAST-MODIFIED:20251204T204704Z
UID:10002209-1808121600-1808152200@conexionlaboralsurestepr.org
SUMMARY:Visita Socio | Departamento del Trabajo y Recursos Humanos (DTRH)
DESCRIPTION:Programa Veteranos (Capítulo 41 Título 38 del Código de EU)\nServicio de Empleo\, Programa Agrícola y Programa RESEA\nPrograma Seguro por Desempleo
URL:https://conexionlaboralsurestepr.org/event/vista-socio-departamento-del-trabajo-y-recursos-humanos-dtrh/2027-04-19/
LOCATION:Las Piedras
CATEGORIES:Socios
END:VEVENT
BEGIN:VEVENT
DTSTART;TZID=America/Puerto_Rico:20270419T080000
DTEND;TZID=America/Puerto_Rico:20270419T163000
DTSTAMP:20260420T031351
CREATED:20251103T185220Z
LAST-MODIFIED:20251204T204656Z
UID:10004577-1808121600-1808152200@conexionlaboralsurestepr.org
SUMMARY:Visita Socio | One Stop Careers Center of PR
DESCRIPTION:Programa de Reintegración de Ex-Ofensores bajo Second Change Act
URL:https://conexionlaboralsurestepr.org/event/vista-socio-one-stop-careers-center-of-pr/2027-04-19/
LOCATION:Las Piedras
CATEGORIES:Socios
END:VEVENT
BEGIN:VEVENT
DTSTART;TZID=America/Puerto_Rico:20270420T080000
DTEND;TZID=America/Puerto_Rico:20270420T163000
DTSTAMP:20260420T031351
CREATED:20251031T153427Z
LAST-MODIFIED:20251031T173748Z
UID:10000384-1808208000-1808238600@conexionlaboralsurestepr.org
SUMMARY:Visita Socio | Título I - B
DESCRIPTION:Programa Jóvenes\, Adultos y Desplazados
URL:https://conexionlaboralsurestepr.org/event/visita-socios-titulo-i-b/2027-04-20/
LOCATION:Las Piedras
CATEGORIES:Socios
END:VEVENT
BEGIN:VEVENT
DTSTART;TZID=America/Puerto_Rico:20270420T080000
DTEND;TZID=America/Puerto_Rico:20270420T163000
DTSTAMP:20260420T031351
CREATED:20251031T173045Z
LAST-MODIFIED:20251204T204704Z
UID:10002210-1808208000-1808238600@conexionlaboralsurestepr.org
SUMMARY:Visita Socio | Departamento del Trabajo y Recursos Humanos (DTRH)
DESCRIPTION:Programa Veteranos (Capítulo 41 Título 38 del Código de EU)\nServicio de Empleo\, Programa Agrícola y Programa RESEA\nPrograma Seguro por Desempleo
URL:https://conexionlaboralsurestepr.org/event/vista-socio-departamento-del-trabajo-y-recursos-humanos-dtrh/2027-04-20/
LOCATION:Las Piedras
CATEGORIES:Socios
END:VEVENT
BEGIN:VEVENT
DTSTART;TZID=America/Puerto_Rico:20270420T080000
DTEND;TZID=America/Puerto_Rico:20270420T163000
DTSTAMP:20260420T031351
CREATED:20251103T185220Z
LAST-MODIFIED:20251204T204656Z
UID:10004578-1808208000-1808238600@conexionlaboralsurestepr.org
SUMMARY:Visita Socio | One Stop Careers Center of PR
DESCRIPTION:Programa de Reintegración de Ex-Ofensores bajo Second Change Act
URL:https://conexionlaboralsurestepr.org/event/vista-socio-one-stop-careers-center-of-pr/2027-04-20/
LOCATION:Las Piedras
CATEGORIES:Socios
END:VEVENT
BEGIN:VEVENT
DTSTART;TZID=America/Puerto_Rico:20270421T080000
DTEND;TZID=America/Puerto_Rico:20270421T120000
DTSTAMP:20260420T031351
CREATED:20251103T185047Z
LAST-MODIFIED:20251204T204622Z
UID:10003882-1808294400-1808308800@conexionlaboralsurestepr.org
SUMMARY:Visita Socio | Título IV - "Social Security Act" Departamento de la Familia
DESCRIPTION:Programa TANF (Temporary Assistance for Needy Families)
URL:https://conexionlaboralsurestepr.org/event/vista-socio-titulo-iv-social-security-act-departamento-de-la-familia/2027-04-21/
LOCATION:Las Piedras
CATEGORIES:Socios
END:VEVENT
BEGIN:VEVENT
DTSTART;TZID=America/Puerto_Rico:20270421T080000
DTEND;TZID=America/Puerto_Rico:20270421T163000
DTSTAMP:20260420T031351
CREATED:20251031T153427Z
LAST-MODIFIED:20251031T173748Z
UID:10000385-1808294400-1808325000@conexionlaboralsurestepr.org
SUMMARY:Visita Socio | Título I - B
DESCRIPTION:Programa Jóvenes\, Adultos y Desplazados
URL:https://conexionlaboralsurestepr.org/event/visita-socios-titulo-i-b/2027-04-21/
LOCATION:Las Piedras
CATEGORIES:Socios
END:VEVENT
BEGIN:VEVENT
DTSTART;TZID=America/Puerto_Rico:20270421T080000
DTEND;TZID=America/Puerto_Rico:20270421T163000
DTSTAMP:20260420T031351
CREATED:20251031T173045Z
LAST-MODIFIED:20251204T204704Z
UID:10002211-1808294400-1808325000@conexionlaboralsurestepr.org
SUMMARY:Visita Socio | Departamento del Trabajo y Recursos Humanos (DTRH)
DESCRIPTION:Programa Veteranos (Capítulo 41 Título 38 del Código de EU)\nServicio de Empleo\, Programa Agrícola y Programa RESEA\nPrograma Seguro por Desempleo
URL:https://conexionlaboralsurestepr.org/event/vista-socio-departamento-del-trabajo-y-recursos-humanos-dtrh/2027-04-21/
LOCATION:Las Piedras
CATEGORIES:Socios
END:VEVENT
BEGIN:VEVENT
DTSTART;TZID=America/Puerto_Rico:20270421T080000
DTEND;TZID=America/Puerto_Rico:20270421T163000
DTSTAMP:20260420T031351
CREATED:20251103T185220Z
LAST-MODIFIED:20251204T204656Z
UID:10004579-1808294400-1808325000@conexionlaboralsurestepr.org
SUMMARY:Visita Socio | One Stop Careers Center of PR
DESCRIPTION:Programa de Reintegración de Ex-Ofensores bajo Second Change Act
URL:https://conexionlaboralsurestepr.org/event/vista-socio-one-stop-careers-center-of-pr/2027-04-21/
LOCATION:Las Piedras
CATEGORIES:Socios
END:VEVENT
BEGIN:VEVENT
DTSTART;TZID=America/Puerto_Rico:20270422T080000
DTEND;TZID=America/Puerto_Rico:20270422T163000
DTSTAMP:20260420T031351
CREATED:20251031T153427Z
LAST-MODIFIED:20251031T173748Z
UID:10000386-1808380800-1808411400@conexionlaboralsurestepr.org
SUMMARY:Visita Socio | Título I - B
DESCRIPTION:Programa Jóvenes\, Adultos y Desplazados
URL:https://conexionlaboralsurestepr.org/event/visita-socios-titulo-i-b/2027-04-22/
LOCATION:Las Piedras
CATEGORIES:Socios
END:VEVENT
BEGIN:VEVENT
DTSTART;TZID=America/Puerto_Rico:20270422T080000
DTEND;TZID=America/Puerto_Rico:20270422T163000
DTSTAMP:20260420T031351
CREATED:20251031T173045Z
LAST-MODIFIED:20251204T204704Z
UID:10002212-1808380800-1808411400@conexionlaboralsurestepr.org
SUMMARY:Visita Socio | Departamento del Trabajo y Recursos Humanos (DTRH)
DESCRIPTION:Programa Veteranos (Capítulo 41 Título 38 del Código de EU)\nServicio de Empleo\, Programa Agrícola y Programa RESEA\nPrograma Seguro por Desempleo
URL:https://conexionlaboralsurestepr.org/event/vista-socio-departamento-del-trabajo-y-recursos-humanos-dtrh/2027-04-22/
LOCATION:Las Piedras
CATEGORIES:Socios
END:VEVENT
BEGIN:VEVENT
DTSTART;TZID=America/Puerto_Rico:20270422T080000
DTEND;TZID=America/Puerto_Rico:20270422T163000
DTSTAMP:20260420T031351
CREATED:20251103T184914Z
LAST-MODIFIED:20251204T204647Z
UID:10003612-1808380800-1808411400@conexionlaboralsurestepr.org
SUMMARY:Visita Socio | Título II - Departamento de Educación
DESCRIPTION:Programa de Educación y Literacia de Adultos
URL:https://conexionlaboralsurestepr.org/event/vista-socio-titulo-ii-departamento-de-educacion/2027-04-22/
LOCATION:Las Piedras
CATEGORIES:Socios
END:VEVENT
BEGIN:VEVENT
DTSTART;TZID=America/Puerto_Rico:20270422T080000
DTEND;TZID=America/Puerto_Rico:20270422T163000
DTSTAMP:20260420T031351
CREATED:20251103T185220Z
LAST-MODIFIED:20251204T204656Z
UID:10004580-1808380800-1808411400@conexionlaboralsurestepr.org
SUMMARY:Visita Socio | One Stop Careers Center of PR
DESCRIPTION:Programa de Reintegración de Ex-Ofensores bajo Second Change Act
URL:https://conexionlaboralsurestepr.org/event/vista-socio-one-stop-careers-center-of-pr/2027-04-22/
LOCATION:Las Piedras
CATEGORIES:Socios
END:VEVENT
BEGIN:VEVENT
DTSTART;TZID=America/Puerto_Rico:20270423T080000
DTEND;TZID=America/Puerto_Rico:20270423T163000
DTSTAMP:20260420T031351
CREATED:20251031T153427Z
LAST-MODIFIED:20251031T173748Z
UID:10001464-1808467200-1808497800@conexionlaboralsurestepr.org
SUMMARY:Visita Socio | Título I - B
DESCRIPTION:Programa Jóvenes\, Adultos y Desplazados
URL:https://conexionlaboralsurestepr.org/event/visita-socios-titulo-i-b/2027-04-23/
LOCATION:Las Piedras
CATEGORIES:Socios
END:VEVENT
BEGIN:VEVENT
DTSTART;TZID=America/Puerto_Rico:20270423T080000
DTEND;TZID=America/Puerto_Rico:20270423T163000
DTSTAMP:20260420T031351
CREATED:20251031T173045Z
LAST-MODIFIED:20251204T204704Z
UID:10002213-1808467200-1808497800@conexionlaboralsurestepr.org
SUMMARY:Visita Socio | Departamento del Trabajo y Recursos Humanos (DTRH)
DESCRIPTION:Programa Veteranos (Capítulo 41 Título 38 del Código de EU)\nServicio de Empleo\, Programa Agrícola y Programa RESEA\nPrograma Seguro por Desempleo
URL:https://conexionlaboralsurestepr.org/event/vista-socio-departamento-del-trabajo-y-recursos-humanos-dtrh/2027-04-23/
LOCATION:Las Piedras
CATEGORIES:Socios
END:VEVENT
BEGIN:VEVENT
DTSTART;TZID=America/Puerto_Rico:20270423T080000
DTEND;TZID=America/Puerto_Rico:20270423T163000
DTSTAMP:20260420T031351
CREATED:20251103T185220Z
LAST-MODIFIED:20251204T204656Z
UID:10004581-1808467200-1808497800@conexionlaboralsurestepr.org
SUMMARY:Visita Socio | One Stop Careers Center of PR
DESCRIPTION:Programa de Reintegración de Ex-Ofensores bajo Second Change Act
URL:https://conexionlaboralsurestepr.org/event/vista-socio-one-stop-careers-center-of-pr/2027-04-23/
LOCATION:Las Piedras
CATEGORIES:Socios
END:VEVENT
BEGIN:VEVENT
DTSTART;TZID=America/Puerto_Rico:20270425T080000
DTEND;TZID=America/Puerto_Rico:20270425T163000
DTSTAMP:20260420T031351
CREATED:20251103T185220Z
LAST-MODIFIED:20251204T204656Z
UID:10004582-1808640000-1808670600@conexionlaboralsurestepr.org
SUMMARY:Visita Socio | One Stop Careers Center of PR
DESCRIPTION:Programa de Reintegración de Ex-Ofensores bajo Second Change Act
URL:https://conexionlaboralsurestepr.org/event/vista-socio-one-stop-careers-center-of-pr/2027-04-25/
LOCATION:Las Piedras
CATEGORIES:Socios
END:VEVENT
BEGIN:VEVENT
DTSTART;TZID=America/Puerto_Rico:20270426T080000
DTEND;TZID=America/Puerto_Rico:20270426T163000
DTSTAMP:20260420T031351
CREATED:20251031T153427Z
LAST-MODIFIED:20251031T173748Z
UID:10000388-1808726400-1808757000@conexionlaboralsurestepr.org
SUMMARY:Visita Socio | Título I - B
DESCRIPTION:Programa Jóvenes\, Adultos y Desplazados
URL:https://conexionlaboralsurestepr.org/event/visita-socios-titulo-i-b/2027-04-26/
LOCATION:Las Piedras
CATEGORIES:Socios
END:VEVENT
BEGIN:VEVENT
DTSTART;TZID=America/Puerto_Rico:20270426T080000
DTEND;TZID=America/Puerto_Rico:20270426T163000
DTSTAMP:20260420T031351
CREATED:20251031T173045Z
LAST-MODIFIED:20251204T204704Z
UID:10002214-1808726400-1808757000@conexionlaboralsurestepr.org
SUMMARY:Visita Socio | Departamento del Trabajo y Recursos Humanos (DTRH)
DESCRIPTION:Programa Veteranos (Capítulo 41 Título 38 del Código de EU)\nServicio de Empleo\, Programa Agrícola y Programa RESEA\nPrograma Seguro por Desempleo
URL:https://conexionlaboralsurestepr.org/event/vista-socio-departamento-del-trabajo-y-recursos-humanos-dtrh/2027-04-26/
LOCATION:Las Piedras
CATEGORIES:Socios
END:VEVENT
BEGIN:VEVENT
DTSTART;TZID=America/Puerto_Rico:20270426T080000
DTEND;TZID=America/Puerto_Rico:20270426T163000
DTSTAMP:20260420T031351
CREATED:20251103T185220Z
LAST-MODIFIED:20251204T204656Z
UID:10004583-1808726400-1808757000@conexionlaboralsurestepr.org
SUMMARY:Visita Socio | One Stop Careers Center of PR
DESCRIPTION:Programa de Reintegración de Ex-Ofensores bajo Second Change Act
URL:https://conexionlaboralsurestepr.org/event/vista-socio-one-stop-careers-center-of-pr/2027-04-26/
LOCATION:Las Piedras
CATEGORIES:Socios
END:VEVENT
BEGIN:VEVENT
DTSTART;TZID=America/Puerto_Rico:20270427T080000
DTEND;TZID=America/Puerto_Rico:20270427T163000
DTSTAMP:20260420T031351
CREATED:20251031T153427Z
LAST-MODIFIED:20251031T173748Z
UID:10000389-1808812800-1808843400@conexionlaboralsurestepr.org
SUMMARY:Visita Socio | Título I - B
DESCRIPTION:Programa Jóvenes\, Adultos y Desplazados
URL:https://conexionlaboralsurestepr.org/event/visita-socios-titulo-i-b/2027-04-27/
LOCATION:Las Piedras
CATEGORIES:Socios
END:VEVENT
BEGIN:VEVENT
DTSTART;TZID=America/Puerto_Rico:20270427T080000
DTEND;TZID=America/Puerto_Rico:20270427T163000
DTSTAMP:20260420T031351
CREATED:20251031T173045Z
LAST-MODIFIED:20251204T204704Z
UID:10002215-1808812800-1808843400@conexionlaboralsurestepr.org
SUMMARY:Visita Socio | Departamento del Trabajo y Recursos Humanos (DTRH)
DESCRIPTION:Programa Veteranos (Capítulo 41 Título 38 del Código de EU)\nServicio de Empleo\, Programa Agrícola y Programa RESEA\nPrograma Seguro por Desempleo
URL:https://conexionlaboralsurestepr.org/event/vista-socio-departamento-del-trabajo-y-recursos-humanos-dtrh/2027-04-27/
LOCATION:Las Piedras
CATEGORIES:Socios
END:VEVENT
BEGIN:VEVENT
DTSTART;TZID=America/Puerto_Rico:20270427T080000
DTEND;TZID=America/Puerto_Rico:20270427T163000
DTSTAMP:20260420T031351
CREATED:20251103T185220Z
LAST-MODIFIED:20251204T204656Z
UID:10004584-1808812800-1808843400@conexionlaboralsurestepr.org
SUMMARY:Visita Socio | One Stop Careers Center of PR
DESCRIPTION:Programa de Reintegración de Ex-Ofensores bajo Second Change Act
URL:https://conexionlaboralsurestepr.org/event/vista-socio-one-stop-careers-center-of-pr/2027-04-27/
LOCATION:Las Piedras
CATEGORIES:Socios
END:VEVENT
BEGIN:VEVENT
DTSTART;TZID=America/Puerto_Rico:20270428T080000
DTEND;TZID=America/Puerto_Rico:20270428T120000
DTSTAMP:20260420T031351
CREATED:20251103T185047Z
LAST-MODIFIED:20251204T204622Z
UID:10003883-1808899200-1808913600@conexionlaboralsurestepr.org
SUMMARY:Visita Socio | Título IV - "Social Security Act" Departamento de la Familia
DESCRIPTION:Programa TANF (Temporary Assistance for Needy Families)
URL:https://conexionlaboralsurestepr.org/event/vista-socio-titulo-iv-social-security-act-departamento-de-la-familia/2027-04-28/
LOCATION:Las Piedras
CATEGORIES:Socios
END:VEVENT
BEGIN:VEVENT
DTSTART;TZID=America/Puerto_Rico:20270428T080000
DTEND;TZID=America/Puerto_Rico:20270428T163000
DTSTAMP:20260420T031351
CREATED:20251031T153427Z
LAST-MODIFIED:20251031T173748Z
UID:10000390-1808899200-1808929800@conexionlaboralsurestepr.org
SUMMARY:Visita Socio | Título I - B
DESCRIPTION:Programa Jóvenes\, Adultos y Desplazados
URL:https://conexionlaboralsurestepr.org/event/visita-socios-titulo-i-b/2027-04-28/
LOCATION:Las Piedras
CATEGORIES:Socios
END:VEVENT
BEGIN:VEVENT
DTSTART;TZID=America/Puerto_Rico:20270428T080000
DTEND;TZID=America/Puerto_Rico:20270428T163000
DTSTAMP:20260420T031351
CREATED:20251031T173045Z
LAST-MODIFIED:20251204T204704Z
UID:10002216-1808899200-1808929800@conexionlaboralsurestepr.org
SUMMARY:Visita Socio | Departamento del Trabajo y Recursos Humanos (DTRH)
DESCRIPTION:Programa Veteranos (Capítulo 41 Título 38 del Código de EU)\nServicio de Empleo\, Programa Agrícola y Programa RESEA\nPrograma Seguro por Desempleo
URL:https://conexionlaboralsurestepr.org/event/vista-socio-departamento-del-trabajo-y-recursos-humanos-dtrh/2027-04-28/
LOCATION:Las Piedras
CATEGORIES:Socios
END:VEVENT
BEGIN:VEVENT
DTSTART;TZID=America/Puerto_Rico:20270428T080000
DTEND;TZID=America/Puerto_Rico:20270428T163000
DTSTAMP:20260420T031351
CREATED:20251103T185220Z
LAST-MODIFIED:20251204T204656Z
UID:10004585-1808899200-1808929800@conexionlaboralsurestepr.org
SUMMARY:Visita Socio | One Stop Careers Center of PR
DESCRIPTION:Programa de Reintegración de Ex-Ofensores bajo Second Change Act
URL:https://conexionlaboralsurestepr.org/event/vista-socio-one-stop-careers-center-of-pr/2027-04-28/
LOCATION:Las Piedras
CATEGORIES:Socios
END:VEVENT
BEGIN:VEVENT
DTSTART;TZID=America/Puerto_Rico:20270429T080000
DTEND;TZID=America/Puerto_Rico:20270429T163000
DTSTAMP:20260420T031351
CREATED:20251031T153427Z
LAST-MODIFIED:20251031T173748Z
UID:10000391-1808985600-1809016200@conexionlaboralsurestepr.org
SUMMARY:Visita Socio | Título I - B
DESCRIPTION:Programa Jóvenes\, Adultos y Desplazados
URL:https://conexionlaboralsurestepr.org/event/visita-socios-titulo-i-b/2027-04-29/
LOCATION:Las Piedras
CATEGORIES:Socios
END:VEVENT
BEGIN:VEVENT
DTSTART;TZID=America/Puerto_Rico:20270429T080000
DTEND;TZID=America/Puerto_Rico:20270429T163000
DTSTAMP:20260420T031351
CREATED:20251031T173045Z
LAST-MODIFIED:20251204T204704Z
UID:10002217-1808985600-1809016200@conexionlaboralsurestepr.org
SUMMARY:Visita Socio | Departamento del Trabajo y Recursos Humanos (DTRH)
DESCRIPTION:Programa Veteranos (Capítulo 41 Título 38 del Código de EU)\nServicio de Empleo\, Programa Agrícola y Programa RESEA\nPrograma Seguro por Desempleo
URL:https://conexionlaboralsurestepr.org/event/vista-socio-departamento-del-trabajo-y-recursos-humanos-dtrh/2027-04-29/
LOCATION:Las Piedras
CATEGORIES:Socios
END:VEVENT
END:VCALENDAR