BEGIN:VCALENDAR
VERSION:2.0
PRODID:-//Conexión Laboral Sureste - ECPv6.15.20//NONSGML v1.0//EN
CALSCALE:GREGORIAN
METHOD:PUBLISH
X-ORIGINAL-URL:https://conexionlaboralsurestepr.org
X-WR-CALDESC:Events for Conexión Laboral Sureste
REFRESH-INTERVAL;VALUE=DURATION:PT1H
X-Robots-Tag:noindex
X-PUBLISHED-TTL:PT1H
BEGIN:VTIMEZONE
TZID:America/Puerto_Rico
BEGIN:STANDARD
TZOFFSETFROM:-0400
TZOFFSETTO:-0400
TZNAME:AST
DTSTART:20260101T000000
END:STANDARD
END:VTIMEZONE
BEGIN:VEVENT
DTSTART;TZID=America/Puerto_Rico:20270524T080000
DTEND;TZID=America/Puerto_Rico:20270524T163000
DTSTAMP:20260420T045459
CREATED:20251031T153427Z
LAST-MODIFIED:20251031T173748Z
UID:10000408-1811145600-1811176200@conexionlaboralsurestepr.org
SUMMARY:Visita Socio | Título I - B
DESCRIPTION:Programa Jóvenes\, Adultos y Desplazados
URL:https://conexionlaboralsurestepr.org/event/visita-socios-titulo-i-b/2027-05-24/
LOCATION:Las Piedras
CATEGORIES:Socios
END:VEVENT
BEGIN:VEVENT
DTSTART;TZID=America/Puerto_Rico:20270524T080000
DTEND;TZID=America/Puerto_Rico:20270524T163000
DTSTAMP:20260420T045459
CREATED:20251031T173045Z
LAST-MODIFIED:20251204T204704Z
UID:10002234-1811145600-1811176200@conexionlaboralsurestepr.org
SUMMARY:Visita Socio | Departamento del Trabajo y Recursos Humanos (DTRH)
DESCRIPTION:Programa Veteranos (Capítulo 41 Título 38 del Código de EU)\nServicio de Empleo\, Programa Agrícola y Programa RESEA\nPrograma Seguro por Desempleo
URL:https://conexionlaboralsurestepr.org/event/vista-socio-departamento-del-trabajo-y-recursos-humanos-dtrh/2027-05-24/
LOCATION:Las Piedras
CATEGORIES:Socios
END:VEVENT
BEGIN:VEVENT
DTSTART;TZID=America/Puerto_Rico:20270524T080000
DTEND;TZID=America/Puerto_Rico:20270524T163000
DTSTAMP:20260420T045500
CREATED:20251103T185220Z
LAST-MODIFIED:20251204T204656Z
UID:10004607-1811145600-1811176200@conexionlaboralsurestepr.org
SUMMARY:Visita Socio | One Stop Careers Center of PR
DESCRIPTION:Programa de Reintegración de Ex-Ofensores bajo Second Change Act
URL:https://conexionlaboralsurestepr.org/event/vista-socio-one-stop-careers-center-of-pr/2027-05-24/
LOCATION:Las Piedras
CATEGORIES:Socios
END:VEVENT
BEGIN:VEVENT
DTSTART;TZID=America/Puerto_Rico:20270525T080000
DTEND;TZID=America/Puerto_Rico:20270525T163000
DTSTAMP:20260420T045500
CREATED:20251031T153427Z
LAST-MODIFIED:20251031T173748Z
UID:10000409-1811232000-1811262600@conexionlaboralsurestepr.org
SUMMARY:Visita Socio | Título I - B
DESCRIPTION:Programa Jóvenes\, Adultos y Desplazados
URL:https://conexionlaboralsurestepr.org/event/visita-socios-titulo-i-b/2027-05-25/
LOCATION:Las Piedras
CATEGORIES:Socios
END:VEVENT
BEGIN:VEVENT
DTSTART;TZID=America/Puerto_Rico:20270525T080000
DTEND;TZID=America/Puerto_Rico:20270525T163000
DTSTAMP:20260420T045500
CREATED:20251031T173045Z
LAST-MODIFIED:20251204T204704Z
UID:10002235-1811232000-1811262600@conexionlaboralsurestepr.org
SUMMARY:Visita Socio | Departamento del Trabajo y Recursos Humanos (DTRH)
DESCRIPTION:Programa Veteranos (Capítulo 41 Título 38 del Código de EU)\nServicio de Empleo\, Programa Agrícola y Programa RESEA\nPrograma Seguro por Desempleo
URL:https://conexionlaboralsurestepr.org/event/vista-socio-departamento-del-trabajo-y-recursos-humanos-dtrh/2027-05-25/
LOCATION:Las Piedras
CATEGORIES:Socios
END:VEVENT
BEGIN:VEVENT
DTSTART;TZID=America/Puerto_Rico:20270525T080000
DTEND;TZID=America/Puerto_Rico:20270525T163000
DTSTAMP:20260420T045500
CREATED:20251103T185220Z
LAST-MODIFIED:20251204T204656Z
UID:10004608-1811232000-1811262600@conexionlaboralsurestepr.org
SUMMARY:Visita Socio | One Stop Careers Center of PR
DESCRIPTION:Programa de Reintegración de Ex-Ofensores bajo Second Change Act
URL:https://conexionlaboralsurestepr.org/event/vista-socio-one-stop-careers-center-of-pr/2027-05-25/
LOCATION:Las Piedras
CATEGORIES:Socios
END:VEVENT
BEGIN:VEVENT
DTSTART;TZID=America/Puerto_Rico:20270526T080000
DTEND;TZID=America/Puerto_Rico:20270526T120000
DTSTAMP:20260420T045500
CREATED:20251103T185047Z
LAST-MODIFIED:20251204T204622Z
UID:10003887-1811318400-1811332800@conexionlaboralsurestepr.org
SUMMARY:Visita Socio | Título IV - "Social Security Act" Departamento de la Familia
DESCRIPTION:Programa TANF (Temporary Assistance for Needy Families)
URL:https://conexionlaboralsurestepr.org/event/vista-socio-titulo-iv-social-security-act-departamento-de-la-familia/2027-05-26/
LOCATION:Las Piedras
CATEGORIES:Socios
END:VEVENT
BEGIN:VEVENT
DTSTART;TZID=America/Puerto_Rico:20270526T080000
DTEND;TZID=America/Puerto_Rico:20270526T163000
DTSTAMP:20260420T045500
CREATED:20251031T153427Z
LAST-MODIFIED:20251031T173748Z
UID:10000410-1811318400-1811349000@conexionlaboralsurestepr.org
SUMMARY:Visita Socio | Título I - B
DESCRIPTION:Programa Jóvenes\, Adultos y Desplazados
URL:https://conexionlaboralsurestepr.org/event/visita-socios-titulo-i-b/2027-05-26/
LOCATION:Las Piedras
CATEGORIES:Socios
END:VEVENT
BEGIN:VEVENT
DTSTART;TZID=America/Puerto_Rico:20270526T080000
DTEND;TZID=America/Puerto_Rico:20270526T163000
DTSTAMP:20260420T045500
CREATED:20251031T173045Z
LAST-MODIFIED:20251204T204704Z
UID:10002236-1811318400-1811349000@conexionlaboralsurestepr.org
SUMMARY:Visita Socio | Departamento del Trabajo y Recursos Humanos (DTRH)
DESCRIPTION:Programa Veteranos (Capítulo 41 Título 38 del Código de EU)\nServicio de Empleo\, Programa Agrícola y Programa RESEA\nPrograma Seguro por Desempleo
URL:https://conexionlaboralsurestepr.org/event/vista-socio-departamento-del-trabajo-y-recursos-humanos-dtrh/2027-05-26/
LOCATION:Las Piedras
CATEGORIES:Socios
END:VEVENT
BEGIN:VEVENT
DTSTART;TZID=America/Puerto_Rico:20270526T080000
DTEND;TZID=America/Puerto_Rico:20270526T163000
DTSTAMP:20260420T045500
CREATED:20251103T185220Z
LAST-MODIFIED:20251204T204656Z
UID:10004609-1811318400-1811349000@conexionlaboralsurestepr.org
SUMMARY:Visita Socio | One Stop Careers Center of PR
DESCRIPTION:Programa de Reintegración de Ex-Ofensores bajo Second Change Act
URL:https://conexionlaboralsurestepr.org/event/vista-socio-one-stop-careers-center-of-pr/2027-05-26/
LOCATION:Las Piedras
CATEGORIES:Socios
END:VEVENT
BEGIN:VEVENT
DTSTART;TZID=America/Puerto_Rico:20270527T080000
DTEND;TZID=America/Puerto_Rico:20270527T163000
DTSTAMP:20260420T045500
CREATED:20251031T153427Z
LAST-MODIFIED:20251031T173748Z
UID:10000411-1811404800-1811435400@conexionlaboralsurestepr.org
SUMMARY:Visita Socio | Título I - B
DESCRIPTION:Programa Jóvenes\, Adultos y Desplazados
URL:https://conexionlaboralsurestepr.org/event/visita-socios-titulo-i-b/2027-05-27/
LOCATION:Las Piedras
CATEGORIES:Socios
END:VEVENT
BEGIN:VEVENT
DTSTART;TZID=America/Puerto_Rico:20270527T080000
DTEND;TZID=America/Puerto_Rico:20270527T163000
DTSTAMP:20260420T045500
CREATED:20251031T173045Z
LAST-MODIFIED:20251204T204704Z
UID:10002237-1811404800-1811435400@conexionlaboralsurestepr.org
SUMMARY:Visita Socio | Departamento del Trabajo y Recursos Humanos (DTRH)
DESCRIPTION:Programa Veteranos (Capítulo 41 Título 38 del Código de EU)\nServicio de Empleo\, Programa Agrícola y Programa RESEA\nPrograma Seguro por Desempleo
URL:https://conexionlaboralsurestepr.org/event/vista-socio-departamento-del-trabajo-y-recursos-humanos-dtrh/2027-05-27/
LOCATION:Las Piedras
CATEGORIES:Socios
END:VEVENT
BEGIN:VEVENT
DTSTART;TZID=America/Puerto_Rico:20270527T080000
DTEND;TZID=America/Puerto_Rico:20270527T163000
DTSTAMP:20260420T045500
CREATED:20251103T184914Z
LAST-MODIFIED:20251204T204647Z
UID:10003617-1811404800-1811435400@conexionlaboralsurestepr.org
SUMMARY:Visita Socio | Título II - Departamento de Educación
DESCRIPTION:Programa de Educación y Literacia de Adultos
URL:https://conexionlaboralsurestepr.org/event/vista-socio-titulo-ii-departamento-de-educacion/2027-05-27/
LOCATION:Las Piedras
CATEGORIES:Socios
END:VEVENT
BEGIN:VEVENT
DTSTART;TZID=America/Puerto_Rico:20270527T080000
DTEND;TZID=America/Puerto_Rico:20270527T163000
DTSTAMP:20260420T045500
CREATED:20251103T185220Z
LAST-MODIFIED:20251204T204656Z
UID:10004610-1811404800-1811435400@conexionlaboralsurestepr.org
SUMMARY:Visita Socio | One Stop Careers Center of PR
DESCRIPTION:Programa de Reintegración de Ex-Ofensores bajo Second Change Act
URL:https://conexionlaboralsurestepr.org/event/vista-socio-one-stop-careers-center-of-pr/2027-05-27/
LOCATION:Las Piedras
CATEGORIES:Socios
END:VEVENT
BEGIN:VEVENT
DTSTART;TZID=America/Puerto_Rico:20270528T080000
DTEND;TZID=America/Puerto_Rico:20270528T163000
DTSTAMP:20260420T045500
CREATED:20251031T153427Z
LAST-MODIFIED:20251031T173748Z
UID:10001469-1811491200-1811521800@conexionlaboralsurestepr.org
SUMMARY:Visita Socio | Título I - B
DESCRIPTION:Programa Jóvenes\, Adultos y Desplazados
URL:https://conexionlaboralsurestepr.org/event/visita-socios-titulo-i-b/2027-05-28/
LOCATION:Las Piedras
CATEGORIES:Socios
END:VEVENT
BEGIN:VEVENT
DTSTART;TZID=America/Puerto_Rico:20270528T080000
DTEND;TZID=America/Puerto_Rico:20270528T163000
DTSTAMP:20260420T045500
CREATED:20251031T173045Z
LAST-MODIFIED:20251204T204704Z
UID:10002238-1811491200-1811521800@conexionlaboralsurestepr.org
SUMMARY:Visita Socio | Departamento del Trabajo y Recursos Humanos (DTRH)
DESCRIPTION:Programa Veteranos (Capítulo 41 Título 38 del Código de EU)\nServicio de Empleo\, Programa Agrícola y Programa RESEA\nPrograma Seguro por Desempleo
URL:https://conexionlaboralsurestepr.org/event/vista-socio-departamento-del-trabajo-y-recursos-humanos-dtrh/2027-05-28/
LOCATION:Las Piedras
CATEGORIES:Socios
END:VEVENT
BEGIN:VEVENT
DTSTART;TZID=America/Puerto_Rico:20270528T080000
DTEND;TZID=America/Puerto_Rico:20270528T163000
DTSTAMP:20260420T045500
CREATED:20251103T185220Z
LAST-MODIFIED:20251204T204656Z
UID:10004611-1811491200-1811521800@conexionlaboralsurestepr.org
SUMMARY:Visita Socio | One Stop Careers Center of PR
DESCRIPTION:Programa de Reintegración de Ex-Ofensores bajo Second Change Act
URL:https://conexionlaboralsurestepr.org/event/vista-socio-one-stop-careers-center-of-pr/2027-05-28/
LOCATION:Las Piedras
CATEGORIES:Socios
END:VEVENT
BEGIN:VEVENT
DTSTART;TZID=America/Puerto_Rico:20270530T080000
DTEND;TZID=America/Puerto_Rico:20270530T163000
DTSTAMP:20260420T045500
CREATED:20251103T185220Z
LAST-MODIFIED:20251204T204656Z
UID:10004612-1811664000-1811694600@conexionlaboralsurestepr.org
SUMMARY:Visita Socio | One Stop Careers Center of PR
DESCRIPTION:Programa de Reintegración de Ex-Ofensores bajo Second Change Act
URL:https://conexionlaboralsurestepr.org/event/vista-socio-one-stop-careers-center-of-pr/2027-05-30/
LOCATION:Las Piedras
CATEGORIES:Socios
END:VEVENT
BEGIN:VEVENT
DTSTART;TZID=America/Puerto_Rico:20270531T080000
DTEND;TZID=America/Puerto_Rico:20270531T163000
DTSTAMP:20260420T045500
CREATED:20251031T153427Z
LAST-MODIFIED:20251031T173748Z
UID:10000413-1811750400-1811781000@conexionlaboralsurestepr.org
SUMMARY:Visita Socio | Título I - B
DESCRIPTION:Programa Jóvenes\, Adultos y Desplazados
URL:https://conexionlaboralsurestepr.org/event/visita-socios-titulo-i-b/2027-05-31/
LOCATION:Las Piedras
CATEGORIES:Socios
END:VEVENT
BEGIN:VEVENT
DTSTART;TZID=America/Puerto_Rico:20270531T080000
DTEND;TZID=America/Puerto_Rico:20270531T163000
DTSTAMP:20260420T045500
CREATED:20251031T173045Z
LAST-MODIFIED:20251204T204704Z
UID:10002239-1811750400-1811781000@conexionlaboralsurestepr.org
SUMMARY:Visita Socio | Departamento del Trabajo y Recursos Humanos (DTRH)
DESCRIPTION:Programa Veteranos (Capítulo 41 Título 38 del Código de EU)\nServicio de Empleo\, Programa Agrícola y Programa RESEA\nPrograma Seguro por Desempleo
URL:https://conexionlaboralsurestepr.org/event/vista-socio-departamento-del-trabajo-y-recursos-humanos-dtrh/2027-05-31/
LOCATION:Las Piedras
CATEGORIES:Socios
END:VEVENT
BEGIN:VEVENT
DTSTART;TZID=America/Puerto_Rico:20270531T080000
DTEND;TZID=America/Puerto_Rico:20270531T163000
DTSTAMP:20260420T045500
CREATED:20251103T185220Z
LAST-MODIFIED:20251204T204656Z
UID:10004613-1811750400-1811781000@conexionlaboralsurestepr.org
SUMMARY:Visita Socio | One Stop Careers Center of PR
DESCRIPTION:Programa de Reintegración de Ex-Ofensores bajo Second Change Act
URL:https://conexionlaboralsurestepr.org/event/vista-socio-one-stop-careers-center-of-pr/2027-05-31/
LOCATION:Las Piedras
CATEGORIES:Socios
END:VEVENT
BEGIN:VEVENT
DTSTART;TZID=America/Puerto_Rico:20270601T080000
DTEND;TZID=America/Puerto_Rico:20270601T120000
DTSTAMP:20260420T045500
CREATED:20251103T184454Z
LAST-MODIFIED:20251204T204641Z
UID:10003424-1811836800-1811851200@conexionlaboralsurestepr.org
SUMMARY:Visita Socio | PathStone Corporation (Rural)
DESCRIPTION:Programa para Trabajadores Agrícolas Migrantes y Estacionales.\nPrograma Youth Build
URL:https://conexionlaboralsurestepr.org/event/vista-socio-pathstone-corporation-rural/2027-06-01/
LOCATION:Las Piedras
CATEGORIES:Socios
END:VEVENT
BEGIN:VEVENT
DTSTART;TZID=America/Puerto_Rico:20270601T080000
DTEND;TZID=America/Puerto_Rico:20270601T120000
DTSTAMP:20260420T045500
CREATED:20251103T184621Z
LAST-MODIFIED:20251204T204632Z
UID:10003486-1811836800-1811851200@conexionlaboralsurestepr.org
SUMMARY:Visita Socio | Título V - Old American Act
DESCRIPTION:Senior Community Services Employment Programs
URL:https://conexionlaboralsurestepr.org/event/vista-socio-titulo-v-old-american-act/2027-06-01/
LOCATION:Las Piedras
CATEGORIES:Socios
END:VEVENT
BEGIN:VEVENT
DTSTART;TZID=America/Puerto_Rico:20270601T080000
DTEND;TZID=America/Puerto_Rico:20270601T163000
DTSTAMP:20260420T045500
CREATED:20251031T153427Z
LAST-MODIFIED:20251031T173748Z
UID:10000414-1811836800-1811867400@conexionlaboralsurestepr.org
SUMMARY:Visita Socio | Título I - B
DESCRIPTION:Programa Jóvenes\, Adultos y Desplazados
URL:https://conexionlaboralsurestepr.org/event/visita-socios-titulo-i-b/2027-06-01/
LOCATION:Las Piedras
CATEGORIES:Socios
END:VEVENT
BEGIN:VEVENT
DTSTART;TZID=America/Puerto_Rico:20270601T080000
DTEND;TZID=America/Puerto_Rico:20270601T163000
DTSTAMP:20260420T045500
CREATED:20251031T173045Z
LAST-MODIFIED:20251204T204704Z
UID:10002240-1811836800-1811867400@conexionlaboralsurestepr.org
SUMMARY:Visita Socio | Departamento del Trabajo y Recursos Humanos (DTRH)
DESCRIPTION:Programa Veteranos (Capítulo 41 Título 38 del Código de EU)\nServicio de Empleo\, Programa Agrícola y Programa RESEA\nPrograma Seguro por Desempleo
URL:https://conexionlaboralsurestepr.org/event/vista-socio-departamento-del-trabajo-y-recursos-humanos-dtrh/2027-06-01/
LOCATION:Las Piedras
CATEGORIES:Socios
END:VEVENT
BEGIN:VEVENT
DTSTART;TZID=America/Puerto_Rico:20270601T080000
DTEND;TZID=America/Puerto_Rico:20270601T163000
DTSTAMP:20260420T045500
CREATED:20251103T185220Z
LAST-MODIFIED:20251204T204656Z
UID:10004614-1811836800-1811867400@conexionlaboralsurestepr.org
SUMMARY:Visita Socio | One Stop Careers Center of PR
DESCRIPTION:Programa de Reintegración de Ex-Ofensores bajo Second Change Act
URL:https://conexionlaboralsurestepr.org/event/vista-socio-one-stop-careers-center-of-pr/2027-06-01/
LOCATION:Las Piedras
CATEGORIES:Socios
END:VEVENT
BEGIN:VEVENT
DTSTART;TZID=America/Puerto_Rico:20270602T080000
DTEND;TZID=America/Puerto_Rico:20270602T120000
DTSTAMP:20260420T045500
CREATED:20251103T185047Z
LAST-MODIFIED:20251204T204622Z
UID:10003888-1811923200-1811937600@conexionlaboralsurestepr.org
SUMMARY:Visita Socio | Título IV - "Social Security Act" Departamento de la Familia
DESCRIPTION:Programa TANF (Temporary Assistance for Needy Families)
URL:https://conexionlaboralsurestepr.org/event/vista-socio-titulo-iv-social-security-act-departamento-de-la-familia/2027-06-02/
LOCATION:Las Piedras
CATEGORIES:Socios
END:VEVENT
BEGIN:VEVENT
DTSTART;TZID=America/Puerto_Rico:20270602T080000
DTEND;TZID=America/Puerto_Rico:20270602T163000
DTSTAMP:20260420T045500
CREATED:20251031T153427Z
LAST-MODIFIED:20251031T173748Z
UID:10000415-1811923200-1811953800@conexionlaboralsurestepr.org
SUMMARY:Visita Socio | Título I - B
DESCRIPTION:Programa Jóvenes\, Adultos y Desplazados
URL:https://conexionlaboralsurestepr.org/event/visita-socios-titulo-i-b/2027-06-02/
LOCATION:Las Piedras
CATEGORIES:Socios
END:VEVENT
BEGIN:VEVENT
DTSTART;TZID=America/Puerto_Rico:20270602T080000
DTEND;TZID=America/Puerto_Rico:20270602T163000
DTSTAMP:20260420T045500
CREATED:20251031T173045Z
LAST-MODIFIED:20251204T204704Z
UID:10002241-1811923200-1811953800@conexionlaboralsurestepr.org
SUMMARY:Visita Socio | Departamento del Trabajo y Recursos Humanos (DTRH)
DESCRIPTION:Programa Veteranos (Capítulo 41 Título 38 del Código de EU)\nServicio de Empleo\, Programa Agrícola y Programa RESEA\nPrograma Seguro por Desempleo
URL:https://conexionlaboralsurestepr.org/event/vista-socio-departamento-del-trabajo-y-recursos-humanos-dtrh/2027-06-02/
LOCATION:Las Piedras
CATEGORIES:Socios
END:VEVENT
BEGIN:VEVENT
DTSTART;TZID=America/Puerto_Rico:20270602T080000
DTEND;TZID=America/Puerto_Rico:20270602T163000
DTSTAMP:20260420T045500
CREATED:20251103T185220Z
LAST-MODIFIED:20251204T204656Z
UID:10004615-1811923200-1811953800@conexionlaboralsurestepr.org
SUMMARY:Visita Socio | One Stop Careers Center of PR
DESCRIPTION:Programa de Reintegración de Ex-Ofensores bajo Second Change Act
URL:https://conexionlaboralsurestepr.org/event/vista-socio-one-stop-careers-center-of-pr/2027-06-02/
LOCATION:Las Piedras
CATEGORIES:Socios
END:VEVENT
END:VCALENDAR